{"text_format":"1","workbook":"xlsx","n_sheets":5,"sheets":["TIMOVI","GRUPA 1","GRUPA 2","GRUPA 3","GRUPA 4"],"not_rendered":{"charts":0,"images":0,"macros":1,"external_links":0,"defined_names":0,"comments":0,"pivot_tables":0},"unopened":[],"bounds":{"document_bytes":16777216,"sheet_cells":100000,"rows_first":2000,"rows_last":500,"rows_between":2000,"halvings":0,"cell_chars":16384,"cell_head_chars":4096},"cells_cut":0,"cells_raw":0,"read":"whole","date_system":"1900"}

{"sheet":"TIMOVI","index":0,"n_rows":111,"n_cols":11,"rows_kept":111,"cut":false,"hidden":false,"merged":[[1,0,1,2],[0,3,0,4],[1,3,1,4],[0,0,0,2]]}
["IME TAKMIČENJA",null,null,"MESTO ODRŽAVANJA ",null,"KLUB"]
[]
["DATUM"]
[]
[]
["BROJ TIMOVA"]
[null,"BR. TAK","IME TIMA","POENI","KOLIČNIK POENA"]
["TIM A BROJ TAKMIČARA",null,null,{"$f":"SUM(J27:J34)","v":0},{"$f":"IFERROR(D8/B9,0)","v":0}]
["TIM B BROJ TAKMIČARA",null,null,{"$f":"SUM(J38:J45)","v":0},{"$f":"IFERROR(D9/B8,0)","v":0}]
["TIM C BROJ TAKMIČARA",null,null,{"$f":"SUM(J49:J56)","v":0},{"$f":"IFERROR(D10/B11,0)","v":0}]
["TIM D BROJ TAKMIČARA",null,null,{"$f":"SUM(J60:J67)","v":0},{"$f":"IFERROR(D11/B10,0)","v":0}]
["TIM E BROJ TAKMIČARA",null,null,{"$f":"SUM(J71:J78)","v":0},{"$f":"IFERROR(D12/B13,0)","v":0}]
["TIM F BROJ TAKMIČARA",null,null,{"$f":"SUM(J82:J89)","v":0},{"$f":"IFERROR(D13/B12,0)","v":0}]
["TIM G BROJ TAKMIČARA",null,null,{"$f":"SUM(J93:J100)","v":0},{"$f":"IFERROR(D14/B15,0)","v":0}]
["TIM H BROJ TAKMIČARA",null,null,{"$f":"SUM(J104:J111)","v":0},{"$f":"IFERROR(D15/B16,0)","v":0}]
[]
[]
[]
[]
[]
[]
[]
[]
[]
[null,null,null,null,"TIM ",{"$f":"C8","v":0}]
[null,null,null,null,"Prezime","Ime","Br. tak","Klub","Bodovi","Osvojeni P.","Količnik"]
[null,null,null,1,null,null,null,null,{"$f":"IFERROR((30+J27)*(G27/G27),0)","v":0},{"$f":"'GRUPA 1'!F13","v":0},{"$f":"J27/$B$9","v":{"$error":"#DIV/0!"}}]
[null,null,null,2,null,null,null,null,{"$f":"IFERROR((30+J28)*(G28/G28),0)","v":0},{"$f":"'GRUPA 1'!H13","v":0},{"$f":"J28/$B$9","v":{"$error":"#DIV/0!"}}]
[null,null,null,3,null,null,null,null,0,{"$f":"'GRUPA 1'!J13","v":0},{"$error":"#DIV/0!"}]
[null,null,null,4,null,null,null,null,0,{"$f":"'GRUPA 1'!L13","v":0},{"$error":"#DIV/0!"}]
[null,null,null,5,null,null,null,null,0,{"$f":"'GRUPA 1'!N13","v":0},{"$error":"#DIV/0!"}]
[null,null,null,6,null,null,null,null,0,{"$f":"'GRUPA 1'!P13","v":0},{"$error":"#DIV/0!"}]
[null,null,null,7,null,null,null,null,0,{"$f":"'GRUPA 1'!R13","v":0},{"$error":"#DIV/0!"}]
[null,null,null,8,null,null,null,null,0,{"$f":"'GRUPA 1'!T13","v":0},{"$error":"#DIV/0!"}]
[]
[null,null,null,null,"TIM ",{"$f":"C9","v":0}]
[null,null,null,null,"Prezime","Ime","Br. tak","Klub","Bodovi","Osvojeni P.","Količnik"]
[null,null,null,1,null,null,null,null,{"$f":"IFERROR((30+J38)*(G38/G38),0)","v":0},{"$f":"'GRUPA 1'!U5","v":0},{"$f":"J38/$B$8","v":{"$error":"#DIV/0!"}}]
[null,null,null,2,null,null,null,null,0,{"$f":"'GRUPA 1'!U6","v":0},{"$f":"J39/$B$8","v":{"$error":"#DIV/0!"}}]
[null,null,null,3,null,null,null,null,0,{"$f":"'GRUPA 1'!U7","v":0},{"$error":"#DIV/0!"}]
[null,null,null,4,null,null,null,null,0,{"$f":"'GRUPA 1'!U8","v":0},{"$error":"#DIV/0!"}]
[null,null,null,5,null,null,null,null,0,{"$f":"'GRUPA 1'!U9","v":0},{"$error":"#DIV/0!"}]
[null,null,null,6,null,null,null,null,0,{"$f":"'GRUPA 1'!U10","v":0},{"$error":"#DIV/0!"}]
[null,null,null,7,null,null,null,null,0,{"$f":"'GRUPA 1'!U11","v":0},{"$error":"#DIV/0!"}]
[null,null,null,8,null,null,null,null,0,{"$f":"'GRUPA 1'!U12","v":0},{"$error":"#DIV/0!"}]
[]
[null,null,null,null,"TIM ",{"$f":"C10","v":0}]
[null,null,null,null,"Prezime","Ime","Br. tak","Klub","Bodovi","Osvojeni P.","Količnik"]
[null,null,null,1,null,null,null,null,{"$f":"IFERROR((30+J49)*(G49/G49),0)","v":0},{"$f":"'GRUPA 2'!F13","v":0},{"$f":"J49/$B$11","v":{"$error":"#DIV/0!"}}]
[null,null,null,2,null,null,null,null,0,{"$f":"'GRUPA 2'!H13","v":0},{"$f":"J50/$B$11","v":{"$error":"#DIV/0!"}}]
[null,null,null,3,null,null,null,null,0,{"$f":"'GRUPA 2'!J13","v":0},{"$error":"#DIV/0!"}]
[null,null,null,4,null,null,null,null,0,{"$f":"'GRUPA 2'!L13","v":0},{"$error":"#DIV/0!"}]
[null,null,null,5,null,null,null,null,0,{"$f":"'GRUPA 2'!N13","v":0},{"$error":"#DIV/0!"}]
[null,null,null,6,null,null,null,null,0,{"$f":"'GRUPA 2'!P13","v":0},{"$error":"#DIV/0!"}]
[null,null,null,7,null,null,null,null,0,{"$f":"'GRUPA 2'!R13","v":0},{"$error":"#DIV/0!"}]
[null,null,null,8,null,null,null,null,0,{"$f":"'GRUPA 2'!T13","v":0},{"$error":"#DIV/0!"}]
[]
[null,null,null,null,"TIM ",{"$f":"B11","v":0}]
[null,null,null,null,"Prezime","Ime","Br. tak","Klub","Bodovi","Osvojeni P.","Količnik"]
[null,null,null,1,null,null,null,null,{"$f":"IFERROR((30+J60)*(G60/G60),0)","v":0},{"$f":"'GRUPA 2'!U5","v":0},{"$f":"J60/$B$10","v":{"$error":"#DIV/0!"}}]
[null,null,null,2,null,null,null,null,0,{"$f":"'GRUPA 2'!U6","v":0},{"$f":"J61/$B$10","v":{"$error":"#DIV/0!"}}]
[null,null,null,3,null,null,null,null,0,{"$f":"'GRUPA 2'!U7","v":0},{"$error":"#DIV/0!"}]
[null,null,null,4,null,null,null,null,0,{"$f":"'GRUPA 2'!U8","v":0},{"$error":"#DIV/0!"}]
[null,null,null,5,null,null,null,null,0,{"$f":"'GRUPA 2'!U9","v":0},{"$error":"#DIV/0!"}]
[null,null,null,6,null,null,null,null,0,{"$f":"'GRUPA 2'!U10","v":0},{"$error":"#DIV/0!"}]
[null,null,null,7,null,null,null,null,0,{"$f":"'GRUPA 2'!U11","v":0},{"$error":"#DIV/0!"}]
[null,null,null,8,null,null,null,null,0,{"$f":"'GRUPA 2'!U12","v":0},{"$error":"#DIV/0!"}]
[]
[null,null,null,null,"TIM ",{"$f":"C12","v":0}]
[null,null,null,null,"Prezime","Ime","Br. tak","Klub","Bodovi","Osvojeni P.","Količnik"]
[null,null,null,1,null,null,null,null,{"$f":"IFERROR((30+J71)*(G71/G71),0)","v":0},{"$f":"'GRUPA 3'!F13","v":0},{"$f":"J71/$B$12","v":{"$error":"#DIV/0!"}}]
[null,null,null,2,null,null,null,null,0,{"$f":"'GRUPA 3'!H13","v":0},{"$f":"J72/$B$12","v":{"$error":"#DIV/0!"}}]
[null,null,null,3,null,null,null,null,0,{"$f":"'GRUPA 3'!J13","v":0},{"$error":"#DIV/0!"}]
[null,null,null,4,null,null,null,null,0,{"$f":"'GRUPA 3'!L13","v":0},{"$error":"#DIV/0!"}]
[null,null,null,5,null,null,null,null,0,{"$f":"'GRUPA 3'!N13","v":0},{"$error":"#DIV/0!"}]
[null,null,null,6,null,null,null,null,0,{"$f":"'GRUPA 3'!P13","v":0},{"$error":"#DIV/0!"}]
[null,null,null,7,null,null,null,null,0,{"$f":"'GRUPA 3'!R13","v":0},{"$error":"#DIV/0!"}]
[null,null,null,8,null,null,null,null,0,{"$f":"'GRUPA 3'!T13","v":0},{"$error":"#DIV/0!"}]
[]
[null,null,null,null,"TIM ",{"$f":"C13","v":0}]
[null,null,null,null,"Prezime","Ime","Br. tak","Klub","Bodovi","Osvojeni P.","Količnik"]
[null,null,null,1,null,null,null,null,{"$f":"IFERROR((30+J82)*(G82/G82),0)","v":0},{"$f":"'GRUPA 3'!U5","v":0},{"$f":"J82/$B$12","v":{"$error":"#DIV/0!"}}]
[null,null,null,2,null,null,null,null,0,{"$f":"'GRUPA 3'!U6","v":0},{"$f":"J83/$B$12","v":{"$error":"#DIV/0!"}}]
[null,null,null,3,null,null,null,null,0,{"$f":"'GRUPA 3'!U7","v":0},{"$error":"#DIV/0!"}]
[null,null,null,4,null,null,null,null,0,{"$f":"'GRUPA 3'!U8","v":0},{"$error":"#DIV/0!"}]
[null,null,null,5,null,null,null,null,0,{"$f":"'GRUPA 3'!U9","v":0},{"$error":"#DIV/0!"}]
[null,null,null,6,null,null,null,null,0,{"$f":"'GRUPA 3'!U10","v":0},{"$error":"#DIV/0!"}]
[null,null,null,7,null,null,null,null,0,{"$f":"'GRUPA 3'!U11","v":0},{"$error":"#DIV/0!"}]
[null,null,null,8,null,null,null,null,0,{"$f":"'GRUPA 3'!U12","v":0},{"$error":"#DIV/0!"}]
[]
[null,null,null,null,"TIM ",{"$f":"C14","v":0}]
[null,null,null,null,"Prezime","Ime","Br. tak","Klub","Bodovi","Osvojeni P.","Količnik"]
[null,null,null,1,null,null,null,null,{"$f":"IFERROR((30+J93)*(G93/G93),0)","v":0},{"$f":"'GRUPA 4'!F13","v":0},{"$f":"J93/$B$15","v":{"$error":"#DIV/0!"}}]
[null,null,null,2,null,null,null,null,0,{"$f":"'GRUPA 4'!H13","v":0},{"$f":"J94/$B$15","v":{"$error":"#DIV/0!"}}]
[null,null,null,3,null,null,null,null,0,{"$f":"'GRUPA 4'!J13","v":0},{"$error":"#DIV/0!"}]
[null,null,null,4,null,null,null,null,0,{"$f":"'GRUPA 4'!L13","v":0},{"$error":"#DIV/0!"}]
[null,null,null,5,null,null,null,null,0,{"$f":"'GRUPA 4'!N13","v":0},{"$error":"#DIV/0!"}]
[null,null,null,6,null,null,null,null,0,{"$f":"'GRUPA 4'!P13","v":0},{"$error":"#DIV/0!"}]
[null,null,null,7,null,null,null,null,0,{"$f":"'GRUPA 4'!R13","v":0},{"$error":"#DIV/0!"}]
[null,null,null,8,null,null,null,null,0,{"$f":"'GRUPA 4'!T13","v":0},{"$error":"#DIV/0!"}]
[]
[null,null,null,null,"TIM ",{"$f":"C15","v":0}]
[null,null,null,null,"Prezime","Ime","Br. tak","Klub","Bodovi","Osvojeni P.","Količnik"]
[null,null,null,1,null,null,null,null,{"$f":"IFERROR((30+J104)*(G104/G104),0)","v":0},{"$f":"'GRUPA 4'!U5","v":0},{"$f":"J104/$B$14","v":{"$error":"#DIV/0!"}}]
[null,null,null,2,null,null,null,null,0,{"$f":"'GRUPA 4'!U6","v":0},{"$f":"J105/$B$14","v":{"$error":"#DIV/0!"}}]
[null,null,null,3,null,null,null,null,0,{"$f":"'GRUPA 4'!U7","v":0},{"$f":"J106/$B$14","v":{"$error":"#DIV/0!"}}]
[null,null,null,4,null,null,null,null,0,{"$f":"'GRUPA 4'!U8","v":0},{"$error":"#DIV/0!"}]
[null,null,null,5,null,null,null,null,0,{"$f":"'GRUPA 4'!U9","v":0},{"$error":"#DIV/0!"}]
[null,null,null,6,null,null,null,null,0,{"$f":"'GRUPA 4'!U10","v":0},{"$error":"#DIV/0!"}]
[null,null,null,7,null,null,null,null,0,{"$f":"'GRUPA 4'!U11","v":0},{"$error":"#DIV/0!"}]
[null,null,null,8,null,null,null,null,0,{"$f":"'GRUPA 4'!U12","v":0},{"$f":"J111/$B$14","v":{"$error":"#DIV/0!"}}]

{"sheet":"GRUPA 1","index":1,"n_rows":13,"n_cols":22,"rows_kept":13,"cut":false,"hidden":false,"merged":[[3,20,3,21],[1,2,3,3],[1,4,2,19],[4,2,11,2],[3,10,3,11],[3,12,3,13],[3,14,3,15],[3,16,3,17],[3,18,3,19],[3,4,3,5],[3,6,3,7],[3,8,3,9]]}
[]
[null,null,"GRUPA 1",null,{"$f":"TIMOVI!C8","v":0}]
[]
[null,null,null,null,{"$f":"TIMOVI!$E27&\" \"&TIMOVI!$F27","v":" "},null,{"$f":"TIMOVI!$E28&\" \"&TIMOVI!$F28","v":" "},null,{"$f":"TIMOVI!$E29&\" \"&TIMOVI!$F29","v":" "},null,{"$f":"TIMOVI!$E30&\" \"&TIMOVI!$F30","v":" "},null,{"$f":"TIMOVI!$E31&\" \"&TIMOVI!$F31","v":" "},null,{"$f":"TIMOVI!$E32&\" \"&TIMOVI!$F32","v":" "},null,{"$f":"TIMOVI!$E33&\" \"&TIMOVI!$F33","v":" "},null,{"$f":"TIMOVI!$E34&\" \"&TIMOVI!$F34","v":" "},null,"UKUPNO\n+                    -"]
[null,null,{"$f":"TIMOVI!$C$9","v":0},{"$f":"TIMOVI!E38&\" \"&TIMOVI!F38","v":" "},null,null,null,null,null,null,null,null,null,null,null,null,null,null,null,null,{"$f":"SUM(E5,G5,I5,K5,M5,O5,Q5,S5)","v":0},{"$f":"SUM(F5,H5,J5,L5,N5,P5,R5,T5)","v":0}]
[null,null,null,{"$f":"TIMOVI!E39&\" \"&TIMOVI!F39","v":" "},null,null,null,null,null,null,null,null,null,null,null,null,null,null,null,null,{"$f":"SUM(E6,G6,I6,K6,M6,O6,Q6,S6)","v":0},{"$f":"SUM(F6,H6,J6,L6,N6,P6,R6,T6)","v":0}]
[null,null,null,{"$f":"TIMOVI!E40&\" \"&TIMOVI!F40","v":" "},null,null,null,null,null,null,null,null,null,null,null,null,null,null,null,null,0,0]
[null,null,null,{"$f":"TIMOVI!E41&\" \"&TIMOVI!F41","v":" "},null,null,null,null,null,null,null,null,null,null,null,null,null,null,null,null,0,0]
[null,null,null,{"$f":"TIMOVI!E42&\" \"&TIMOVI!F42","v":" "},null,null,null,null,null,null,null,null,null,null,null,null,null,null,null,null,0,0]
[null,null,null,{"$f":"TIMOVI!E43&\" \"&TIMOVI!F43","v":" "},null,null,null,null,null,null,null,null,null,null,null,null,null,null,null,null,0,0]
[null,null,null,{"$f":"TIMOVI!E44&\" \"&TIMOVI!F44","v":" "},null,null,null,null,null,null,null,null,null,null,null,null,null,null,null,null,0,0]
[null,null,null,{"$f":"TIMOVI!E45&\" \"&TIMOVI!F45","v":" "},null,null,null,null,null,null,null,null,null,null,null,null,null,null,null,null,0,0]
[null,null,null,"UKUPNO ( - / + )",{"$f":"SUM(E5:E12)","v":0},{"$f":"SUM(F5:F12)","v":0},0,0,0,0,0,0,0,0,0,0,0,0,0,0]

{"sheet":"GRUPA 2","index":2,"n_rows":13,"n_cols":22,"rows_kept":13,"cut":false,"hidden":false,"merged":[[4,2,11,2],[3,20,3,21],[1,2,3,3],[1,4,2,19],[3,4,3,5],[3,6,3,7],[3,8,3,9],[3,10,3,11],[3,12,3,13],[3,14,3,15],[3,16,3,17],[3,18,3,19]]}
["TA",{"$f":"B3","v":0}]
["TB",{"$f":"B4","v":0},"GRUPA 2",null,{"$f":"TIMOVI!$C$10","v":0}]
[null,{"$f":"TIMOVI!$B$10","v":0}]
[null,{"$f":"TIMOVI!$B$11","v":0},null,null,{"$f":"TIMOVI!$E$49&\" \"&TIMOVI!$F$49","v":" "},null,{"$f":"TIMOVI!$E$50&\" \"&TIMOVI!$F$50","v":" "},null,{"$f":"TIMOVI!$E$51&\" \"&TIMOVI!$F$51","v":" "},null,{"$f":"TIMOVI!$E$52&\" \"&TIMOVI!$F$52","v":" "},null,{"$f":"TIMOVI!$E$53&\" \"&TIMOVI!$F$53","v":" "},null,{"$f":"TIMOVI!$E$54&\" \"&TIMOVI!$F$54","v":" "},null,{"$f":"TIMOVI!$E$55&\" \"&TIMOVI!$F$55","v":" "},null,{"$f":"TIMOVI!$E$56&\" \"&TIMOVI!$F$56","v":" "},null,"UKUPNO\n+                    -"]
[null,null,{"$f":"TIMOVI!$C$11","v":0},{"$f":"TIMOVI!$E$60&\" \"&TIMOVI!$F$60","v":" "},null,null,null,null,null,null,null,null,null,null,null,null,null,null,null,null,{"$f":"SUM(E5,G5,I5,K5,M5,O5,Q5,S5)","v":0},{"$f":"SUM(F5,H5,J5,L5,N5,P5,R5,T5)","v":0}]
[null,null,null,{"$f":"TIMOVI!$E$61&\" \"&TIMOVI!$F$61","v":" "},null,null,null,null,null,null,null,null,null,null,null,null,null,null,null,null,{"$f":"SUM(E6,G6,I6,K6,M6,O6,Q6,S6)","v":0},0]
[null,null,null,{"$f":"TIMOVI!$E$62&\" \"&TIMOVI!$F$62","v":" "},null,null,null,null,null,null,null,null,null,null,null,null,null,null,null,null,0,0]
[null,null,null,{"$f":"TIMOVI!$E$63&\" \"&TIMOVI!$F$63","v":" "},null,null,null,null,null,null,null,null,null,null,null,null,null,null,null,null,0,0]
[null,null,null,{"$f":"TIMOVI!$E$64&\" \"&TIMOVI!$F$64","v":" "},null,null,null,null,null,null,null,null,null,null,null,null,null,null,null,null,0,0]
[null,null,null,{"$f":"TIMOVI!$E$65&\" \"&TIMOVI!$F$65","v":" "},null,null,null,null,null,null,null,null,null,null,null,null,null,null,null,null,0,0]
[null,null,null,{"$f":"TIMOVI!$E$66&\" \"&TIMOVI!$F$66","v":" "},null,null,null,null,null,null,null,null,null,null,null,null,null,null,null,null,0,0]
[null,null,null,{"$f":"TIMOVI!$E$67&\" \"&TIMOVI!$F$67","v":" "},null,null,null,null,null,null,null,null,null,null,null,null,null,null,null,null,0,0]
[null,null,null,"UKUPNO ( - / + )",{"$f":"SUM(E5:E12)","v":0},{"$f":"SUM(F5:F12)","v":0},0,0,0,0,0,0,0,0,0,0,0,0,0,0]

{"sheet":"GRUPA 3","index":3,"n_rows":13,"n_cols":22,"rows_kept":13,"cut":false,"hidden":false,"merged":[[4,2,11,2],[3,20,3,21],[1,2,3,3],[1,4,2,19],[3,4,3,5],[3,6,3,7],[3,8,3,9],[3,10,3,11],[3,12,3,13],[3,14,3,15],[3,16,3,17],[3,18,3,19]]}
["TA",{"$f":"B3","v":0}]
["TB",{"$f":"B4","v":0},"GRUPA 3",null,{"$f":"TIMOVI!$C$12","v":0}]
[null,{"$f":"TIMOVI!$B$12","v":0}]
[null,{"$f":"TIMOVI!$B$13","v":0},null,null,{"$f":"TIMOVI!$E$71&\" \"&TIMOVI!$F$71","v":" "},null,{"$f":"TIMOVI!$E$72&\" \"&TIMOVI!$F$72","v":" "},null,{"$f":"TIMOVI!$E$73&\" \"&TIMOVI!$F$73","v":" "},null,{"$f":"TIMOVI!$E$74&\" \"&TIMOVI!$F$74","v":" "},null,{"$f":"TIMOVI!$E$75&\" \"&TIMOVI!$F$75","v":" "},null,{"$f":"TIMOVI!$E$76&\" \"&TIMOVI!$F$76","v":" "},null,{"$f":"TIMOVI!$E$77&\" \"&TIMOVI!$F$77","v":" "},null,{"$f":"TIMOVI!$E$78&\" \"&TIMOVI!$F$78","v":" "},null,"UKUPNO\n+                    -"]
[null,null,{"$f":"TIMOVI!$C$13","v":0},{"$f":"TIMOVI!$E$82&\" \"&TIMOVI!$F$82","v":" "},null,null,null,null,null,null,null,null,null,null,null,null,null,null,null,null,{"$f":"SUM(E5,G5,I5,K5,M5,O5,Q5,S5)","v":0},{"$f":"SUM(F5,H5,J5,L5,N5,P5,R5,T5)","v":0}]
[null,null,null,{"$f":"TIMOVI!$E$83&\" \"&TIMOVI!$F$83","v":" "},null,null,null,null,null,null,null,null,null,null,null,null,null,null,null,null,{"$f":"SUM(E6,G6,I6,K6,M6,O6,Q6,S6)","v":0},0]
[null,null,null,{"$f":"TIMOVI!$E$84&\" \"&TIMOVI!$F$84","v":" "},null,null,null,null,null,null,null,null,null,null,null,null,null,null,null,null,0,0]
[null,null,null,{"$f":"TIMOVI!$E$85&\" \"&TIMOVI!$F$85","v":" "},null,null,null,null,null,null,null,null,null,null,null,null,null,null,null,null,0,0]
[null,null,null,{"$f":"TIMOVI!$E$86&\" \"&TIMOVI!$F$86","v":" "},null,null,null,null,null,null,null,null,null,null,null,null,null,null,null,null,0,0]
[null,null,null,{"$f":"TIMOVI!$E$87&\" \"&TIMOVI!$F$87","v":" "},null,null,null,null,null,null,null,null,null,null,null,null,null,null,null,null,0,0]
[null,null,null,{"$f":"TIMOVI!$E$88&\" \"&TIMOVI!$F$88","v":" "},null,null,null,null,null,null,null,null,null,null,null,null,null,null,null,null,0,0]
[null,null,null,{"$f":"TIMOVI!$E$89&\" \"&TIMOVI!$F$89","v":" "},null,null,null,null,null,null,null,null,null,null,null,null,null,null,null,null,0,0]
[null,null,null,"UKUPNO ( - / + )",{"$f":"SUM(E5:E12)","v":0},{"$f":"SUM(F5:F12)","v":0},0,0,0,0,0,0,0,0,0,0,0,0,0,0]

{"sheet":"GRUPA 4","index":4,"n_rows":13,"n_cols":22,"rows_kept":13,"cut":false,"hidden":false,"merged":[[4,2,11,2],[3,20,3,21],[1,2,3,3],[1,4,2,19],[3,4,3,5],[3,6,3,7],[3,8,3,9],[3,10,3,11],[3,12,3,13],[3,14,3,15],[3,16,3,17],[3,18,3,19]]}
["TA",{"$f":"B3","v":0}]
["TB",{"$f":"B4","v":0},"GRUPA 4",null,{"$f":"TIMOVI!C14","v":0}]
[null,{"$f":"TIMOVI!$B$14","v":0}]
[null,{"$f":"TIMOVI!$B$15","v":0},null,null,{"$f":"TIMOVI!$E$93&\" \"&TIMOVI!$F$93","v":" "},null,{"$f":"TIMOVI!$E$94&\" \"&TIMOVI!$F$94","v":" "},null,{"$f":"TIMOVI!$E$95&\" \"&TIMOVI!$F$95","v":" "},null,{"$f":"TIMOVI!$E$96&\" \"&TIMOVI!$F$96","v":" "},null,{"$f":"TIMOVI!$E$97&\" \"&TIMOVI!$F$97","v":" "},null,{"$f":"TIMOVI!$E$98&\" \"&TIMOVI!$F$98","v":" "},null,{"$f":"TIMOVI!$E$99&\" \"&TIMOVI!$F$99","v":" "},null,{"$f":"TIMOVI!$E$100&\" \"&TIMOVI!$F$100","v":" "},null,"UKUPNO\n+                    -"]
[null,null,{"$f":"TIMOVI!C15","v":0},{"$f":"TIMOVI!$E$104&\" \"&TIMOVI!$F$104","v":" "},null,null,null,null,null,null,null,null,null,null,null,null,null,null,null,null,{"$f":"SUM(E5,G5,I5,K5,M5,O5,Q5,S5)","v":0},{"$f":"SUM(F5,H5,J5,L5,N5,P5,R5,T5)","v":0}]
[null,null,null,{"$f":"TIMOVI!$E$105&\" \"&TIMOVI!$F$105","v":" "},null,null,null,null,null,null,null,null,null,null,null,null,null,null,null,null,{"$f":"SUM(E6,G6,I6,K6,M6,O6,Q6,S6)","v":0},0]
[null,null,null,{"$f":"TIMOVI!$E$106&\" \"&TIMOVI!$F$106","v":" "},null,null,null,null,null,null,null,null,null,null,null,null,null,null,null,null,0,0]
[null,null,null,{"$f":"TIMOVI!$E$107&\" \"&TIMOVI!$F$107","v":" "},null,null,null,null,null,null,null,null,null,null,null,null,null,null,null,null,0,0]
[null,null,null,{"$f":"TIMOVI!$E$108&\" \"&TIMOVI!$F$108","v":" "},null,null,null,null,null,null,null,null,null,null,null,null,null,null,null,null,0,0]
[null,null,null,{"$f":"TIMOVI!$E$109&\" \"&TIMOVI!$F$109","v":" "},null,null,null,null,null,null,null,null,null,null,null,null,null,null,null,null,0,0]
[null,null,null,{"$f":"TIMOVI!$E$110&\" \"&TIMOVI!$F$110","v":" "},null,null,null,null,null,null,null,null,null,null,null,null,null,null,null,null,0,0]
[null,null,null,{"$f":"TIMOVI!$E$111&\" \"&TIMOVI!$F$111","v":" "},null,null,null,null,null,null,null,null,null,null,null,null,null,null,null,null,0,0]
[null,null,null,"UKUPNO ( - / + )",{"$f":"SUM(E5:E12)","v":0},{"$f":"SUM(F5:F12)","v":0},0,0,0,0,0,0,0,0,0,0,0,0,0,0]