{"text_format":"1","workbook":"xlsx","n_sheets":38,"sheets":["PODEŠAVANJA","TIMOVI","PRIPREMA (STATUS)","GRUPA 9","GRUPA 9 (2)","GRUPA 9 (3)","GRUPA 9 (4)","GRUPA 4","GRUPA 4 (2)","GRUPA 4 (3)","GRUPA 4 (4)","GRUPA 4 (5)","GRUPA 4 (6)","GRUPA 4 (7)","GRUPA 4 (8)","GRUPA 4 (9)","GRUPA 4 (10)","GRUPA 4 (11)","GRUPA 4 (12)","GRUPA 4 (13)","GRUPA 4 (14)","GRUPA 5","GRUPA 5 (2)","GRUPA 5 (3)","GRUPA 5 (4)","GRUPA 5 (5)","GRUPA 5 (6)","GRUPA 5 (7)","GRUPA 5 (8)","GRUPA 5 (9)","GRUPA 5 (10)","GRUPA 5 (11)","GRUPA 5 (12)","GRUPA 6","GRUPA 6 (2)","GRUPA 6 (3)","GRUPA 6 (4)","GRUPA 6 (5)"],"not_rendered":{"charts":0,"images":0,"macros":1,"external_links":0,"defined_names":16,"comments":0,"pivot_tables":0},"unopened":[],"bounds":{"document_bytes":16777216,"sheet_cells":100000,"rows_first":2000,"rows_last":500,"rows_between":2000,"halvings":0,"cell_chars":16384,"cell_head_chars":4096},"cells_cut":0,"cells_raw":0,"read":"whole","date_system":"1900"}

{"sheet":"PODEŠAVANJA","index":0,"n_rows":10,"n_cols":13,"rows_kept":10,"cut":false,"hidden":false,"merged":[[2,1,2,6],[1,1,1,6],[3,1,3,3],[4,1,4,3],[4,4,4,6],[6,2,6,3],[8,1,8,6],[9,1,9,6]]}
[]
[null,"IME TAKMIČENJA"]
[null,null,null,null,null,null,null,null,"ROUND ROBIN GRUPE"]
[null,"MESTO ODRŽAVANJA ",null,null,null,"KLUB",null,null,"(upisti broj grupa)"]
[]
[null,null,"DATUM",null,null,null,null,null,"Veličina grupe",null,null,null,"Br.Grupa"]
[null,null,null,null,null,null,null,null,"GRUPA OD 4 TAKMIČARA"]
[null,null,null,null,null,null,null,null,"GRUPA OD 5 TAKMIČARA"]
[null,null,null,null,null,null,null,null,"GRUPA OD 6 TAKMIČARA"]
[null,null,null,null,null,null,null,null,"GRUPA OD 9 TAKMIČARA"]

{"sheet":"TIMOVI","index":1,"n_rows":655,"n_cols":39,"rows_kept":655,"cut":false,"hidden":false,"merged":[[188,11,189,11],[133,11,134,11],[144,11,145,11],[155,11,156,11],[166,11,167,11],[177,11,178,11],[79,11,80,11],[90,11,91,11],[101,11,102,11],[111,11,112,11],[122,11,123,11],[24,11,25,11],[35,11,36,11],[46,11,47,11],[57,11,58,11],[68,11,69,11],[0,0,0,2],[0,3,0,4],[1,0,1,2],[1,3,1,4],[24,2,25,2],[35,2,36,2],[46,2,47,2],[57,2,58,2],[68,2,69,2],[79,2,80,2],[90,2,91,2],[101,2,102,2],[111,2,112,2],[122,2,123,2],[133,2,134,2],[144,2,145,2],[155,2,156,2],[166,2,167,2],[177,2,178,2],[188,2,189,2]]}
["IME TAKMIČENJA",null,null,"MESTO ODRŽAVANJA ",null,"KLUB"]
[]
["DATUM"]
[]
[]
["BROJ TIMOVA"]
[null,"BR. TAK","IME TIMA","GEMOVI","KOLIČNIK GEMOVA","(+/-) GEMOVI","POZICIJA"]
["TIM A BROJ TAKMIČARA",null,null,{"$f":"SUM(J27:J34)","v":0},{"$f":"SUM(M27:M34)","v":0},{"$f":"SUM(L27:L34)","v":0},{"$f":"_xlfn.RANK.EQ($E8, $E$8:$E$23) + COUNTIFS($E$8:$E$23, $E8, $F$8:$F$23, \">\" &$F8)","v":1}]
["TIM B BROJ TAKMIČARA",null,null,{"$f":"SUM(J38:J45)","v":0},{"$f":"SUM(M38:M45)","v":0},{"$f":"SUM(L38:L45)","v":0},{"$f":"_xlfn.RANK.EQ($E9, $E$8:$E$23) + COUNTIFS($E$8:$E$23, $E9, $F$8:$F$23, \">\" &$F9)","v":1}]
["TIM C BROJ TAKMIČARA",null,null,{"$f":"SUM(J49:J56)","v":0},{"$f":"SUM(M49:M56)","v":0},{"$f":"SUM(L49:L56)","v":0},1]
["TIM D BROJ TAKMIČARA",null,null,{"$f":"SUM(J60:J67)","v":0},{"$f":"SUM(M60:M67)","v":0},{"$f":"SUM(L60:L67)","v":0},1]
["TIM E BROJ TAKMIČARA",null,null,{"$f":"SUM(J71:J78)","v":0},{"$f":"SUM(M71:M78)","v":0},{"$f":"SUM(L71:L78)","v":0},1]
["TIM F BROJ TAKMIČARA",null,null,{"$f":"SUM(J82:J89)","v":0},{"$f":"SUM(M82:M89)","v":0},{"$f":"SUM(L82:L89)","v":0},1]
["TIM G BROJ TAKMIČARA",null,null,{"$f":"SUM(J93:J100)","v":0},{"$f":"SUM(M93:M100)","v":0},{"$f":"SUM(L93:L100)","v":0},1]
["TIM H BROJ TAKMIČARA",null,null,{"$f":"SUM(J104:J111)","v":0},{"$f":"SUM(M104:M111)","v":0},{"$f":"SUM(L104:L111)","v":0},1]
["TIM I BROJ TAKMIČARA",null,null,{"$f":"SUM(J114:J121)","v":0},{"$f":"SUM(M114:M121)","v":0},{"$f":"SUM(L114:L121)","v":0},1]
["TIM J BROJ TAKMIČARA",null,null,{"$f":"SUM(J125:J132)","v":0},{"$f":"SUM(M125:M132)","v":0},{"$f":"SUM(L125:L132)","v":0},1]
["TIM K BROJ TAKMIČARA",null,null,{"$f":"SUM(J136:J143)","v":0},{"$f":"SUM(M136:M143)","v":0},{"$f":"SUM(L136:L143)","v":0},1]
["TIM L BROJ TAKMIČARA",null,null,{"$f":"SUM(J147:J154)","v":0},{"$f":"SUM(M147:M154)","v":0},{"$f":"SUM(L147:L154)","v":0},1]
["TIM M BROJ TAKMIČARA",null,null,{"$f":"SUM(J158:J165)","v":0},{"$f":"SUM(M158:M165)","v":0},{"$f":"SUM(L158:L165)","v":0},1]
["TIM N BROJ TAKMIČARA",null,null,{"$f":"SUM(J169:J176)","v":0},{"$f":"SUM(M82:M89)","v":0},{"$f":"SUM(L169:L176)","v":0},1]
["TIM O BROJ TAKMIČARA",null,null,{"$f":"SUM(J180:J187)","v":0},{"$f":"SUM(M93:M100)","v":0},{"$f":"SUM(L180:L187)","v":0},1]
["TIM P BROJ TAKMIČARA",null,null,{"$f":"SUM(J191:J198)","v":0},{"$f":"SUM(M191:M198)","v":0},{"$f":"SUM(L191:L198)","v":0},1]
[]
[null,null,"BROJ SA STATUSA",null,"TIM ",{"$f":"C8","v":0},null,null,null,null,null,"(+/-)\nGEMOVI","%"]
[null,null,null,null,"Prezime","Ime","Br. tak","Klub","Bodovi","Osvojeni G.","Količnik",null,"KOEFICIJENT"]
[null,null,null,1,{"$f":"IFERROR(VLOOKUP($C27,'PRIPREMA (STATUS)'!$A$5:$F$128,2),\"\")","v":""},{"$f":"IFERROR(VLOOKUP($C27,'PRIPREMA (STATUS)'!$A$5:$F$128,3),\"\")","v":""},{"$f":"IFERROR(VLOOKUP($C27,'PRIPREMA (STATUS)'!$A$5:$F$128,4),\"\")","v":""},{"$f":"IFERROR(VLOOKUP($C27,'PRIPREMA (STATUS)'!$A$5:$F$128,5),\"\")","v":""},{"$f":"IFERROR((30+J27*3)*(G27/G27),0)","v":0},{"$f":"IFERROR(INDEX($D$300:$D$700,MATCH($C27,$C$300:$C$700,0))*($G27/$G27),0)","v":0},{"$f":"J27/$B$9","v":{"$error":"#DIV/0!"}},{"$f":"IFERROR((INDEX($D$300:$D$700,MATCH($C27,$C$300:$C$700,0))-INDEX($E$300:$E$700,MATCH($C27,$C$300:$C$700,0)))*($G27/$G27),0)","v":0},{"$f":"IFERROR(INDEX($G$300:$G$700,MATCH($C27,$C$300:$C$700,0))*($G27/$G27),0)","v":0}]
[null,null,null,2,{"$f":"IFERROR(VLOOKUP($C28,'PRIPREMA (STATUS)'!$A$5:$F$128,2),\"\")","v":""},{"$f":"IFERROR(VLOOKUP($C28,'PRIPREMA (STATUS)'!$A$5:$F$128,3),\"\")","v":""},{"$f":"IFERROR(VLOOKUP($C28,'PRIPREMA (STATUS)'!$A$5:$F$128,4),\"\")","v":""},{"$f":"IFERROR(VLOOKUP($C28,'PRIPREMA (STATUS)'!$A$5:$F$128,5),\"\")","v":""},{"$f":"IFERROR((30+J28*3)*(G28/G28),0)","v":0},{"$f":"IFERROR(INDEX($D$300:$D$700,MATCH($C28,$C$300:$C$700,0))*($G28/$G28),0)","v":0},{"$f":"J28/$B$9","v":{"$error":"#DIV/0!"}},{"$f":"IFERROR((INDEX($D$300:$D$700,MATCH($C28,$C$300:$C$700,0))-INDEX($E$300:$E$700,MATCH($C28,$C$300:$C$700,0)))*($G28/$G28),0)","v":0},{"$f":"IFERROR(INDEX($G$300:$G$700,MATCH($C28,$C$300:$C$700,0))*($G28/$G28),0)","v":0}]
[null,null,null,3,{"$f":"IFERROR(VLOOKUP($C29,'PRIPREMA (STATUS)'!$A$5:$F$128,2),\"\")","v":""},{"$f":"IFERROR(VLOOKUP($C29,'PRIPREMA (STATUS)'!$A$5:$F$128,3),\"\")","v":""},{"$f":"IFERROR(VLOOKUP($C29,'PRIPREMA (STATUS)'!$A$5:$F$128,4),\"\")","v":""},{"$f":"IFERROR(VLOOKUP($C29,'PRIPREMA (STATUS)'!$A$5:$F$128,5),\"\")","v":""},0,0,{"$error":"#DIV/0!"},0,0]
[null,null,null,4,{"$f":"IFERROR(VLOOKUP($C30,'PRIPREMA (STATUS)'!$A$5:$F$128,2),\"\")","v":""},{"$f":"IFERROR(VLOOKUP($C30,'PRIPREMA (STATUS)'!$A$5:$F$128,3),\"\")","v":""},{"$f":"IFERROR(VLOOKUP($C30,'PRIPREMA (STATUS)'!$A$5:$F$128,4),\"\")","v":""},{"$f":"IFERROR(VLOOKUP($C30,'PRIPREMA (STATUS)'!$A$5:$F$128,5),\"\")","v":""},0,0,{"$error":"#DIV/0!"},0,0]
[null,null,null,5,{"$f":"IFERROR(VLOOKUP($C31,'PRIPREMA (STATUS)'!$A$5:$F$128,2),\"\")","v":""},{"$f":"IFERROR(VLOOKUP($C31,'PRIPREMA (STATUS)'!$A$5:$F$128,3),\"\")","v":""},{"$f":"IFERROR(VLOOKUP($C31,'PRIPREMA (STATUS)'!$A$5:$F$128,4),\"\")","v":""},{"$f":"IFERROR(VLOOKUP($C31,'PRIPREMA (STATUS)'!$A$5:$F$128,5),\"\")","v":""},0,0,{"$error":"#DIV/0!"},0,0]
[null,null,null,6,{"$f":"IFERROR(VLOOKUP($C32,'PRIPREMA (STATUS)'!$A$5:$F$128,2),\"\")","v":""},{"$f":"IFERROR(VLOOKUP($C32,'PRIPREMA (STATUS)'!$A$5:$F$128,3),\"\")","v":""},{"$f":"IFERROR(VLOOKUP($C32,'PRIPREMA (STATUS)'!$A$5:$F$128,4),\"\")","v":""},{"$f":"IFERROR(VLOOKUP($C32,'PRIPREMA (STATUS)'!$A$5:$F$128,5),\"\")","v":""},0,0,{"$error":"#DIV/0!"},0,0]
[null,null,null,7,{"$f":"IFERROR(VLOOKUP($C33,'PRIPREMA (STATUS)'!$A$5:$F$128,2),\"\")","v":""},{"$f":"IFERROR(VLOOKUP($C33,'PRIPREMA (STATUS)'!$A$5:$F$128,3),\"\")","v":""},{"$f":"IFERROR(VLOOKUP($C33,'PRIPREMA (STATUS)'!$A$5:$F$128,4),\"\")","v":""},{"$f":"IFERROR(VLOOKUP($C33,'PRIPREMA (STATUS)'!$A$5:$F$128,5),\"\")","v":""},0,0,{"$error":"#DIV/0!"},0,0]
[null,null,null,8,{"$f":"IFERROR(VLOOKUP($C34,'PRIPREMA (STATUS)'!$A$5:$F$128,2),\"\")","v":""},{"$f":"IFERROR(VLOOKUP($C34,'PRIPREMA (STATUS)'!$A$5:$F$128,3),\"\")","v":""},{"$f":"IFERROR(VLOOKUP($C34,'PRIPREMA (STATUS)'!$A$5:$F$128,4),\"\")","v":""},{"$f":"IFERROR(VLOOKUP($C34,'PRIPREMA (STATUS)'!$A$5:$F$128,5),\"\")","v":""},0,0,{"$error":"#DIV/0!"},0,0]
[null,null,{"$f":"G35","v":0}]
[null,null,"BROJ SA STATUSA",null,"TIM ",{"$f":"C9","v":0},null,null,null,null,null,"(+/-)\nGEMOVI","%"]
[null,null,null,null,"Prezime","Ime","Br. tak","Klub","Bodovi","Osvojeni G.","Količnik",null,"KOEFICIJENT"]
[null,null,null,1,{"$f":"IFERROR(VLOOKUP($C38,'PRIPREMA (STATUS)'!$A$5:$F$128,2),\"\")","v":""},{"$f":"IFERROR(VLOOKUP($C38,'PRIPREMA (STATUS)'!$A$5:$F$128,3),\"\")","v":""},{"$f":"IFERROR(VLOOKUP($C38,'PRIPREMA (STATUS)'!$A$5:$F$128,4),\"\")","v":""},{"$f":"IFERROR(VLOOKUP($C38,'PRIPREMA (STATUS)'!$A$5:$F$128,5),\"\")","v":""},{"$f":"IFERROR((30+J38*3)*(G38/G38),0)","v":0},{"$f":"IFERROR(INDEX($D$300:$D$700,MATCH($C38,$C$300:$C$700,0))*($G38/$G38),0)","v":0},{"$f":"J38/$B$9","v":{"$error":"#DIV/0!"}},{"$f":"IFERROR((INDEX($D$300:$D$700,MATCH($C38,$C$300:$C$700,0))-INDEX($E$300:$E$700,MATCH($C38,$C$300:$C$700,0)))*($G38/$G38),0)","v":0},{"$f":"IFERROR(INDEX($G$300:$G$700,MATCH($C38,$C$300:$C$700,0))*($G38/$G38),0)","v":0}]
[null,null,null,2,{"$f":"IFERROR(VLOOKUP($C39,'PRIPREMA (STATUS)'!$A$5:$F$128,2),\"\")","v":""},{"$f":"IFERROR(VLOOKUP($C39,'PRIPREMA (STATUS)'!$A$5:$F$128,3),\"\")","v":""},{"$f":"IFERROR(VLOOKUP($C39,'PRIPREMA (STATUS)'!$A$5:$F$128,4),\"\")","v":""},{"$f":"IFERROR(VLOOKUP($C39,'PRIPREMA (STATUS)'!$A$5:$F$128,5),\"\")","v":""},{"$f":"IFERROR((30+J39*3)*(G39/G39),0)","v":0},{"$f":"IFERROR(INDEX($D$300:$D$700,MATCH($C39,$C$300:$C$700,0))*($G39/$G39),0)","v":0},{"$f":"J39/$B$9","v":{"$error":"#DIV/0!"}},{"$f":"IFERROR((INDEX($D$300:$D$700,MATCH($C39,$C$300:$C$700,0))-INDEX($E$300:$E$700,MATCH($C39,$C$300:$C$700,0)))*($G39/$G39),0)","v":0},{"$f":"IFERROR(INDEX($G$300:$G$700,MATCH($C39,$C$300:$C$700,0))*($G39/$G39),0)","v":0}]
[null,null,null,3,{"$f":"IFERROR(VLOOKUP($C40,'PRIPREMA (STATUS)'!$A$5:$F$128,2),\"\")","v":""},{"$f":"IFERROR(VLOOKUP($C40,'PRIPREMA (STATUS)'!$A$5:$F$128,3),\"\")","v":""},{"$f":"IFERROR(VLOOKUP($C40,'PRIPREMA (STATUS)'!$A$5:$F$128,4),\"\")","v":""},{"$f":"IFERROR(VLOOKUP($C40,'PRIPREMA (STATUS)'!$A$5:$F$128,5),\"\")","v":""},0,0,{"$error":"#DIV/0!"},0,0]
[null,null,null,4,{"$f":"IFERROR(VLOOKUP($C41,'PRIPREMA (STATUS)'!$A$5:$F$128,2),\"\")","v":""},{"$f":"IFERROR(VLOOKUP($C41,'PRIPREMA (STATUS)'!$A$5:$F$128,3),\"\")","v":""},{"$f":"IFERROR(VLOOKUP($C41,'PRIPREMA (STATUS)'!$A$5:$F$128,4),\"\")","v":""},{"$f":"IFERROR(VLOOKUP($C41,'PRIPREMA (STATUS)'!$A$5:$F$128,5),\"\")","v":""},0,0,{"$error":"#DIV/0!"},0,0]
[null,null,null,5,{"$f":"IFERROR(VLOOKUP($C42,'PRIPREMA (STATUS)'!$A$5:$F$128,2),\"\")","v":""},{"$f":"IFERROR(VLOOKUP($C42,'PRIPREMA (STATUS)'!$A$5:$F$128,3),\"\")","v":""},{"$f":"IFERROR(VLOOKUP($C42,'PRIPREMA (STATUS)'!$A$5:$F$128,4),\"\")","v":""},{"$f":"IFERROR(VLOOKUP($C42,'PRIPREMA (STATUS)'!$A$5:$F$128,5),\"\")","v":""},0,0,{"$error":"#DIV/0!"},0,0]
[null,null,null,6,{"$f":"IFERROR(VLOOKUP($C43,'PRIPREMA (STATUS)'!$A$5:$F$128,2),\"\")","v":""},{"$f":"IFERROR(VLOOKUP($C43,'PRIPREMA (STATUS)'!$A$5:$F$128,3),\"\")","v":""},{"$f":"IFERROR(VLOOKUP($C43,'PRIPREMA (STATUS)'!$A$5:$F$128,4),\"\")","v":""},{"$f":"IFERROR(VLOOKUP($C43,'PRIPREMA (STATUS)'!$A$5:$F$128,5),\"\")","v":""},0,0,{"$error":"#DIV/0!"},0,0]
[null,null,null,7,{"$f":"IFERROR(VLOOKUP($C44,'PRIPREMA (STATUS)'!$A$5:$F$128,2),\"\")","v":""},{"$f":"IFERROR(VLOOKUP($C44,'PRIPREMA (STATUS)'!$A$5:$F$128,3),\"\")","v":""},{"$f":"IFERROR(VLOOKUP($C44,'PRIPREMA (STATUS)'!$A$5:$F$128,4),\"\")","v":""},{"$f":"IFERROR(VLOOKUP($C44,'PRIPREMA (STATUS)'!$A$5:$F$128,5),\"\")","v":""},0,0,{"$error":"#DIV/0!"},0,0]
[null,null,null,8,{"$f":"IFERROR(VLOOKUP($C45,'PRIPREMA (STATUS)'!$A$5:$F$128,2),\"\")","v":""},{"$f":"IFERROR(VLOOKUP($C45,'PRIPREMA (STATUS)'!$A$5:$F$128,3),\"\")","v":""},{"$f":"IFERROR(VLOOKUP($C45,'PRIPREMA (STATUS)'!$A$5:$F$128,4),\"\")","v":""},{"$f":"IFERROR(VLOOKUP($C45,'PRIPREMA (STATUS)'!$A$5:$F$128,5),\"\")","v":""},0,0,{"$error":"#DIV/0!"},0,0]
[null,null,0]
[null,null,"BROJ SA STATUSA",null,"TIM ",{"$f":"C10","v":0},null,null,null,null,null,"(+/-)\nGEMOVI","%"]
[null,null,null,null,"Prezime","Ime","Br. tak","Klub","Bodovi","Osvojeni G.","Količnik",null,"KOEFICIJENT"]
[null,null,null,1,{"$f":"IFERROR(VLOOKUP($C49,'PRIPREMA (STATUS)'!$A$5:$F$128,2),\"\")","v":""},{"$f":"IFERROR(VLOOKUP($C49,'PRIPREMA (STATUS)'!$A$5:$F$128,3),\"\")","v":""},{"$f":"IFERROR(VLOOKUP($C49,'PRIPREMA (STATUS)'!$A$5:$F$128,4),\"\")","v":""},{"$f":"IFERROR(VLOOKUP($C49,'PRIPREMA (STATUS)'!$A$5:$F$128,5),\"\")","v":""},{"$f":"IFERROR((30+J49*3)*(G49/G49),0)","v":0},{"$f":"IFERROR(INDEX($D$300:$D$700,MATCH($C49,$C$300:$C$700,0))*($G49/$G49),0)","v":0},{"$f":"J49/$B$9","v":{"$error":"#DIV/0!"}},{"$f":"IFERROR((INDEX($D$300:$D$700,MATCH($C49,$C$300:$C$700,0))-INDEX($E$300:$E$700,MATCH($C49,$C$300:$C$700,0)))*($G49/$G49),0)","v":0},{"$f":"IFERROR(INDEX($G$300:$G$700,MATCH($C49,$C$300:$C$700,0))*($G49/$G49),0)","v":0}]
[null,null,null,2,{"$f":"IFERROR(VLOOKUP($C50,'PRIPREMA (STATUS)'!$A$5:$F$128,2),\"\")","v":""},{"$f":"IFERROR(VLOOKUP($C50,'PRIPREMA (STATUS)'!$A$5:$F$128,3),\"\")","v":""},{"$f":"IFERROR(VLOOKUP($C50,'PRIPREMA (STATUS)'!$A$5:$F$128,4),\"\")","v":""},{"$f":"IFERROR(VLOOKUP($C50,'PRIPREMA (STATUS)'!$A$5:$F$128,5),\"\")","v":""},{"$f":"IFERROR((30+J50*3)*(G50/G50),0)","v":0},{"$f":"IFERROR(INDEX($D$300:$D$700,MATCH($C50,$C$300:$C$700,0))*($G50/$G50),0)","v":0},{"$f":"J50/$B$9","v":{"$error":"#DIV/0!"}},{"$f":"IFERROR((INDEX($D$300:$D$700,MATCH($C50,$C$300:$C$700,0))-INDEX($E$300:$E$700,MATCH($C50,$C$300:$C$700,0)))*($G50/$G50),0)","v":0},{"$f":"IFERROR(INDEX($G$300:$G$700,MATCH($C50,$C$300:$C$700,0))*($G50/$G50),0)","v":0}]
[null,null,null,3,{"$f":"IFERROR(VLOOKUP($C51,'PRIPREMA (STATUS)'!$A$5:$F$128,2),\"\")","v":""},{"$f":"IFERROR(VLOOKUP($C51,'PRIPREMA (STATUS)'!$A$5:$F$128,3),\"\")","v":""},{"$f":"IFERROR(VLOOKUP($C51,'PRIPREMA (STATUS)'!$A$5:$F$128,4),\"\")","v":""},{"$f":"IFERROR(VLOOKUP($C51,'PRIPREMA (STATUS)'!$A$5:$F$128,5),\"\")","v":""},0,0,{"$error":"#DIV/0!"},0,0]
[null,null,null,4,{"$f":"IFERROR(VLOOKUP($C52,'PRIPREMA (STATUS)'!$A$5:$F$128,2),\"\")","v":""},{"$f":"IFERROR(VLOOKUP($C52,'PRIPREMA (STATUS)'!$A$5:$F$128,3),\"\")","v":""},{"$f":"IFERROR(VLOOKUP($C52,'PRIPREMA (STATUS)'!$A$5:$F$128,4),\"\")","v":""},{"$f":"IFERROR(VLOOKUP($C52,'PRIPREMA (STATUS)'!$A$5:$F$128,5),\"\")","v":""},0,0,{"$error":"#DIV/0!"},0,0]
[null,null,null,5,{"$f":"IFERROR(VLOOKUP($C53,'PRIPREMA (STATUS)'!$A$5:$F$128,2),\"\")","v":""},{"$f":"IFERROR(VLOOKUP($C53,'PRIPREMA (STATUS)'!$A$5:$F$128,3),\"\")","v":""},{"$f":"IFERROR(VLOOKUP($C53,'PRIPREMA (STATUS)'!$A$5:$F$128,4),\"\")","v":""},{"$f":"IFERROR(VLOOKUP($C53,'PRIPREMA (STATUS)'!$A$5:$F$128,5),\"\")","v":""},0,0,{"$error":"#DIV/0!"},0,0]
[null,null,null,6,{"$f":"IFERROR(VLOOKUP($C54,'PRIPREMA (STATUS)'!$A$5:$F$128,2),\"\")","v":""},{"$f":"IFERROR(VLOOKUP($C54,'PRIPREMA (STATUS)'!$A$5:$F$128,3),\"\")","v":""},{"$f":"IFERROR(VLOOKUP($C54,'PRIPREMA (STATUS)'!$A$5:$F$128,4),\"\")","v":""},{"$f":"IFERROR(VLOOKUP($C54,'PRIPREMA (STATUS)'!$A$5:$F$128,5),\"\")","v":""},0,0,{"$error":"#DIV/0!"},0,0]
[null,null,null,7,{"$f":"IFERROR(VLOOKUP($C55,'PRIPREMA (STATUS)'!$A$5:$F$128,2),\"\")","v":""},{"$f":"IFERROR(VLOOKUP($C55,'PRIPREMA (STATUS)'!$A$5:$F$128,3),\"\")","v":""},{"$f":"IFERROR(VLOOKUP($C55,'PRIPREMA (STATUS)'!$A$5:$F$128,4),\"\")","v":""},{"$f":"IFERROR(VLOOKUP($C55,'PRIPREMA (STATUS)'!$A$5:$F$128,5),\"\")","v":""},0,0,{"$error":"#DIV/0!"},0,0]
[null,null,null,8,{"$f":"IFERROR(VLOOKUP($C56,'PRIPREMA (STATUS)'!$A$5:$F$128,2),\"\")","v":""},{"$f":"IFERROR(VLOOKUP($C56,'PRIPREMA (STATUS)'!$A$5:$F$128,3),\"\")","v":""},{"$f":"IFERROR(VLOOKUP($C56,'PRIPREMA (STATUS)'!$A$5:$F$128,4),\"\")","v":""},{"$f":"IFERROR(VLOOKUP($C56,'PRIPREMA (STATUS)'!$A$5:$F$128,5),\"\")","v":""},0,0,{"$error":"#DIV/0!"},0,0]
[null,null,0]
[null,null,"BROJ SA STATUSA",null,"TIM ",{"$f":"C11","v":0},null,null,null,null,null,"(+/-)\nGEMOVI","%"]
[null,null,null,null,"Prezime","Ime","Br. tak","Klub","Bodovi","Osvojeni G.","Količnik",null,"KOEFICIJENT"]
[null,null,null,1,{"$f":"IFERROR(VLOOKUP($C60,'PRIPREMA (STATUS)'!$A$5:$F$128,2),\"\")","v":""},{"$f":"IFERROR(VLOOKUP($C60,'PRIPREMA (STATUS)'!$A$5:$F$128,3),\"\")","v":""},{"$f":"IFERROR(VLOOKUP($C60,'PRIPREMA (STATUS)'!$A$5:$F$128,4),\"\")","v":""},{"$f":"IFERROR(VLOOKUP($C60,'PRIPREMA (STATUS)'!$A$5:$F$128,5),\"\")","v":""},{"$f":"IFERROR((30+J60*3)*(G60/G60),0)","v":0},{"$f":"IFERROR(INDEX($D$300:$D$700,MATCH($C60,$C$300:$C$700,0))*($G60/$G60),0)","v":0},{"$f":"J60/$B$9","v":{"$error":"#DIV/0!"}},{"$f":"IFERROR((INDEX($D$300:$D$700,MATCH($C60,$C$300:$C$700,0))-INDEX($E$300:$E$700,MATCH($C60,$C$300:$C$700,0)))*($G60/$G60),0)","v":0},{"$f":"IFERROR(INDEX($G$300:$G$700,MATCH($C60,$C$300:$C$700,0))*($G60/$G60),0)","v":0}]
[null,null,null,2,{"$f":"IFERROR(VLOOKUP($C61,'PRIPREMA (STATUS)'!$A$5:$F$128,2),\"\")","v":""},{"$f":"IFERROR(VLOOKUP($C61,'PRIPREMA (STATUS)'!$A$5:$F$128,3),\"\")","v":""},{"$f":"IFERROR(VLOOKUP($C61,'PRIPREMA (STATUS)'!$A$5:$F$128,4),\"\")","v":""},{"$f":"IFERROR(VLOOKUP($C61,'PRIPREMA (STATUS)'!$A$5:$F$128,5),\"\")","v":""},{"$f":"IFERROR((30+J61*3)*(G61/G61),0)","v":0},{"$f":"IFERROR(INDEX($D$300:$D$700,MATCH($C61,$C$300:$C$700,0))*($G61/$G61),0)","v":0},{"$f":"J61/$B$9","v":{"$error":"#DIV/0!"}},{"$f":"IFERROR((INDEX($D$300:$D$700,MATCH($C61,$C$300:$C$700,0))-INDEX($E$300:$E$700,MATCH($C61,$C$300:$C$700,0)))*($G61/$G61),0)","v":0},{"$f":"IFERROR(INDEX($G$300:$G$700,MATCH($C61,$C$300:$C$700,0))*($G61/$G61),0)","v":0}]
[null,null,null,3,{"$f":"IFERROR(VLOOKUP($C62,'PRIPREMA (STATUS)'!$A$5:$F$128,2),\"\")","v":""},{"$f":"IFERROR(VLOOKUP($C62,'PRIPREMA (STATUS)'!$A$5:$F$128,3),\"\")","v":""},{"$f":"IFERROR(VLOOKUP($C62,'PRIPREMA (STATUS)'!$A$5:$F$128,4),\"\")","v":""},{"$f":"IFERROR(VLOOKUP($C62,'PRIPREMA (STATUS)'!$A$5:$F$128,5),\"\")","v":""},0,0,{"$error":"#DIV/0!"},0,0]
[null,null,null,4,{"$f":"IFERROR(VLOOKUP($C63,'PRIPREMA (STATUS)'!$A$5:$F$128,2),\"\")","v":""},{"$f":"IFERROR(VLOOKUP($C63,'PRIPREMA (STATUS)'!$A$5:$F$128,3),\"\")","v":""},{"$f":"IFERROR(VLOOKUP($C63,'PRIPREMA (STATUS)'!$A$5:$F$128,4),\"\")","v":""},{"$f":"IFERROR(VLOOKUP($C63,'PRIPREMA (STATUS)'!$A$5:$F$128,5),\"\")","v":""},0,0,{"$error":"#DIV/0!"},0,0]
[null,null,null,5,{"$f":"IFERROR(VLOOKUP($C64,'PRIPREMA (STATUS)'!$A$5:$F$128,2),\"\")","v":""},{"$f":"IFERROR(VLOOKUP($C64,'PRIPREMA (STATUS)'!$A$5:$F$128,3),\"\")","v":""},{"$f":"IFERROR(VLOOKUP($C64,'PRIPREMA (STATUS)'!$A$5:$F$128,4),\"\")","v":""},{"$f":"IFERROR(VLOOKUP($C64,'PRIPREMA (STATUS)'!$A$5:$F$128,5),\"\")","v":""},0,0,{"$error":"#DIV/0!"},0,0]
[null,null,null,6,{"$f":"IFERROR(VLOOKUP($C65,'PRIPREMA (STATUS)'!$A$5:$F$128,2),\"\")","v":""},{"$f":"IFERROR(VLOOKUP($C65,'PRIPREMA (STATUS)'!$A$5:$F$128,3),\"\")","v":""},{"$f":"IFERROR(VLOOKUP($C65,'PRIPREMA (STATUS)'!$A$5:$F$128,4),\"\")","v":""},{"$f":"IFERROR(VLOOKUP($C65,'PRIPREMA (STATUS)'!$A$5:$F$128,5),\"\")","v":""},0,0,{"$error":"#DIV/0!"},0,0]
[null,null,null,7,{"$f":"IFERROR(VLOOKUP($C66,'PRIPREMA (STATUS)'!$A$5:$F$128,2),\"\")","v":""},{"$f":"IFERROR(VLOOKUP($C66,'PRIPREMA (STATUS)'!$A$5:$F$128,3),\"\")","v":""},{"$f":"IFERROR(VLOOKUP($C66,'PRIPREMA (STATUS)'!$A$5:$F$128,4),\"\")","v":""},{"$f":"IFERROR(VLOOKUP($C66,'PRIPREMA (STATUS)'!$A$5:$F$128,5),\"\")","v":""},0,0,{"$error":"#DIV/0!"},0,0]
[null,null,null,8,{"$f":"IFERROR(VLOOKUP($C67,'PRIPREMA (STATUS)'!$A$5:$F$128,2),\"\")","v":""},{"$f":"IFERROR(VLOOKUP($C67,'PRIPREMA (STATUS)'!$A$5:$F$128,3),\"\")","v":""},{"$f":"IFERROR(VLOOKUP($C67,'PRIPREMA (STATUS)'!$A$5:$F$128,4),\"\")","v":""},{"$f":"IFERROR(VLOOKUP($C67,'PRIPREMA (STATUS)'!$A$5:$F$128,5),\"\")","v":""},0,0,{"$error":"#DIV/0!"},0,0]
[null,null,0]
[null,null,"BROJ SA STATUSA",null,"TIM ",{"$f":"C12","v":0},null,null,null,null,null,"(+/-)\nGEMOVI","%"]
[null,null,null,null,"Prezime","Ime","Br. tak","Klub","Bodovi","Osvojeni G.","Količnik",null,"KOEFICIJENT"]
[null,null,null,1,{"$f":"IFERROR(VLOOKUP($C71,'PRIPREMA (STATUS)'!$A$5:$F$128,2),\"\")","v":""},{"$f":"IFERROR(VLOOKUP($C71,'PRIPREMA (STATUS)'!$A$5:$F$128,3),\"\")","v":""},{"$f":"IFERROR(VLOOKUP($C71,'PRIPREMA (STATUS)'!$A$5:$F$128,4),\"\")","v":""},{"$f":"IFERROR(VLOOKUP($C71,'PRIPREMA (STATUS)'!$A$5:$F$128,5),\"\")","v":""},{"$f":"IFERROR((30+J71*3)*(G71/G71),0)","v":0},{"$f":"IFERROR(INDEX($D$300:$D$700,MATCH($C71,$C$300:$C$700,0))*($G71/$G71),0)","v":0},{"$f":"J71/$B$9","v":{"$error":"#DIV/0!"}},{"$f":"IFERROR((INDEX($D$300:$D$700,MATCH($C71,$C$300:$C$700,0))-INDEX($E$300:$E$700,MATCH($C71,$C$300:$C$700,0)))*($G71/$G71),0)","v":0},{"$f":"IFERROR(INDEX($G$300:$G$700,MATCH($C71,$C$300:$C$700,0))*($G71/$G71),0)","v":0}]
[null,null,null,2,{"$f":"IFERROR(VLOOKUP($C72,'PRIPREMA (STATUS)'!$A$5:$F$128,2),\"\")","v":""},{"$f":"IFERROR(VLOOKUP($C72,'PRIPREMA (STATUS)'!$A$5:$F$128,3),\"\")","v":""},{"$f":"IFERROR(VLOOKUP($C72,'PRIPREMA (STATUS)'!$A$5:$F$128,4),\"\")","v":""},{"$f":"IFERROR(VLOOKUP($C72,'PRIPREMA (STATUS)'!$A$5:$F$128,5),\"\")","v":""},{"$f":"IFERROR((30+J72*3)*(G72/G72),0)","v":0},{"$f":"IFERROR(INDEX($D$300:$D$700,MATCH($C72,$C$300:$C$700,0))*($G72/$G72),0)","v":0},{"$f":"J72/$B$9","v":{"$error":"#DIV/0!"}},{"$f":"IFERROR((INDEX($D$300:$D$700,MATCH($C72,$C$300:$C$700,0))-INDEX($E$300:$E$700,MATCH($C72,$C$300:$C$700,0)))*($G72/$G72),0)","v":0},{"$f":"IFERROR(INDEX($G$300:$G$700,MATCH($C72,$C$300:$C$700,0))*($G72/$G72),0)","v":0}]
[null,null,null,3,{"$f":"IFERROR(VLOOKUP($C73,'PRIPREMA (STATUS)'!$A$5:$F$128,2),\"\")","v":""},{"$f":"IFERROR(VLOOKUP($C73,'PRIPREMA (STATUS)'!$A$5:$F$128,3),\"\")","v":""},{"$f":"IFERROR(VLOOKUP($C73,'PRIPREMA (STATUS)'!$A$5:$F$128,4),\"\")","v":""},{"$f":"IFERROR(VLOOKUP($C73,'PRIPREMA (STATUS)'!$A$5:$F$128,5),\"\")","v":""},0,0,{"$error":"#DIV/0!"},0,0]
[null,null,null,4,{"$f":"IFERROR(VLOOKUP($C74,'PRIPREMA (STATUS)'!$A$5:$F$128,2),\"\")","v":""},{"$f":"IFERROR(VLOOKUP($C74,'PRIPREMA (STATUS)'!$A$5:$F$128,3),\"\")","v":""},{"$f":"IFERROR(VLOOKUP($C74,'PRIPREMA (STATUS)'!$A$5:$F$128,4),\"\")","v":""},{"$f":"IFERROR(VLOOKUP($C74,'PRIPREMA (STATUS)'!$A$5:$F$128,5),\"\")","v":""},0,0,{"$error":"#DIV/0!"},0,0]
[null,null,null,5,{"$f":"IFERROR(VLOOKUP($C75,'PRIPREMA (STATUS)'!$A$5:$F$128,2),\"\")","v":""},{"$f":"IFERROR(VLOOKUP($C75,'PRIPREMA (STATUS)'!$A$5:$F$128,3),\"\")","v":""},{"$f":"IFERROR(VLOOKUP($C75,'PRIPREMA (STATUS)'!$A$5:$F$128,4),\"\")","v":""},{"$f":"IFERROR(VLOOKUP($C75,'PRIPREMA (STATUS)'!$A$5:$F$128,5),\"\")","v":""},0,0,{"$error":"#DIV/0!"},0,0]
[null,null,null,6,{"$f":"IFERROR(VLOOKUP($C76,'PRIPREMA (STATUS)'!$A$5:$F$128,2),\"\")","v":""},{"$f":"IFERROR(VLOOKUP($C76,'PRIPREMA (STATUS)'!$A$5:$F$128,3),\"\")","v":""},{"$f":"IFERROR(VLOOKUP($C76,'PRIPREMA (STATUS)'!$A$5:$F$128,4),\"\")","v":""},{"$f":"IFERROR(VLOOKUP($C76,'PRIPREMA (STATUS)'!$A$5:$F$128,5),\"\")","v":""},0,0,{"$error":"#DIV/0!"},0,0]
[null,null,null,7,{"$f":"IFERROR(VLOOKUP($C77,'PRIPREMA (STATUS)'!$A$5:$F$128,2),\"\")","v":""},{"$f":"IFERROR(VLOOKUP($C77,'PRIPREMA (STATUS)'!$A$5:$F$128,3),\"\")","v":""},{"$f":"IFERROR(VLOOKUP($C77,'PRIPREMA (STATUS)'!$A$5:$F$128,4),\"\")","v":""},{"$f":"IFERROR(VLOOKUP($C77,'PRIPREMA (STATUS)'!$A$5:$F$128,5),\"\")","v":""},0,0,{"$error":"#DIV/0!"},0,0]
[null,null,null,8,{"$f":"IFERROR(VLOOKUP($C78,'PRIPREMA (STATUS)'!$A$5:$F$128,2),\"\")","v":""},{"$f":"IFERROR(VLOOKUP($C78,'PRIPREMA (STATUS)'!$A$5:$F$128,3),\"\")","v":""},{"$f":"IFERROR(VLOOKUP($C78,'PRIPREMA (STATUS)'!$A$5:$F$128,4),\"\")","v":""},{"$f":"IFERROR(VLOOKUP($C78,'PRIPREMA (STATUS)'!$A$5:$F$128,5),\"\")","v":""},0,0,{"$error":"#DIV/0!"},0,0]
[null,null,0]
[null,null,"BROJ SA STATUSA",null,"TIM ",{"$f":"C13","v":0},null,null,null,null,null,"(+/-)\nGEMOVI","%"]
[null,null,null,null,"Prezime","Ime","Br. tak","Klub","Bodovi","Osvojeni G.","Količnik",null,"KOEFICIJENT"]
[null,null,null,1,{"$f":"IFERROR(VLOOKUP($C82,'PRIPREMA (STATUS)'!$A$5:$F$128,2),\"\")","v":""},{"$f":"IFERROR(VLOOKUP($C82,'PRIPREMA (STATUS)'!$A$5:$F$128,3),\"\")","v":""},{"$f":"IFERROR(VLOOKUP($C82,'PRIPREMA (STATUS)'!$A$5:$F$128,4),\"\")","v":""},{"$f":"IFERROR(VLOOKUP($C82,'PRIPREMA (STATUS)'!$A$5:$F$128,5),\"\")","v":""},{"$f":"IFERROR((30+J82*3)*(G82/G82),0)","v":0},{"$f":"IFERROR(INDEX($D$300:$D$700,MATCH($C82,$C$300:$C$700,0))*($G82/$G82),0)","v":0},{"$f":"J82/$B$9","v":{"$error":"#DIV/0!"}},{"$f":"IFERROR((INDEX($D$300:$D$700,MATCH($C82,$C$300:$C$700,0))-INDEX($E$300:$E$700,MATCH($C82,$C$300:$C$700,0)))*($G82/$G82),0)","v":0},{"$f":"IFERROR(INDEX($G$300:$G$700,MATCH($C82,$C$300:$C$700,0))*($G82/$G82),0)","v":0}]
[null,null,null,2,{"$f":"IFERROR(VLOOKUP($C83,'PRIPREMA (STATUS)'!$A$5:$F$128,2),\"\")","v":""},{"$f":"IFERROR(VLOOKUP($C83,'PRIPREMA (STATUS)'!$A$5:$F$128,3),\"\")","v":""},{"$f":"IFERROR(VLOOKUP($C83,'PRIPREMA (STATUS)'!$A$5:$F$128,4),\"\")","v":""},{"$f":"IFERROR(VLOOKUP($C83,'PRIPREMA (STATUS)'!$A$5:$F$128,5),\"\")","v":""},{"$f":"IFERROR((30+J83*3)*(G83/G83),0)","v":0},{"$f":"IFERROR(INDEX($D$300:$D$700,MATCH($C83,$C$300:$C$700,0))*($G83/$G83),0)","v":0},{"$f":"J83/$B$9","v":{"$error":"#DIV/0!"}},{"$f":"IFERROR((INDEX($D$300:$D$700,MATCH($C83,$C$300:$C$700,0))-INDEX($E$300:$E$700,MATCH($C83,$C$300:$C$700,0)))*($G83/$G83),0)","v":0},{"$f":"IFERROR(INDEX($G$300:$G$700,MATCH($C83,$C$300:$C$700,0))*($G83/$G83),0)","v":0}]
[null,null,null,3,{"$f":"IFERROR(VLOOKUP($C84,'PRIPREMA (STATUS)'!$A$5:$F$128,2),\"\")","v":""},{"$f":"IFERROR(VLOOKUP($C84,'PRIPREMA (STATUS)'!$A$5:$F$128,3),\"\")","v":""},{"$f":"IFERROR(VLOOKUP($C84,'PRIPREMA (STATUS)'!$A$5:$F$128,4),\"\")","v":""},{"$f":"IFERROR(VLOOKUP($C84,'PRIPREMA (STATUS)'!$A$5:$F$128,5),\"\")","v":""},0,0,{"$error":"#DIV/0!"},0,0]
[null,null,null,4,{"$f":"IFERROR(VLOOKUP($C85,'PRIPREMA (STATUS)'!$A$5:$F$128,2),\"\")","v":""},{"$f":"IFERROR(VLOOKUP($C85,'PRIPREMA (STATUS)'!$A$5:$F$128,3),\"\")","v":""},{"$f":"IFERROR(VLOOKUP($C85,'PRIPREMA (STATUS)'!$A$5:$F$128,4),\"\")","v":""},{"$f":"IFERROR(VLOOKUP($C85,'PRIPREMA (STATUS)'!$A$5:$F$128,5),\"\")","v":""},0,0,{"$error":"#DIV/0!"},0,0]
[null,null,null,5,{"$f":"IFERROR(VLOOKUP($C86,'PRIPREMA (STATUS)'!$A$5:$F$128,2),\"\")","v":""},{"$f":"IFERROR(VLOOKUP($C86,'PRIPREMA (STATUS)'!$A$5:$F$128,3),\"\")","v":""},{"$f":"IFERROR(VLOOKUP($C86,'PRIPREMA (STATUS)'!$A$5:$F$128,4),\"\")","v":""},{"$f":"IFERROR(VLOOKUP($C86,'PRIPREMA (STATUS)'!$A$5:$F$128,5),\"\")","v":""},0,0,{"$error":"#DIV/0!"},0,0]
[null,null,null,6,{"$f":"IFERROR(VLOOKUP($C87,'PRIPREMA (STATUS)'!$A$5:$F$128,2),\"\")","v":""},{"$f":"IFERROR(VLOOKUP($C87,'PRIPREMA (STATUS)'!$A$5:$F$128,3),\"\")","v":""},{"$f":"IFERROR(VLOOKUP($C87,'PRIPREMA (STATUS)'!$A$5:$F$128,4),\"\")","v":""},{"$f":"IFERROR(VLOOKUP($C87,'PRIPREMA (STATUS)'!$A$5:$F$128,5),\"\")","v":""},0,0,{"$error":"#DIV/0!"},0,0]
[null,null,null,7,{"$f":"IFERROR(VLOOKUP($C88,'PRIPREMA (STATUS)'!$A$5:$F$128,2),\"\")","v":""},{"$f":"IFERROR(VLOOKUP($C88,'PRIPREMA (STATUS)'!$A$5:$F$128,3),\"\")","v":""},{"$f":"IFERROR(VLOOKUP($C88,'PRIPREMA (STATUS)'!$A$5:$F$128,4),\"\")","v":""},{"$f":"IFERROR(VLOOKUP($C88,'PRIPREMA (STATUS)'!$A$5:$F$128,5),\"\")","v":""},0,0,{"$error":"#DIV/0!"},0,0]
[null,null,null,8,{"$f":"IFERROR(VLOOKUP($C89,'PRIPREMA (STATUS)'!$A$5:$F$128,2),\"\")","v":""},{"$f":"IFERROR(VLOOKUP($C89,'PRIPREMA (STATUS)'!$A$5:$F$128,3),\"\")","v":""},{"$f":"IFERROR(VLOOKUP($C89,'PRIPREMA (STATUS)'!$A$5:$F$128,4),\"\")","v":""},{"$f":"IFERROR(VLOOKUP($C89,'PRIPREMA (STATUS)'!$A$5:$F$128,5),\"\")","v":""},0,0,{"$error":"#DIV/0!"},0,0]
[null,null,0]
[null,null,"BROJ SA STATUSA",null,"TIM ",{"$f":"C14","v":0},null,null,null,null,null,"(+/-)\nGEMOVI","%"]
[null,null,null,null,"Prezime","Ime","Br. tak","Klub","Bodovi","Osvojeni G.","Količnik",null,"KOEFICIJENT"]
[null,null,null,1,{"$f":"IFERROR(VLOOKUP($C93,'PRIPREMA (STATUS)'!$A$5:$F$128,2),\"\")","v":""},{"$f":"IFERROR(VLOOKUP($C93,'PRIPREMA (STATUS)'!$A$5:$F$128,3),\"\")","v":""},{"$f":"IFERROR(VLOOKUP($C93,'PRIPREMA (STATUS)'!$A$5:$F$128,4),\"\")","v":""},{"$f":"IFERROR(VLOOKUP($C93,'PRIPREMA (STATUS)'!$A$5:$F$128,5),\"\")","v":""},{"$f":"IFERROR((30+J93*3)*(G93/G93),0)","v":0},{"$f":"IFERROR(INDEX($D$300:$D$700,MATCH($C93,$C$300:$C$700,0))*($G93/$G93),0)","v":0},{"$f":"J93/$B$9","v":{"$error":"#DIV/0!"}},{"$f":"IFERROR((INDEX($D$300:$D$700,MATCH($C93,$C$300:$C$700,0))-INDEX($E$300:$E$700,MATCH($C93,$C$300:$C$700,0)))*($G93/$G93),0)","v":0},{"$f":"IFERROR(INDEX($G$300:$G$700,MATCH($C93,$C$300:$C$700,0))*($G93/$G93),0)","v":0}]
[null,null,null,2,{"$f":"IFERROR(VLOOKUP($C94,'PRIPREMA (STATUS)'!$A$5:$F$128,2),\"\")","v":""},{"$f":"IFERROR(VLOOKUP($C94,'PRIPREMA (STATUS)'!$A$5:$F$128,3),\"\")","v":""},{"$f":"IFERROR(VLOOKUP($C94,'PRIPREMA (STATUS)'!$A$5:$F$128,4),\"\")","v":""},{"$f":"IFERROR(VLOOKUP($C94,'PRIPREMA (STATUS)'!$A$5:$F$128,5),\"\")","v":""},{"$f":"IFERROR((30+J94*3)*(G94/G94),0)","v":0},{"$f":"IFERROR(INDEX($D$300:$D$700,MATCH($C94,$C$300:$C$700,0))*($G94/$G94),0)","v":0},{"$f":"J94/$B$9","v":{"$error":"#DIV/0!"}},{"$f":"IFERROR((INDEX($D$300:$D$700,MATCH($C94,$C$300:$C$700,0))-INDEX($E$300:$E$700,MATCH($C94,$C$300:$C$700,0)))*($G94/$G94),0)","v":0},{"$f":"IFERROR(INDEX($G$300:$G$700,MATCH($C94,$C$300:$C$700,0))*($G94/$G94),0)","v":0}]
[null,null,null,3,{"$f":"IFERROR(VLOOKUP($C95,'PRIPREMA (STATUS)'!$A$5:$F$128,2),\"\")","v":""},{"$f":"IFERROR(VLOOKUP($C95,'PRIPREMA (STATUS)'!$A$5:$F$128,3),\"\")","v":""},{"$f":"IFERROR(VLOOKUP($C95,'PRIPREMA (STATUS)'!$A$5:$F$128,4),\"\")","v":""},{"$f":"IFERROR(VLOOKUP($C95,'PRIPREMA (STATUS)'!$A$5:$F$128,5),\"\")","v":""},0,0,{"$error":"#DIV/0!"},0,0]
[null,null,null,4,{"$f":"IFERROR(VLOOKUP($C96,'PRIPREMA (STATUS)'!$A$5:$F$128,2),\"\")","v":""},{"$f":"IFERROR(VLOOKUP($C96,'PRIPREMA (STATUS)'!$A$5:$F$128,3),\"\")","v":""},{"$f":"IFERROR(VLOOKUP($C96,'PRIPREMA (STATUS)'!$A$5:$F$128,4),\"\")","v":""},{"$f":"IFERROR(VLOOKUP($C96,'PRIPREMA (STATUS)'!$A$5:$F$128,5),\"\")","v":""},0,0,{"$error":"#DIV/0!"},0,0]
[null,null,null,5,{"$f":"IFERROR(VLOOKUP($C97,'PRIPREMA (STATUS)'!$A$5:$F$128,2),\"\")","v":""},{"$f":"IFERROR(VLOOKUP($C97,'PRIPREMA (STATUS)'!$A$5:$F$128,3),\"\")","v":""},{"$f":"IFERROR(VLOOKUP($C97,'PRIPREMA (STATUS)'!$A$5:$F$128,4),\"\")","v":""},{"$f":"IFERROR(VLOOKUP($C97,'PRIPREMA (STATUS)'!$A$5:$F$128,5),\"\")","v":""},0,0,{"$error":"#DIV/0!"},0,0]
[null,null,null,6,{"$f":"IFERROR(VLOOKUP($C98,'PRIPREMA (STATUS)'!$A$5:$F$128,2),\"\")","v":""},{"$f":"IFERROR(VLOOKUP($C98,'PRIPREMA (STATUS)'!$A$5:$F$128,3),\"\")","v":""},{"$f":"IFERROR(VLOOKUP($C98,'PRIPREMA (STATUS)'!$A$5:$F$128,4),\"\")","v":""},{"$f":"IFERROR(VLOOKUP($C98,'PRIPREMA (STATUS)'!$A$5:$F$128,5),\"\")","v":""},0,0,{"$error":"#DIV/0!"},0,0]
[null,null,null,7,{"$f":"IFERROR(VLOOKUP($C99,'PRIPREMA (STATUS)'!$A$5:$F$128,2),\"\")","v":""},{"$f":"IFERROR(VLOOKUP($C99,'PRIPREMA (STATUS)'!$A$5:$F$128,3),\"\")","v":""},{"$f":"IFERROR(VLOOKUP($C99,'PRIPREMA (STATUS)'!$A$5:$F$128,4),\"\")","v":""},{"$f":"IFERROR(VLOOKUP($C99,'PRIPREMA (STATUS)'!$A$5:$F$128,5),\"\")","v":""},0,0,{"$error":"#DIV/0!"},0,0]
[null,null,null,8,{"$f":"IFERROR(VLOOKUP($C100,'PRIPREMA (STATUS)'!$A$5:$F$128,2),\"\")","v":""},{"$f":"IFERROR(VLOOKUP($C100,'PRIPREMA (STATUS)'!$A$5:$F$128,3),\"\")","v":""},{"$f":"IFERROR(VLOOKUP($C100,'PRIPREMA (STATUS)'!$A$5:$F$128,4),\"\")","v":""},{"$f":"IFERROR(VLOOKUP($C100,'PRIPREMA (STATUS)'!$A$5:$F$128,5),\"\")","v":""},0,0,{"$error":"#DIV/0!"},0,0]
[null,null,{"$f":"G101","v":0}]
[null,null,"BROJ SA STATUSA",null,"TIM ",{"$f":"C15","v":0},null,null,null,null,null,"(+/-)\nGEMOVI","%"]
[null,null,null,null,"Prezime","Ime","Br. tak","Klub","Bodovi","Osvojeni G.","Količnik",null,"KOEFICIJENT"]
[null,null,null,1,{"$f":"IFERROR(VLOOKUP($C104,'PRIPREMA (STATUS)'!$A$5:$F$128,2),\"\")","v":""},{"$f":"IFERROR(VLOOKUP($C104,'PRIPREMA (STATUS)'!$A$5:$F$128,3),\"\")","v":""},{"$f":"IFERROR(VLOOKUP($C104,'PRIPREMA (STATUS)'!$A$5:$F$128,4),\"\")","v":""},{"$f":"IFERROR(VLOOKUP($C104,'PRIPREMA (STATUS)'!$A$5:$F$128,5),\"\")","v":""},{"$f":"IFERROR((30+J104*3)*(G104/G104),0)","v":0},{"$f":"IFERROR(INDEX($D$300:$D$700,MATCH($C104,$C$300:$C$700,0))*($G104/$G104),0)","v":0},{"$f":"J104/$B$9","v":{"$error":"#DIV/0!"}},{"$f":"IFERROR((INDEX($D$300:$D$700,MATCH($C104,$C$300:$C$700,0))-INDEX($E$300:$E$700,MATCH($C104,$C$300:$C$700,0)))*($G104/$G104),0)","v":0},{"$f":"IFERROR(INDEX($G$300:$G$700,MATCH($C104,$C$300:$C$700,0))*($G104/$G104),0)","v":0}]
[null,null,null,2,{"$f":"IFERROR(VLOOKUP($C105,'PRIPREMA (STATUS)'!$A$5:$F$128,2),\"\")","v":""},{"$f":"IFERROR(VLOOKUP($C105,'PRIPREMA (STATUS)'!$A$5:$F$128,3),\"\")","v":""},{"$f":"IFERROR(VLOOKUP($C105,'PRIPREMA (STATUS)'!$A$5:$F$128,4),\"\")","v":""},{"$f":"IFERROR(VLOOKUP($C105,'PRIPREMA (STATUS)'!$A$5:$F$128,5),\"\")","v":""},{"$f":"IFERROR((30+J105*3)*(G105/G105),0)","v":0},{"$f":"IFERROR(INDEX($D$300:$D$700,MATCH($C105,$C$300:$C$700,0))*($G105/$G105),0)","v":0},{"$f":"J105/$B$9","v":{"$error":"#DIV/0!"}},{"$f":"IFERROR((INDEX($D$300:$D$700,MATCH($C105,$C$300:$C$700,0))-INDEX($E$300:$E$700,MATCH($C105,$C$300:$C$700,0)))*($G105/$G105),0)","v":0},{"$f":"IFERROR(INDEX($G$300:$G$700,MATCH($C105,$C$300:$C$700,0))*($G105/$G105),0)","v":0}]
[null,null,null,3,{"$f":"IFERROR(VLOOKUP($C106,'PRIPREMA (STATUS)'!$A$5:$F$128,2),\"\")","v":""},{"$f":"IFERROR(VLOOKUP($C106,'PRIPREMA (STATUS)'!$A$5:$F$128,3),\"\")","v":""},{"$f":"IFERROR(VLOOKUP($C106,'PRIPREMA (STATUS)'!$A$5:$F$128,4),\"\")","v":""},{"$f":"IFERROR(VLOOKUP($C106,'PRIPREMA (STATUS)'!$A$5:$F$128,5),\"\")","v":""},0,0,{"$error":"#DIV/0!"},0,0]
[null,null,null,4,{"$f":"IFERROR(VLOOKUP($C107,'PRIPREMA (STATUS)'!$A$5:$F$128,2),\"\")","v":""},{"$f":"IFERROR(VLOOKUP($C107,'PRIPREMA (STATUS)'!$A$5:$F$128,3),\"\")","v":""},{"$f":"IFERROR(VLOOKUP($C107,'PRIPREMA (STATUS)'!$A$5:$F$128,4),\"\")","v":""},{"$f":"IFERROR(VLOOKUP($C107,'PRIPREMA (STATUS)'!$A$5:$F$128,5),\"\")","v":""},0,0,{"$error":"#DIV/0!"},0,0]
[null,null,null,5,{"$f":"IFERROR(VLOOKUP($C108,'PRIPREMA (STATUS)'!$A$5:$F$128,2),\"\")","v":""},{"$f":"IFERROR(VLOOKUP($C108,'PRIPREMA (STATUS)'!$A$5:$F$128,3),\"\")","v":""},{"$f":"IFERROR(VLOOKUP($C108,'PRIPREMA (STATUS)'!$A$5:$F$128,4),\"\")","v":""},{"$f":"IFERROR(VLOOKUP($C108,'PRIPREMA (STATUS)'!$A$5:$F$128,5),\"\")","v":""},0,0,{"$error":"#DIV/0!"},0,0]
[null,null,null,6,{"$f":"IFERROR(VLOOKUP($C109,'PRIPREMA (STATUS)'!$A$5:$F$128,2),\"\")","v":""},{"$f":"IFERROR(VLOOKUP($C109,'PRIPREMA (STATUS)'!$A$5:$F$128,3),\"\")","v":""},{"$f":"IFERROR(VLOOKUP($C109,'PRIPREMA (STATUS)'!$A$5:$F$128,4),\"\")","v":""},{"$f":"IFERROR(VLOOKUP($C109,'PRIPREMA (STATUS)'!$A$5:$F$128,5),\"\")","v":""},0,0,{"$error":"#DIV/0!"},0,0]
[null,null,null,7,{"$f":"IFERROR(VLOOKUP($C110,'PRIPREMA (STATUS)'!$A$5:$F$128,2),\"\")","v":""},{"$f":"IFERROR(VLOOKUP($C110,'PRIPREMA (STATUS)'!$A$5:$F$128,3),\"\")","v":""},{"$f":"IFERROR(VLOOKUP($C110,'PRIPREMA (STATUS)'!$A$5:$F$128,4),\"\")","v":""},{"$f":"IFERROR(VLOOKUP($C110,'PRIPREMA (STATUS)'!$A$5:$F$128,5),\"\")","v":""},0,0,{"$error":"#DIV/0!"},0,0]
[null,null,null,8,{"$f":"IFERROR(VLOOKUP($C111,'PRIPREMA (STATUS)'!$A$5:$F$128,2),\"\")","v":""},{"$f":"IFERROR(VLOOKUP($C111,'PRIPREMA (STATUS)'!$A$5:$F$128,3),\"\")","v":""},{"$f":"IFERROR(VLOOKUP($C111,'PRIPREMA (STATUS)'!$A$5:$F$128,4),\"\")","v":""},{"$f":"IFERROR(VLOOKUP($C111,'PRIPREMA (STATUS)'!$A$5:$F$128,5),\"\")","v":""},0,0,{"$error":"#DIV/0!"},0,0]
[null,null,"BROJ SA STATUSA",null,"TIM ",{"$f":"C16","v":0},null,null,null,null,null,"(+/-)\nGEMOVI","%"]
[null,null,null,null,"Prezime","Ime","Br. tak","Klub","Bodovi","Osvojeni G.","Količnik",null,"KOEFICIJENT"]
[null,null,null,1,{"$f":"IFERROR(VLOOKUP($C114,'PRIPREMA (STATUS)'!$A$5:$F$128,2),\"\")","v":""},{"$f":"IFERROR(VLOOKUP($C114,'PRIPREMA (STATUS)'!$A$5:$F$128,3),\"\")","v":""},{"$f":"IFERROR(VLOOKUP($C114,'PRIPREMA (STATUS)'!$A$5:$F$128,4),\"\")","v":""},{"$f":"IFERROR(VLOOKUP($C114,'PRIPREMA (STATUS)'!$A$5:$F$128,5),\"\")","v":""},{"$f":"IFERROR((30+J114*3)*(G114/G114),0)","v":0},{"$f":"IFERROR(INDEX($D$300:$D$700,MATCH($C114,$C$300:$C$700,0))*($G114/$G114),0)","v":0},{"$f":"J114/$B$9","v":{"$error":"#DIV/0!"}},{"$f":"IFERROR((INDEX($D$300:$D$700,MATCH($C114,$C$300:$C$700,0))-INDEX($E$300:$E$700,MATCH($C114,$C$300:$C$700,0)))*($G114/$G114),0)","v":0},{"$f":"IFERROR(INDEX($G$300:$G$700,MATCH($C114,$C$300:$C$700,0))*($G114/$G114),0)","v":0}]
[null,null,null,2,{"$f":"IFERROR(VLOOKUP($C115,'PRIPREMA (STATUS)'!$A$5:$F$128,2),\"\")","v":""},{"$f":"IFERROR(VLOOKUP($C115,'PRIPREMA (STATUS)'!$A$5:$F$128,3),\"\")","v":""},{"$f":"IFERROR(VLOOKUP($C115,'PRIPREMA (STATUS)'!$A$5:$F$128,4),\"\")","v":""},{"$f":"IFERROR(VLOOKUP($C115,'PRIPREMA (STATUS)'!$A$5:$F$128,5),\"\")","v":""},{"$f":"IFERROR((30+J115*3)*(G115/G115),0)","v":0},{"$f":"IFERROR(INDEX($D$300:$D$700,MATCH($C115,$C$300:$C$700,0))*($G115/$G115),0)","v":0},{"$f":"J115/$B$9","v":{"$error":"#DIV/0!"}},{"$f":"IFERROR((INDEX($D$300:$D$700,MATCH($C115,$C$300:$C$700,0))-INDEX($E$300:$E$700,MATCH($C115,$C$300:$C$700,0)))*($G115/$G115),0)","v":0},{"$f":"IFERROR(INDEX($G$300:$G$700,MATCH($C115,$C$300:$C$700,0))*($G115/$G115),0)","v":0}]
[null,null,null,3,{"$f":"IFERROR(VLOOKUP($C116,'PRIPREMA (STATUS)'!$A$5:$F$128,2),\"\")","v":""},{"$f":"IFERROR(VLOOKUP($C116,'PRIPREMA (STATUS)'!$A$5:$F$128,3),\"\")","v":""},{"$f":"IFERROR(VLOOKUP($C116,'PRIPREMA (STATUS)'!$A$5:$F$128,4),\"\")","v":""},{"$f":"IFERROR(VLOOKUP($C116,'PRIPREMA (STATUS)'!$A$5:$F$128,5),\"\")","v":""},0,0,{"$error":"#DIV/0!"},0,0]
[null,null,null,4,{"$f":"IFERROR(VLOOKUP($C117,'PRIPREMA (STATUS)'!$A$5:$F$128,2),\"\")","v":""},{"$f":"IFERROR(VLOOKUP($C117,'PRIPREMA (STATUS)'!$A$5:$F$128,3),\"\")","v":""},{"$f":"IFERROR(VLOOKUP($C117,'PRIPREMA (STATUS)'!$A$5:$F$128,4),\"\")","v":""},{"$f":"IFERROR(VLOOKUP($C117,'PRIPREMA (STATUS)'!$A$5:$F$128,5),\"\")","v":""},0,0,{"$error":"#DIV/0!"},0,0]
[null,null,null,5,{"$f":"IFERROR(VLOOKUP($C118,'PRIPREMA (STATUS)'!$A$5:$F$128,2),\"\")","v":""},{"$f":"IFERROR(VLOOKUP($C118,'PRIPREMA (STATUS)'!$A$5:$F$128,3),\"\")","v":""},{"$f":"IFERROR(VLOOKUP($C118,'PRIPREMA (STATUS)'!$A$5:$F$128,4),\"\")","v":""},{"$f":"IFERROR(VLOOKUP($C118,'PRIPREMA (STATUS)'!$A$5:$F$128,5),\"\")","v":""},0,0,{"$error":"#DIV/0!"},0,0]
[null,null,null,6,{"$f":"IFERROR(VLOOKUP($C119,'PRIPREMA (STATUS)'!$A$5:$F$128,2),\"\")","v":""},{"$f":"IFERROR(VLOOKUP($C119,'PRIPREMA (STATUS)'!$A$5:$F$128,3),\"\")","v":""},{"$f":"IFERROR(VLOOKUP($C119,'PRIPREMA (STATUS)'!$A$5:$F$128,4),\"\")","v":""},{"$f":"IFERROR(VLOOKUP($C119,'PRIPREMA (STATUS)'!$A$5:$F$128,5),\"\")","v":""},0,0,{"$error":"#DIV/0!"},0,0]
[null,null,null,7,{"$f":"IFERROR(VLOOKUP($C120,'PRIPREMA (STATUS)'!$A$5:$F$128,2),\"\")","v":""},{"$f":"IFERROR(VLOOKUP($C120,'PRIPREMA (STATUS)'!$A$5:$F$128,3),\"\")","v":""},{"$f":"IFERROR(VLOOKUP($C120,'PRIPREMA (STATUS)'!$A$5:$F$128,4),\"\")","v":""},{"$f":"IFERROR(VLOOKUP($C120,'PRIPREMA (STATUS)'!$A$5:$F$128,5),\"\")","v":""},0,0,{"$error":"#DIV/0!"},0,0]
[null,null,null,8,{"$f":"IFERROR(VLOOKUP($C121,'PRIPREMA (STATUS)'!$A$5:$F$128,2),\"\")","v":""},{"$f":"IFERROR(VLOOKUP($C121,'PRIPREMA (STATUS)'!$A$5:$F$128,3),\"\")","v":""},{"$f":"IFERROR(VLOOKUP($C121,'PRIPREMA (STATUS)'!$A$5:$F$128,4),\"\")","v":""},{"$f":"IFERROR(VLOOKUP($C121,'PRIPREMA (STATUS)'!$A$5:$F$128,5),\"\")","v":""},0,0,{"$error":"#DIV/0!"},0,0]
[null,null,{"$f":"G122","v":0}]
[null,null,"BROJ SA STATUSA",null,"TIM ",{"$f":"C17","v":0},null,null,null,null,null,"(+/-)\nGEMOVI","%"]
[null,null,null,null,"Prezime","Ime","Br. tak","Klub","Bodovi","Osvojeni G.","Količnik",null,"KOEFICIJENT"]
[null,null,null,1,{"$f":"IFERROR(VLOOKUP($C125,'PRIPREMA (STATUS)'!$A$5:$F$128,2),\"\")","v":""},{"$f":"IFERROR(VLOOKUP($C125,'PRIPREMA (STATUS)'!$A$5:$F$128,3),\"\")","v":""},{"$f":"IFERROR(VLOOKUP($C125,'PRIPREMA (STATUS)'!$A$5:$F$128,4),\"\")","v":""},{"$f":"IFERROR(VLOOKUP($C125,'PRIPREMA (STATUS)'!$A$5:$F$128,5),\"\")","v":""},{"$f":"IFERROR((30+J125*3)*(G125/G125),0)","v":0},{"$f":"IFERROR(INDEX($D$300:$D$700,MATCH($C125,$C$300:$C$700,0))*($G125/$G125),0)","v":0},{"$f":"J125/$B$9","v":{"$error":"#DIV/0!"}},{"$f":"IFERROR((INDEX($D$300:$D$700,MATCH($C125,$C$300:$C$700,0))-INDEX($E$300:$E$700,MATCH($C125,$C$300:$C$700,0)))*($G125/$G125),0)","v":0},{"$f":"IFERROR(INDEX($G$300:$G$700,MATCH($C125,$C$300:$C$700,0))*($G125/$G125),0)","v":0}]
[null,null,null,2,{"$f":"IFERROR(VLOOKUP($C126,'PRIPREMA (STATUS)'!$A$5:$F$128,2),\"\")","v":""},{"$f":"IFERROR(VLOOKUP($C126,'PRIPREMA (STATUS)'!$A$5:$F$128,3),\"\")","v":""},{"$f":"IFERROR(VLOOKUP($C126,'PRIPREMA (STATUS)'!$A$5:$F$128,4),\"\")","v":""},{"$f":"IFERROR(VLOOKUP($C126,'PRIPREMA (STATUS)'!$A$5:$F$128,5),\"\")","v":""},{"$f":"IFERROR((30+J126*3)*(G126/G126),0)","v":0},{"$f":"IFERROR(INDEX($D$300:$D$700,MATCH($C126,$C$300:$C$700,0))*($G126/$G126),0)","v":0},{"$f":"J126/$B$9","v":{"$error":"#DIV/0!"}},{"$f":"IFERROR((INDEX($D$300:$D$700,MATCH($C126,$C$300:$C$700,0))-INDEX($E$300:$E$700,MATCH($C126,$C$300:$C$700,0)))*($G126/$G126),0)","v":0},{"$f":"IFERROR(INDEX($G$300:$G$700,MATCH($C126,$C$300:$C$700,0))*($G126/$G126),0)","v":0}]
[null,null,null,3,{"$f":"IFERROR(VLOOKUP($C127,'PRIPREMA (STATUS)'!$A$5:$F$128,2),\"\")","v":""},{"$f":"IFERROR(VLOOKUP($C127,'PRIPREMA (STATUS)'!$A$5:$F$128,3),\"\")","v":""},{"$f":"IFERROR(VLOOKUP($C127,'PRIPREMA (STATUS)'!$A$5:$F$128,4),\"\")","v":""},{"$f":"IFERROR(VLOOKUP($C127,'PRIPREMA (STATUS)'!$A$5:$F$128,5),\"\")","v":""},0,0,{"$error":"#DIV/0!"},0,0]
[null,null,null,4,{"$f":"IFERROR(VLOOKUP($C128,'PRIPREMA (STATUS)'!$A$5:$F$128,2),\"\")","v":""},{"$f":"IFERROR(VLOOKUP($C128,'PRIPREMA (STATUS)'!$A$5:$F$128,3),\"\")","v":""},{"$f":"IFERROR(VLOOKUP($C128,'PRIPREMA (STATUS)'!$A$5:$F$128,4),\"\")","v":""},{"$f":"IFERROR(VLOOKUP($C128,'PRIPREMA (STATUS)'!$A$5:$F$128,5),\"\")","v":""},0,0,{"$error":"#DIV/0!"},0,0]
[null,null,null,5,{"$f":"IFERROR(VLOOKUP($C129,'PRIPREMA (STATUS)'!$A$5:$F$128,2),\"\")","v":""},{"$f":"IFERROR(VLOOKUP($C129,'PRIPREMA (STATUS)'!$A$5:$F$128,3),\"\")","v":""},{"$f":"IFERROR(VLOOKUP($C129,'PRIPREMA (STATUS)'!$A$5:$F$128,4),\"\")","v":""},{"$f":"IFERROR(VLOOKUP($C129,'PRIPREMA (STATUS)'!$A$5:$F$128,5),\"\")","v":""},0,0,{"$error":"#DIV/0!"},0,0]
[null,null,null,6,{"$f":"IFERROR(VLOOKUP($C130,'PRIPREMA (STATUS)'!$A$5:$F$128,2),\"\")","v":""},{"$f":"IFERROR(VLOOKUP($C130,'PRIPREMA (STATUS)'!$A$5:$F$128,3),\"\")","v":""},{"$f":"IFERROR(VLOOKUP($C130,'PRIPREMA (STATUS)'!$A$5:$F$128,4),\"\")","v":""},{"$f":"IFERROR(VLOOKUP($C130,'PRIPREMA (STATUS)'!$A$5:$F$128,5),\"\")","v":""},0,0,{"$error":"#DIV/0!"},0,0]
[null,null,null,7,{"$f":"IFERROR(VLOOKUP($C131,'PRIPREMA (STATUS)'!$A$5:$F$128,2),\"\")","v":""},{"$f":"IFERROR(VLOOKUP($C131,'PRIPREMA (STATUS)'!$A$5:$F$128,3),\"\")","v":""},{"$f":"IFERROR(VLOOKUP($C131,'PRIPREMA (STATUS)'!$A$5:$F$128,4),\"\")","v":""},{"$f":"IFERROR(VLOOKUP($C131,'PRIPREMA (STATUS)'!$A$5:$F$128,5),\"\")","v":""},0,0,{"$error":"#DIV/0!"},0,0]
[null,null,null,8,{"$f":"IFERROR(VLOOKUP($C132,'PRIPREMA (STATUS)'!$A$5:$F$128,2),\"\")","v":""},{"$f":"IFERROR(VLOOKUP($C132,'PRIPREMA (STATUS)'!$A$5:$F$128,3),\"\")","v":""},{"$f":"IFERROR(VLOOKUP($C132,'PRIPREMA (STATUS)'!$A$5:$F$128,4),\"\")","v":""},{"$f":"IFERROR(VLOOKUP($C132,'PRIPREMA (STATUS)'!$A$5:$F$128,5),\"\")","v":""},0,0,{"$error":"#DIV/0!"},0,0]
[null,null,{"$f":"G133","v":0}]
[null,null,"BROJ SA STATUSA",null,"TIM ",{"$f":"C18","v":0},null,null,null,null,null,"(+/-)\nGEMOVI","%"]
[null,null,null,null,"Prezime","Ime","Br. tak","Klub","Bodovi","Osvojeni G.","Količnik",null,"KOEFICIJENT"]
[null,null,null,1,{"$f":"IFERROR(VLOOKUP($C136,'PRIPREMA (STATUS)'!$A$5:$F$128,2),\"\")","v":""},{"$f":"IFERROR(VLOOKUP($C136,'PRIPREMA (STATUS)'!$A$5:$F$128,3),\"\")","v":""},{"$f":"IFERROR(VLOOKUP($C136,'PRIPREMA (STATUS)'!$A$5:$F$128,4),\"\")","v":""},{"$f":"IFERROR(VLOOKUP($C136,'PRIPREMA (STATUS)'!$A$5:$F$128,5),\"\")","v":""},{"$f":"IFERROR((30+J136*3)*(G136/G136),0)","v":0},{"$f":"IFERROR(INDEX($D$300:$D$700,MATCH($C136,$C$300:$C$700,0))*($G136/$G136),0)","v":0},{"$f":"J136/$B$9","v":{"$error":"#DIV/0!"}},{"$f":"IFERROR((INDEX($D$300:$D$700,MATCH($C136,$C$300:$C$700,0))-INDEX($E$300:$E$700,MATCH($C136,$C$300:$C$700,0)))*($G136/$G136),0)","v":0},{"$f":"IFERROR(INDEX($G$300:$G$700,MATCH($C136,$C$300:$C$700,0))*($G136/$G136),0)","v":0}]
[null,null,null,2,{"$f":"IFERROR(VLOOKUP($C137,'PRIPREMA (STATUS)'!$A$5:$F$128,2),\"\")","v":""},{"$f":"IFERROR(VLOOKUP($C137,'PRIPREMA (STATUS)'!$A$5:$F$128,3),\"\")","v":""},{"$f":"IFERROR(VLOOKUP($C137,'PRIPREMA (STATUS)'!$A$5:$F$128,4),\"\")","v":""},{"$f":"IFERROR(VLOOKUP($C137,'PRIPREMA (STATUS)'!$A$5:$F$128,5),\"\")","v":""},{"$f":"IFERROR((30+J137*3)*(G137/G137),0)","v":0},{"$f":"IFERROR(INDEX($D$300:$D$700,MATCH($C137,$C$300:$C$700,0))*($G137/$G137),0)","v":0},{"$f":"J137/$B$9","v":{"$error":"#DIV/0!"}},{"$f":"IFERROR((INDEX($D$300:$D$700,MATCH($C137,$C$300:$C$700,0))-INDEX($E$300:$E$700,MATCH($C137,$C$300:$C$700,0)))*($G137/$G137),0)","v":0},{"$f":"IFERROR(INDEX($G$300:$G$700,MATCH($C137,$C$300:$C$700,0))*($G137/$G137),0)","v":0}]
[null,null,null,3,{"$f":"IFERROR(VLOOKUP($C138,'PRIPREMA (STATUS)'!$A$5:$F$128,2),\"\")","v":""},{"$f":"IFERROR(VLOOKUP($C138,'PRIPREMA (STATUS)'!$A$5:$F$128,3),\"\")","v":""},{"$f":"IFERROR(VLOOKUP($C138,'PRIPREMA (STATUS)'!$A$5:$F$128,4),\"\")","v":""},{"$f":"IFERROR(VLOOKUP($C138,'PRIPREMA (STATUS)'!$A$5:$F$128,5),\"\")","v":""},0,0,{"$error":"#DIV/0!"},0,0]
[null,null,null,4,{"$f":"IFERROR(VLOOKUP($C139,'PRIPREMA (STATUS)'!$A$5:$F$128,2),\"\")","v":""},{"$f":"IFERROR(VLOOKUP($C139,'PRIPREMA (STATUS)'!$A$5:$F$128,3),\"\")","v":""},{"$f":"IFERROR(VLOOKUP($C139,'PRIPREMA (STATUS)'!$A$5:$F$128,4),\"\")","v":""},{"$f":"IFERROR(VLOOKUP($C139,'PRIPREMA (STATUS)'!$A$5:$F$128,5),\"\")","v":""},0,0,{"$error":"#DIV/0!"},0,0]
[null,null,null,5,{"$f":"IFERROR(VLOOKUP($C140,'PRIPREMA (STATUS)'!$A$5:$F$128,2),\"\")","v":""},{"$f":"IFERROR(VLOOKUP($C140,'PRIPREMA (STATUS)'!$A$5:$F$128,3),\"\")","v":""},{"$f":"IFERROR(VLOOKUP($C140,'PRIPREMA (STATUS)'!$A$5:$F$128,4),\"\")","v":""},{"$f":"IFERROR(VLOOKUP($C140,'PRIPREMA (STATUS)'!$A$5:$F$128,5),\"\")","v":""},0,0,{"$error":"#DIV/0!"},0,0]
[null,null,null,6,{"$f":"IFERROR(VLOOKUP($C141,'PRIPREMA (STATUS)'!$A$5:$F$128,2),\"\")","v":""},{"$f":"IFERROR(VLOOKUP($C141,'PRIPREMA (STATUS)'!$A$5:$F$128,3),\"\")","v":""},{"$f":"IFERROR(VLOOKUP($C141,'PRIPREMA (STATUS)'!$A$5:$F$128,4),\"\")","v":""},{"$f":"IFERROR(VLOOKUP($C141,'PRIPREMA (STATUS)'!$A$5:$F$128,5),\"\")","v":""},0,0,{"$error":"#DIV/0!"},0,0]
[null,null,null,7,{"$f":"IFERROR(VLOOKUP($C142,'PRIPREMA (STATUS)'!$A$5:$F$128,2),\"\")","v":""},{"$f":"IFERROR(VLOOKUP($C142,'PRIPREMA (STATUS)'!$A$5:$F$128,3),\"\")","v":""},{"$f":"IFERROR(VLOOKUP($C142,'PRIPREMA (STATUS)'!$A$5:$F$128,4),\"\")","v":""},{"$f":"IFERROR(VLOOKUP($C142,'PRIPREMA (STATUS)'!$A$5:$F$128,5),\"\")","v":""},0,0,{"$error":"#DIV/0!"},0,0]
[null,null,null,8,{"$f":"IFERROR(VLOOKUP($C143,'PRIPREMA (STATUS)'!$A$5:$F$128,2),\"\")","v":""},{"$f":"IFERROR(VLOOKUP($C143,'PRIPREMA (STATUS)'!$A$5:$F$128,3),\"\")","v":""},{"$f":"IFERROR(VLOOKUP($C143,'PRIPREMA (STATUS)'!$A$5:$F$128,4),\"\")","v":""},{"$f":"IFERROR(VLOOKUP($C143,'PRIPREMA (STATUS)'!$A$5:$F$128,5),\"\")","v":""},0,0,{"$error":"#DIV/0!"},0,0]
[]
[null,null,"BROJ SA STATUSA",null,"TIM ",{"$f":"-C19","v":0},null,null,null,null,null,"(+/-)\nGEMOVI","%"]
[null,null,null,null,"Prezime","Ime","Br. tak","Klub","Bodovi","Osvojeni G.","Količnik",null,"KOEFICIJENT"]
[null,null,null,1,{"$f":"IFERROR(VLOOKUP($C147,'PRIPREMA (STATUS)'!$A$5:$F$128,2),\"\")","v":""},{"$f":"IFERROR(VLOOKUP($C147,'PRIPREMA (STATUS)'!$A$5:$F$128,3),\"\")","v":""},{"$f":"IFERROR(VLOOKUP($C147,'PRIPREMA (STATUS)'!$A$5:$F$128,4),\"\")","v":""},{"$f":"IFERROR(VLOOKUP($C147,'PRIPREMA (STATUS)'!$A$5:$F$128,5),\"\")","v":""},{"$f":"IFERROR((30+J147*3)*(G147/G147),0)","v":0},{"$f":"IFERROR(INDEX($D$300:$D$700,MATCH($C147,$C$300:$C$700,0))*($G147/$G147),0)","v":0},{"$f":"J147/$B$9","v":{"$error":"#DIV/0!"}},{"$f":"IFERROR((INDEX($D$300:$D$700,MATCH($C147,$C$300:$C$700,0))-INDEX($E$300:$E$700,MATCH($C147,$C$300:$C$700,0)))*($G147/$G147),0)","v":0},{"$f":"IFERROR(INDEX($G$300:$G$700,MATCH($C147,$C$300:$C$700,0))*($G147/$G147),0)","v":0}]
[null,null,null,2,{"$f":"IFERROR(VLOOKUP($C148,'PRIPREMA (STATUS)'!$A$5:$F$128,2),\"\")","v":""},{"$f":"IFERROR(VLOOKUP($C148,'PRIPREMA (STATUS)'!$A$5:$F$128,3),\"\")","v":""},{"$f":"IFERROR(VLOOKUP($C148,'PRIPREMA (STATUS)'!$A$5:$F$128,4),\"\")","v":""},{"$f":"IFERROR(VLOOKUP($C148,'PRIPREMA (STATUS)'!$A$5:$F$128,5),\"\")","v":""},{"$f":"IFERROR((30+J148*3)*(G148/G148),0)","v":0},{"$f":"IFERROR(INDEX($D$300:$D$700,MATCH($C148,$C$300:$C$700,0))*($G148/$G148),0)","v":0},{"$f":"J148/$B$9","v":{"$error":"#DIV/0!"}},{"$f":"IFERROR((INDEX($D$300:$D$700,MATCH($C148,$C$300:$C$700,0))-INDEX($E$300:$E$700,MATCH($C148,$C$300:$C$700,0)))*($G148/$G148),0)","v":0},{"$f":"IFERROR(INDEX($G$300:$G$700,MATCH($C148,$C$300:$C$700,0))*($G148/$G148),0)","v":0}]
[null,null,null,3,{"$f":"IFERROR(VLOOKUP($C149,'PRIPREMA (STATUS)'!$A$5:$F$128,2),\"\")","v":""},{"$f":"IFERROR(VLOOKUP($C149,'PRIPREMA (STATUS)'!$A$5:$F$128,3),\"\")","v":""},{"$f":"IFERROR(VLOOKUP($C149,'PRIPREMA (STATUS)'!$A$5:$F$128,4),\"\")","v":""},{"$f":"IFERROR(VLOOKUP($C149,'PRIPREMA (STATUS)'!$A$5:$F$128,5),\"\")","v":""},0,0,{"$error":"#DIV/0!"},0,0]
[null,null,null,4,{"$f":"IFERROR(VLOOKUP($C150,'PRIPREMA (STATUS)'!$A$5:$F$128,2),\"\")","v":""},{"$f":"IFERROR(VLOOKUP($C150,'PRIPREMA (STATUS)'!$A$5:$F$128,3),\"\")","v":""},{"$f":"IFERROR(VLOOKUP($C150,'PRIPREMA (STATUS)'!$A$5:$F$128,4),\"\")","v":""},{"$f":"IFERROR(VLOOKUP($C150,'PRIPREMA (STATUS)'!$A$5:$F$128,5),\"\")","v":""},0,0,{"$error":"#DIV/0!"},0,0]
[null,null,null,5,{"$f":"IFERROR(VLOOKUP($C151,'PRIPREMA (STATUS)'!$A$5:$F$128,2),\"\")","v":""},{"$f":"IFERROR(VLOOKUP($C151,'PRIPREMA (STATUS)'!$A$5:$F$128,3),\"\")","v":""},{"$f":"IFERROR(VLOOKUP($C151,'PRIPREMA (STATUS)'!$A$5:$F$128,4),\"\")","v":""},{"$f":"IFERROR(VLOOKUP($C151,'PRIPREMA (STATUS)'!$A$5:$F$128,5),\"\")","v":""},0,0,{"$error":"#DIV/0!"},0,0]
[null,null,null,6,{"$f":"IFERROR(VLOOKUP($C152,'PRIPREMA (STATUS)'!$A$5:$F$128,2),\"\")","v":""},{"$f":"IFERROR(VLOOKUP($C152,'PRIPREMA (STATUS)'!$A$5:$F$128,3),\"\")","v":""},{"$f":"IFERROR(VLOOKUP($C152,'PRIPREMA (STATUS)'!$A$5:$F$128,4),\"\")","v":""},{"$f":"IFERROR(VLOOKUP($C152,'PRIPREMA (STATUS)'!$A$5:$F$128,5),\"\")","v":""},0,0,{"$error":"#DIV/0!"},0,0]
[null,null,null,7,{"$f":"IFERROR(VLOOKUP($C153,'PRIPREMA (STATUS)'!$A$5:$F$128,2),\"\")","v":""},{"$f":"IFERROR(VLOOKUP($C153,'PRIPREMA (STATUS)'!$A$5:$F$128,3),\"\")","v":""},{"$f":"IFERROR(VLOOKUP($C153,'PRIPREMA (STATUS)'!$A$5:$F$128,4),\"\")","v":""},{"$f":"IFERROR(VLOOKUP($C153,'PRIPREMA (STATUS)'!$A$5:$F$128,5),\"\")","v":""},0,0,{"$error":"#DIV/0!"},0,0]
[null,null,null,8,{"$f":"IFERROR(VLOOKUP($C154,'PRIPREMA (STATUS)'!$A$5:$F$128,2),\"\")","v":""},{"$f":"IFERROR(VLOOKUP($C154,'PRIPREMA (STATUS)'!$A$5:$F$128,3),\"\")","v":""},{"$f":"IFERROR(VLOOKUP($C154,'PRIPREMA (STATUS)'!$A$5:$F$128,4),\"\")","v":""},{"$f":"IFERROR(VLOOKUP($C154,'PRIPREMA (STATUS)'!$A$5:$F$128,5),\"\")","v":""},0,0,{"$error":"#DIV/0!"},0,0]
[]
[null,null,"BROJ SA STATUSA",null,"TIM ",{"$f":"C20","v":0},null,null,null,null,null,"(+/-)\nGEMOVI","%"]
[null,null,null,null,"Prezime","Ime","Br. tak","Klub","Bodovi","Osvojeni G.","Količnik",null,"KOEFICIJENT"]
[null,null,null,1,{"$f":"IFERROR(VLOOKUP($C158,'PRIPREMA (STATUS)'!$A$5:$F$128,2),\"\")","v":""},{"$f":"IFERROR(VLOOKUP($C158,'PRIPREMA (STATUS)'!$A$5:$F$128,3),\"\")","v":""},{"$f":"IFERROR(VLOOKUP($C158,'PRIPREMA (STATUS)'!$A$5:$F$128,4),\"\")","v":""},{"$f":"IFERROR(VLOOKUP($C158,'PRIPREMA (STATUS)'!$A$5:$F$128,5),\"\")","v":""},{"$f":"IFERROR((30+J158*3)*(G158/G158),0)","v":0},{"$f":"IFERROR(INDEX($D$300:$D$700,MATCH($C158,$C$300:$C$700,0))*($G158/$G158),0)","v":0},{"$f":"J158/$B$9","v":{"$error":"#DIV/0!"}},{"$f":"IFERROR((INDEX($D$300:$D$700,MATCH($C158,$C$300:$C$700,0))-INDEX($E$300:$E$700,MATCH($C158,$C$300:$C$700,0)))*($G158/$G158),0)","v":0},{"$f":"IFERROR(INDEX($G$300:$G$700,MATCH($C158,$C$300:$C$700,0))*($G158/$G158),0)","v":0}]
[null,null,null,2,{"$f":"IFERROR(VLOOKUP($C159,'PRIPREMA (STATUS)'!$A$5:$F$128,2),\"\")","v":""},{"$f":"IFERROR(VLOOKUP($C159,'PRIPREMA (STATUS)'!$A$5:$F$128,3),\"\")","v":""},{"$f":"IFERROR(VLOOKUP($C159,'PRIPREMA (STATUS)'!$A$5:$F$128,4),\"\")","v":""},{"$f":"IFERROR(VLOOKUP($C159,'PRIPREMA (STATUS)'!$A$5:$F$128,5),\"\")","v":""},{"$f":"IFERROR((30+J159*3)*(G159/G159),0)","v":0},{"$f":"IFERROR(INDEX($D$300:$D$700,MATCH($C159,$C$300:$C$700,0))*($G159/$G159),0)","v":0},{"$f":"J159/$B$9","v":{"$error":"#DIV/0!"}},{"$f":"IFERROR((INDEX($D$300:$D$700,MATCH($C159,$C$300:$C$700,0))-INDEX($E$300:$E$700,MATCH($C159,$C$300:$C$700,0)))*($G159/$G159),0)","v":0},{"$f":"IFERROR(INDEX($G$300:$G$700,MATCH($C159,$C$300:$C$700,0))*($G159/$G159),0)","v":0}]
[null,null,null,3,{"$f":"IFERROR(VLOOKUP($C160,'PRIPREMA (STATUS)'!$A$5:$F$128,2),\"\")","v":""},{"$f":"IFERROR(VLOOKUP($C160,'PRIPREMA (STATUS)'!$A$5:$F$128,3),\"\")","v":""},{"$f":"IFERROR(VLOOKUP($C160,'PRIPREMA (STATUS)'!$A$5:$F$128,4),\"\")","v":""},{"$f":"IFERROR(VLOOKUP($C160,'PRIPREMA (STATUS)'!$A$5:$F$128,5),\"\")","v":""},0,0,{"$error":"#DIV/0!"},0,0]
[null,null,null,4,{"$f":"IFERROR(VLOOKUP($C161,'PRIPREMA (STATUS)'!$A$5:$F$128,2),\"\")","v":""},{"$f":"IFERROR(VLOOKUP($C161,'PRIPREMA (STATUS)'!$A$5:$F$128,3),\"\")","v":""},{"$f":"IFERROR(VLOOKUP($C161,'PRIPREMA (STATUS)'!$A$5:$F$128,4),\"\")","v":""},{"$f":"IFERROR(VLOOKUP($C161,'PRIPREMA (STATUS)'!$A$5:$F$128,5),\"\")","v":""},0,0,{"$error":"#DIV/0!"},0,0]
[null,null,null,5,{"$f":"IFERROR(VLOOKUP($C162,'PRIPREMA (STATUS)'!$A$5:$F$128,2),\"\")","v":""},{"$f":"IFERROR(VLOOKUP($C162,'PRIPREMA (STATUS)'!$A$5:$F$128,3),\"\")","v":""},{"$f":"IFERROR(VLOOKUP($C162,'PRIPREMA (STATUS)'!$A$5:$F$128,4),\"\")","v":""},{"$f":"IFERROR(VLOOKUP($C162,'PRIPREMA (STATUS)'!$A$5:$F$128,5),\"\")","v":""},0,0,{"$error":"#DIV/0!"},0,0]
[null,null,null,6,{"$f":"IFERROR(VLOOKUP($C163,'PRIPREMA (STATUS)'!$A$5:$F$128,2),\"\")","v":""},{"$f":"IFERROR(VLOOKUP($C163,'PRIPREMA (STATUS)'!$A$5:$F$128,3),\"\")","v":""},{"$f":"IFERROR(VLOOKUP($C163,'PRIPREMA (STATUS)'!$A$5:$F$128,4),\"\")","v":""},{"$f":"IFERROR(VLOOKUP($C163,'PRIPREMA (STATUS)'!$A$5:$F$128,5),\"\")","v":""},0,0,{"$error":"#DIV/0!"},0,0]
[null,null,null,7,{"$f":"IFERROR(VLOOKUP($C164,'PRIPREMA (STATUS)'!$A$5:$F$128,2),\"\")","v":""},{"$f":"IFERROR(VLOOKUP($C164,'PRIPREMA (STATUS)'!$A$5:$F$128,3),\"\")","v":""},{"$f":"IFERROR(VLOOKUP($C164,'PRIPREMA (STATUS)'!$A$5:$F$128,4),\"\")","v":""},{"$f":"IFERROR(VLOOKUP($C164,'PRIPREMA (STATUS)'!$A$5:$F$128,5),\"\")","v":""},0,0,{"$error":"#DIV/0!"},0,0]
[null,null,null,8,{"$f":"IFERROR(VLOOKUP($C165,'PRIPREMA (STATUS)'!$A$5:$F$128,2),\"\")","v":""},{"$f":"IFERROR(VLOOKUP($C165,'PRIPREMA (STATUS)'!$A$5:$F$128,3),\"\")","v":""},{"$f":"IFERROR(VLOOKUP($C165,'PRIPREMA (STATUS)'!$A$5:$F$128,4),\"\")","v":""},{"$f":"IFERROR(VLOOKUP($C165,'PRIPREMA (STATUS)'!$A$5:$F$128,5),\"\")","v":""},0,0,{"$error":"#DIV/0!"},0,0]
[]
[null,null,"BROJ SA STATUSA",null,"TIM ",{"$f":"C21","v":0},null,null,null,null,null,"(+/-)\nGEMOVI","%"]
[null,null,null,null,"Prezime","Ime","Br. tak","Klub","Bodovi","Osvojeni G.","Količnik",null,"KOEFICIJENT"]
[null,null,null,1,{"$f":"IFERROR(VLOOKUP($C169,'PRIPREMA (STATUS)'!$A$5:$F$128,2),\"\")","v":""},{"$f":"IFERROR(VLOOKUP($C169,'PRIPREMA (STATUS)'!$A$5:$F$128,3),\"\")","v":""},{"$f":"IFERROR(VLOOKUP($C169,'PRIPREMA (STATUS)'!$A$5:$F$128,4),\"\")","v":""},{"$f":"IFERROR(VLOOKUP($C169,'PRIPREMA (STATUS)'!$A$5:$F$128,5),\"\")","v":""},{"$f":"IFERROR((30+J169*3)*(G169/G169),0)","v":0},{"$f":"IFERROR(INDEX($D$300:$D$700,MATCH($C169,$C$300:$C$700,0))*($G169/$G169),0)","v":0},{"$f":"J169/$B$9","v":{"$error":"#DIV/0!"}},{"$f":"IFERROR((INDEX($D$300:$D$700,MATCH($C169,$C$300:$C$700,0))-INDEX($E$300:$E$700,MATCH($C169,$C$300:$C$700,0)))*($G169/$G169),0)","v":0},{"$f":"IFERROR(INDEX($G$300:$G$700,MATCH($C169,$C$300:$C$700,0))*($G169/$G169),0)","v":0}]
[null,null,null,2,{"$f":"IFERROR(VLOOKUP($C170,'PRIPREMA (STATUS)'!$A$5:$F$128,2),\"\")","v":""},{"$f":"IFERROR(VLOOKUP($C170,'PRIPREMA (STATUS)'!$A$5:$F$128,3),\"\")","v":""},{"$f":"IFERROR(VLOOKUP($C170,'PRIPREMA (STATUS)'!$A$5:$F$128,4),\"\")","v":""},{"$f":"IFERROR(VLOOKUP($C170,'PRIPREMA (STATUS)'!$A$5:$F$128,5),\"\")","v":""},{"$f":"IFERROR((30+J170*3)*(G170/G170),0)","v":0},{"$f":"IFERROR(INDEX($D$300:$D$700,MATCH($C170,$C$300:$C$700,0))*($G170/$G170),0)","v":0},{"$f":"J170/$B$9","v":{"$error":"#DIV/0!"}},{"$f":"IFERROR((INDEX($D$300:$D$700,MATCH($C170,$C$300:$C$700,0))-INDEX($E$300:$E$700,MATCH($C170,$C$300:$C$700,0)))*($G170/$G170),0)","v":0},{"$f":"IFERROR(INDEX($G$300:$G$700,MATCH($C170,$C$300:$C$700,0))*($G170/$G170),0)","v":0}]
[null,null,null,3,{"$f":"IFERROR(VLOOKUP($C171,'PRIPREMA (STATUS)'!$A$5:$F$128,2),\"\")","v":""},{"$f":"IFERROR(VLOOKUP($C171,'PRIPREMA (STATUS)'!$A$5:$F$128,3),\"\")","v":""},{"$f":"IFERROR(VLOOKUP($C171,'PRIPREMA (STATUS)'!$A$5:$F$128,4),\"\")","v":""},{"$f":"IFERROR(VLOOKUP($C171,'PRIPREMA (STATUS)'!$A$5:$F$128,5),\"\")","v":""},0,0,{"$error":"#DIV/0!"},0,0]
[null,null,null,4,{"$f":"IFERROR(VLOOKUP($C172,'PRIPREMA (STATUS)'!$A$5:$F$128,2),\"\")","v":""},{"$f":"IFERROR(VLOOKUP($C172,'PRIPREMA (STATUS)'!$A$5:$F$128,3),\"\")","v":""},{"$f":"IFERROR(VLOOKUP($C172,'PRIPREMA (STATUS)'!$A$5:$F$128,4),\"\")","v":""},{"$f":"IFERROR(VLOOKUP($C172,'PRIPREMA (STATUS)'!$A$5:$F$128,5),\"\")","v":""},0,0,{"$error":"#DIV/0!"},0,0]
[null,null,null,5,{"$f":"IFERROR(VLOOKUP($C173,'PRIPREMA (STATUS)'!$A$5:$F$128,2),\"\")","v":""},{"$f":"IFERROR(VLOOKUP($C173,'PRIPREMA (STATUS)'!$A$5:$F$128,3),\"\")","v":""},{"$f":"IFERROR(VLOOKUP($C173,'PRIPREMA (STATUS)'!$A$5:$F$128,4),\"\")","v":""},{"$f":"IFERROR(VLOOKUP($C173,'PRIPREMA (STATUS)'!$A$5:$F$128,5),\"\")","v":""},0,0,{"$error":"#DIV/0!"},0,0]
[null,null,null,6,{"$f":"IFERROR(VLOOKUP($C174,'PRIPREMA (STATUS)'!$A$5:$F$128,2),\"\")","v":""},{"$f":"IFERROR(VLOOKUP($C174,'PRIPREMA (STATUS)'!$A$5:$F$128,3),\"\")","v":""},{"$f":"IFERROR(VLOOKUP($C174,'PRIPREMA (STATUS)'!$A$5:$F$128,4),\"\")","v":""},{"$f":"IFERROR(VLOOKUP($C174,'PRIPREMA (STATUS)'!$A$5:$F$128,5),\"\")","v":""},0,0,{"$error":"#DIV/0!"},0,0]
[null,null,null,7,{"$f":"IFERROR(VLOOKUP($C175,'PRIPREMA (STATUS)'!$A$5:$F$128,2),\"\")","v":""},{"$f":"IFERROR(VLOOKUP($C175,'PRIPREMA (STATUS)'!$A$5:$F$128,3),\"\")","v":""},{"$f":"IFERROR(VLOOKUP($C175,'PRIPREMA (STATUS)'!$A$5:$F$128,4),\"\")","v":""},{"$f":"IFERROR(VLOOKUP($C175,'PRIPREMA (STATUS)'!$A$5:$F$128,5),\"\")","v":""},0,0,{"$error":"#DIV/0!"},0,0]
[null,null,null,8,{"$f":"IFERROR(VLOOKUP($C176,'PRIPREMA (STATUS)'!$A$5:$F$128,2),\"\")","v":""},{"$f":"IFERROR(VLOOKUP($C176,'PRIPREMA (STATUS)'!$A$5:$F$128,3),\"\")","v":""},{"$f":"IFERROR(VLOOKUP($C176,'PRIPREMA (STATUS)'!$A$5:$F$128,4),\"\")","v":""},{"$f":"IFERROR(VLOOKUP($C176,'PRIPREMA (STATUS)'!$A$5:$F$128,5),\"\")","v":""},0,0,{"$error":"#DIV/0!"},0,0]
[]
[null,null,"BROJ SA STATUSA",null,"TIM ",{"$f":"C22","v":0},null,null,null,null,null,"(+/-)\nGEMOVI","%"]
[null,null,null,null,"Prezime","Ime","Br. tak","Klub","Bodovi","Osvojeni G.","Količnik",null,"KOEFICIJENT"]
[null,null,null,1,{"$f":"IFERROR(VLOOKUP($C180,'PRIPREMA (STATUS)'!$A$5:$F$128,2),\"\")","v":""},{"$f":"IFERROR(VLOOKUP($C180,'PRIPREMA (STATUS)'!$A$5:$F$128,3),\"\")","v":""},{"$f":"IFERROR(VLOOKUP($C180,'PRIPREMA (STATUS)'!$A$5:$F$128,4),\"\")","v":""},{"$f":"IFERROR(VLOOKUP($C180,'PRIPREMA (STATUS)'!$A$5:$F$128,5),\"\")","v":""},{"$f":"IFERROR((30+J180*3)*(G180/G180),0)","v":0},{"$f":"IFERROR(INDEX($D$300:$D$700,MATCH($C180,$C$300:$C$700,0))*($G180/$G180),0)","v":0},{"$f":"J180/$B$9","v":{"$error":"#DIV/0!"}},{"$f":"IFERROR((INDEX($D$300:$D$700,MATCH($C180,$C$300:$C$700,0))-INDEX($E$300:$E$700,MATCH($C180,$C$300:$C$700,0)))*($G180/$G180),0)","v":0},{"$f":"IFERROR(INDEX($G$300:$G$700,MATCH($C180,$C$300:$C$700,0))*($G180/$G180),0)","v":0}]
[null,null,null,2,{"$f":"IFERROR(VLOOKUP($C181,'PRIPREMA (STATUS)'!$A$5:$F$128,2),\"\")","v":""},{"$f":"IFERROR(VLOOKUP($C181,'PRIPREMA (STATUS)'!$A$5:$F$128,3),\"\")","v":""},{"$f":"IFERROR(VLOOKUP($C181,'PRIPREMA (STATUS)'!$A$5:$F$128,4),\"\")","v":""},{"$f":"IFERROR(VLOOKUP($C181,'PRIPREMA (STATUS)'!$A$5:$F$128,5),\"\")","v":""},{"$f":"IFERROR((30+J181*3)*(G181/G181),0)","v":0},{"$f":"IFERROR(INDEX($D$300:$D$700,MATCH($C181,$C$300:$C$700,0))*($G181/$G181),0)","v":0},{"$f":"J181/$B$9","v":{"$error":"#DIV/0!"}},{"$f":"IFERROR((INDEX($D$300:$D$700,MATCH($C181,$C$300:$C$700,0))-INDEX($E$300:$E$700,MATCH($C181,$C$300:$C$700,0)))*($G181/$G181),0)","v":0},{"$f":"IFERROR(INDEX($G$300:$G$700,MATCH($C181,$C$300:$C$700,0))*($G181/$G181),0)","v":0}]
[null,null,null,3,{"$f":"IFERROR(VLOOKUP($C182,'PRIPREMA (STATUS)'!$A$5:$F$128,2),\"\")","v":""},{"$f":"IFERROR(VLOOKUP($C182,'PRIPREMA (STATUS)'!$A$5:$F$128,3),\"\")","v":""},{"$f":"IFERROR(VLOOKUP($C182,'PRIPREMA (STATUS)'!$A$5:$F$128,4),\"\")","v":""},{"$f":"IFERROR(VLOOKUP($C182,'PRIPREMA (STATUS)'!$A$5:$F$128,5),\"\")","v":""},0,0,{"$error":"#DIV/0!"},0,0]
[null,null,null,4,{"$f":"IFERROR(VLOOKUP($C183,'PRIPREMA (STATUS)'!$A$5:$F$128,2),\"\")","v":""},{"$f":"IFERROR(VLOOKUP($C183,'PRIPREMA (STATUS)'!$A$5:$F$128,3),\"\")","v":""},{"$f":"IFERROR(VLOOKUP($C183,'PRIPREMA (STATUS)'!$A$5:$F$128,4),\"\")","v":""},{"$f":"IFERROR(VLOOKUP($C183,'PRIPREMA (STATUS)'!$A$5:$F$128,5),\"\")","v":""},0,0,{"$error":"#DIV/0!"},0,0]
[null,null,null,5,{"$f":"IFERROR(VLOOKUP($C184,'PRIPREMA (STATUS)'!$A$5:$F$128,2),\"\")","v":""},{"$f":"IFERROR(VLOOKUP($C184,'PRIPREMA (STATUS)'!$A$5:$F$128,3),\"\")","v":""},{"$f":"IFERROR(VLOOKUP($C184,'PRIPREMA (STATUS)'!$A$5:$F$128,4),\"\")","v":""},{"$f":"IFERROR(VLOOKUP($C184,'PRIPREMA (STATUS)'!$A$5:$F$128,5),\"\")","v":""},0,0,{"$error":"#DIV/0!"},0,0]
[null,null,null,6,{"$f":"IFERROR(VLOOKUP($C185,'PRIPREMA (STATUS)'!$A$5:$F$128,2),\"\")","v":""},{"$f":"IFERROR(VLOOKUP($C185,'PRIPREMA (STATUS)'!$A$5:$F$128,3),\"\")","v":""},{"$f":"IFERROR(VLOOKUP($C185,'PRIPREMA (STATUS)'!$A$5:$F$128,4),\"\")","v":""},{"$f":"IFERROR(VLOOKUP($C185,'PRIPREMA (STATUS)'!$A$5:$F$128,5),\"\")","v":""},0,0,{"$error":"#DIV/0!"},0,0]
[null,null,null,7,{"$f":"IFERROR(VLOOKUP($C186,'PRIPREMA (STATUS)'!$A$5:$F$128,2),\"\")","v":""},{"$f":"IFERROR(VLOOKUP($C186,'PRIPREMA (STATUS)'!$A$5:$F$128,3),\"\")","v":""},{"$f":"IFERROR(VLOOKUP($C186,'PRIPREMA (STATUS)'!$A$5:$F$128,4),\"\")","v":""},{"$f":"IFERROR(VLOOKUP($C186,'PRIPREMA (STATUS)'!$A$5:$F$128,5),\"\")","v":""},0,0,{"$error":"#DIV/0!"},0,0]
[null,null,null,8,{"$f":"IFERROR(VLOOKUP($C187,'PRIPREMA (STATUS)'!$A$5:$F$128,2),\"\")","v":""},{"$f":"IFERROR(VLOOKUP($C187,'PRIPREMA (STATUS)'!$A$5:$F$128,3),\"\")","v":""},{"$f":"IFERROR(VLOOKUP($C187,'PRIPREMA (STATUS)'!$A$5:$F$128,4),\"\")","v":""},{"$f":"IFERROR(VLOOKUP($C187,'PRIPREMA (STATUS)'!$A$5:$F$128,5),\"\")","v":""},0,0,{"$error":"#DIV/0!"},0,0]
[]
[null,null,"BROJ SA STATUSA",null,"TIM ",{"$f":"C23","v":0},null,null,null,null,null,"(+/-)\nGEMOVI","%"]
[null,null,null,null,"Prezime","Ime","Br. tak","Klub","Bodovi","Osvojeni G.","Količnik",null,"KOEFICIJENT"]
[null,null,null,1,{"$f":"IFERROR(VLOOKUP($C191,'PRIPREMA (STATUS)'!$A$5:$F$128,2),\"\")","v":""},{"$f":"IFERROR(VLOOKUP($C191,'PRIPREMA (STATUS)'!$A$5:$F$128,3),\"\")","v":""},{"$f":"IFERROR(VLOOKUP($C191,'PRIPREMA (STATUS)'!$A$5:$F$128,4),\"\")","v":""},{"$f":"IFERROR(VLOOKUP($C191,'PRIPREMA (STATUS)'!$A$5:$F$128,5),\"\")","v":""},{"$f":"IFERROR((30+J191*3)*(G191/G191),0)","v":0},{"$f":"IFERROR(INDEX($D$300:$D$700,MATCH($C191,$C$300:$C$700,0))*($G191/$G191),0)","v":0},{"$f":"J191/$B$9","v":{"$error":"#DIV/0!"}},{"$f":"IFERROR((INDEX($D$300:$D$700,MATCH($C191,$C$300:$C$700,0))-INDEX($E$300:$E$700,MATCH($C191,$C$300:$C$700,0)))*($G191/$G191),0)","v":0},{"$f":"IFERROR(INDEX($G$300:$G$700,MATCH($C191,$C$300:$C$700,0))*($G191/$G191),0)","v":0}]
[null,null,null,2,{"$f":"IFERROR(VLOOKUP($C192,'PRIPREMA (STATUS)'!$A$5:$F$128,2),\"\")","v":""},{"$f":"IFERROR(VLOOKUP($C192,'PRIPREMA (STATUS)'!$A$5:$F$128,3),\"\")","v":""},{"$f":"IFERROR(VLOOKUP($C192,'PRIPREMA (STATUS)'!$A$5:$F$128,4),\"\")","v":""},{"$f":"IFERROR(VLOOKUP($C192,'PRIPREMA (STATUS)'!$A$5:$F$128,5),\"\")","v":""},{"$f":"IFERROR((30+J192*3)*(G192/G192),0)","v":0},{"$f":"IFERROR(INDEX($D$300:$D$700,MATCH($C192,$C$300:$C$700,0))*($G192/$G192),0)","v":0},{"$f":"J192/$B$9","v":{"$error":"#DIV/0!"}},{"$f":"IFERROR((INDEX($D$300:$D$700,MATCH($C192,$C$300:$C$700,0))-INDEX($E$300:$E$700,MATCH($C192,$C$300:$C$700,0)))*($G192/$G192),0)","v":0},{"$f":"IFERROR(INDEX($G$300:$G$700,MATCH($C192,$C$300:$C$700,0))*($G192/$G192),0)","v":0}]
[null,null,null,3,{"$f":"IFERROR(VLOOKUP($C193,'PRIPREMA (STATUS)'!$A$5:$F$128,2),\"\")","v":""},{"$f":"IFERROR(VLOOKUP($C193,'PRIPREMA (STATUS)'!$A$5:$F$128,3),\"\")","v":""},{"$f":"IFERROR(VLOOKUP($C193,'PRIPREMA (STATUS)'!$A$5:$F$128,4),\"\")","v":""},{"$f":"IFERROR(VLOOKUP($C193,'PRIPREMA (STATUS)'!$A$5:$F$128,5),\"\")","v":""},0,0,{"$error":"#DIV/0!"},0,0]
[null,null,null,4,{"$f":"IFERROR(VLOOKUP($C194,'PRIPREMA (STATUS)'!$A$5:$F$128,2),\"\")","v":""},{"$f":"IFERROR(VLOOKUP($C194,'PRIPREMA (STATUS)'!$A$5:$F$128,3),\"\")","v":""},{"$f":"IFERROR(VLOOKUP($C194,'PRIPREMA (STATUS)'!$A$5:$F$128,4),\"\")","v":""},{"$f":"IFERROR(VLOOKUP($C194,'PRIPREMA (STATUS)'!$A$5:$F$128,5),\"\")","v":""},0,0,{"$error":"#DIV/0!"},0,0]
[null,null,null,5,{"$f":"IFERROR(VLOOKUP($C195,'PRIPREMA (STATUS)'!$A$5:$F$128,2),\"\")","v":""},{"$f":"IFERROR(VLOOKUP($C195,'PRIPREMA (STATUS)'!$A$5:$F$128,3),\"\")","v":""},{"$f":"IFERROR(VLOOKUP($C195,'PRIPREMA (STATUS)'!$A$5:$F$128,4),\"\")","v":""},{"$f":"IFERROR(VLOOKUP($C195,'PRIPREMA (STATUS)'!$A$5:$F$128,5),\"\")","v":""},0,0,{"$error":"#DIV/0!"},0,0]
[null,null,null,6,{"$f":"IFERROR(VLOOKUP($C196,'PRIPREMA (STATUS)'!$A$5:$F$128,2),\"\")","v":""},{"$f":"IFERROR(VLOOKUP($C196,'PRIPREMA (STATUS)'!$A$5:$F$128,3),\"\")","v":""},{"$f":"IFERROR(VLOOKUP($C196,'PRIPREMA (STATUS)'!$A$5:$F$128,4),\"\")","v":""},{"$f":"IFERROR(VLOOKUP($C196,'PRIPREMA (STATUS)'!$A$5:$F$128,5),\"\")","v":""},0,0,{"$error":"#DIV/0!"},0,0]
[null,null,null,7,{"$f":"IFERROR(VLOOKUP($C197,'PRIPREMA (STATUS)'!$A$5:$F$128,2),\"\")","v":""},{"$f":"IFERROR(VLOOKUP($C197,'PRIPREMA (STATUS)'!$A$5:$F$128,3),\"\")","v":""},{"$f":"IFERROR(VLOOKUP($C197,'PRIPREMA (STATUS)'!$A$5:$F$128,4),\"\")","v":""},{"$f":"IFERROR(VLOOKUP($C197,'PRIPREMA (STATUS)'!$A$5:$F$128,5),\"\")","v":""},0,0,{"$error":"#DIV/0!"},0,0]
[null,null,null,8,{"$f":"IFERROR(VLOOKUP($C198,'PRIPREMA (STATUS)'!$A$5:$F$128,2),\"\")","v":""},{"$f":"IFERROR(VLOOKUP($C198,'PRIPREMA (STATUS)'!$A$5:$F$128,3),\"\")","v":""},{"$f":"IFERROR(VLOOKUP($C198,'PRIPREMA (STATUS)'!$A$5:$F$128,4),\"\")","v":""},{"$f":"IFERROR(VLOOKUP($C198,'PRIPREMA (STATUS)'!$A$5:$F$128,5),\"\")","v":""},0,0,{"$error":"#DIV/0!"},0,0]
[]
[]
[]
[]
[]
[]
[]
[]
[]
[]
[]
[]
[]
[]
[]
[]
[]
[]
[]
[]
[]
[]
[]
[]
[]
[]
[]
[]
[]
[]
[]
[]
[]
[]
[]
[]
[]
[]
[]
[]
[]
[]
[]
[]
[]
[]
[]
[]
[]
[]
[]
[]
[]
[]
[]
[]
[]
[]
[]
[]
[]
[]
[]
[]
[]
[]
[]
[]
[]
[]
[]
[]
[]
[]
[]
[]
[]
[]
[]
[]
[]
[]
[]
[]
[]
[]
[]
[]
[]
[]
[]
[]
[]
[]
[]
[]
[]
[]
[]
[]
["x","x","x","x","x","x","x","x","x","x","x","x","x","x","x","x","x","x","x","x","x","x","x","x","x","x","x","x","x","x","x","x","x","x","x","x","x","x","x"]
[null,null,{"$f":"'GRUPA 9'!B103","v":0},{"$f":"'GRUPA 9'!C103","v":0},{"$f":"'GRUPA 9'!D103","v":0},{"$f":"'GRUPA 9'!E103","v":0},{"$f":"'GRUPA 9'!F103","v":{"$error":"#DIV/0!"}}]
[null,null,{"$f":"'GRUPA 9'!B104","v":0},{"$f":"'GRUPA 9'!C104","v":0},{"$f":"'GRUPA 9'!D104","v":0},null,{"$f":"'GRUPA 9'!F104","v":{"$error":"#DIV/0!"}}]
[null,null,{"$f":"'GRUPA 9'!B105","v":0},{"$f":"'GRUPA 9'!C105","v":0},{"$f":"'GRUPA 9'!D105","v":0},null,{"$f":"'GRUPA 9'!F105","v":{"$error":"#DIV/0!"}}]
[null,null,{"$f":"'GRUPA 9'!B106","v":0},{"$f":"'GRUPA 9'!C106","v":0},{"$f":"'GRUPA 9'!D106","v":0},null,{"$f":"'GRUPA 9'!F106","v":{"$error":"#DIV/0!"}}]
[null,null,{"$f":"'GRUPA 9'!B107","v":0},{"$f":"'GRUPA 9'!C107","v":0},{"$f":"'GRUPA 9'!D107","v":0},null,{"$f":"'GRUPA 9'!F107","v":{"$error":"#DIV/0!"}}]
[null,null,{"$f":"'GRUPA 9'!B108","v":0},{"$f":"'GRUPA 9'!C108","v":0},{"$f":"'GRUPA 9'!D108","v":0},null,{"$f":"'GRUPA 9'!F108","v":{"$error":"#DIV/0!"}}]
[null,null,{"$f":"'GRUPA 9'!B109","v":0},{"$f":"'GRUPA 9'!C109","v":0},{"$f":"'GRUPA 9'!D109","v":0},null,{"$f":"'GRUPA 9'!F109","v":{"$error":"#DIV/0!"}}]
[null,null,{"$f":"'GRUPA 9'!B110","v":0},{"$f":"'GRUPA 9'!C110","v":0},{"$f":"'GRUPA 9'!D110","v":0},null,{"$f":"'GRUPA 9'!F110","v":{"$error":"#DIV/0!"}}]
[null,null,{"$f":"'GRUPA 9'!B111","v":0},{"$f":"'GRUPA 9'!C111","v":0},{"$f":"'GRUPA 9'!D111","v":0},null,{"$f":"'GRUPA 9'!F111","v":{"$error":"#DIV/0!"}}]
[null,null,{"$f":"'GRUPA 9'!B112","v":0},{"$f":"'GRUPA 9'!C112","v":0},{"$f":"'GRUPA 9'!D112","v":0},null,{"$f":"'GRUPA 9'!F112","v":{"$error":"#DIV/0!"}}]
[null,null,{"$f":"'GRUPA 9'!B113","v":0},{"$f":"'GRUPA 9'!C113","v":0},{"$f":"'GRUPA 9'!D113","v":0},null,{"$f":"'GRUPA 9'!F113","v":0}]
[null,null,{"$f":"'GRUPA 9 (3)'!B103","v":0},{"$f":"'GRUPA 9 (3)'!C103","v":0},{"$f":"'GRUPA 9 (3)'!D103","v":0},null,{"$f":"'GRUPA 9 (3)'!F103","v":{"$error":"#DIV/0!"}}]
[null,null,{"$f":"'GRUPA 9 (3)'!B104","v":0},{"$f":"'GRUPA 9 (3)'!C104","v":0},{"$f":"'GRUPA 9 (3)'!D104","v":0},null,{"$f":"'GRUPA 9 (3)'!F104","v":{"$error":"#DIV/0!"}}]
[null,null,{"$f":"'GRUPA 9 (3)'!B105","v":0},{"$f":"'GRUPA 9 (3)'!C105","v":0},{"$f":"'GRUPA 9 (3)'!D105","v":0},null,{"$f":"'GRUPA 9 (3)'!F105","v":{"$error":"#DIV/0!"}}]
[null,null,{"$f":"'GRUPA 9 (3)'!B106","v":0},{"$f":"'GRUPA 9 (3)'!C106","v":0},{"$f":"'GRUPA 9 (3)'!D106","v":0},null,{"$f":"'GRUPA 9 (3)'!F106","v":{"$error":"#DIV/0!"}}]
[null,null,{"$f":"'GRUPA 9 (3)'!B107","v":0},{"$f":"'GRUPA 9 (3)'!C107","v":0},{"$f":"'GRUPA 9 (3)'!D107","v":0},null,{"$f":"'GRUPA 9 (3)'!F107","v":{"$error":"#DIV/0!"}}]
[null,null,{"$f":"'GRUPA 9 (3)'!B108","v":0},{"$f":"'GRUPA 9 (3)'!C108","v":0},{"$f":"'GRUPA 9 (3)'!D108","v":0},null,{"$f":"'GRUPA 9 (3)'!F108","v":{"$error":"#DIV/0!"}}]
[null,null,{"$f":"'GRUPA 9 (3)'!B109","v":0},{"$f":"'GRUPA 9 (3)'!C109","v":0},{"$f":"'GRUPA 9 (3)'!D109","v":0},null,{"$f":"'GRUPA 9 (3)'!F109","v":{"$error":"#DIV/0!"}}]
[null,null,{"$f":"'GRUPA 9 (3)'!B110","v":0},{"$f":"'GRUPA 9 (3)'!C110","v":0},{"$f":"'GRUPA 9 (3)'!D110","v":0},null,{"$f":"'GRUPA 9 (3)'!F110","v":{"$error":"#DIV/0!"}}]
[null,null,{"$f":"'GRUPA 9 (3)'!B111","v":0},{"$f":"'GRUPA 9 (3)'!C111","v":0},{"$f":"'GRUPA 9 (3)'!D111","v":0},null,{"$f":"'GRUPA 9 (3)'!F111","v":{"$error":"#DIV/0!"}}]
[null,null,{"$f":"'GRUPA 9 (3)'!B112","v":0},{"$f":"'GRUPA 9 (3)'!C112","v":0},{"$f":"'GRUPA 9 (3)'!D112","v":0},null,{"$f":"'GRUPA 9 (3)'!F112","v":{"$error":"#DIV/0!"}}]
[null,null,{"$f":"'GRUPA 9 (2)'!B103","v":0},{"$f":"'GRUPA 9 (2)'!C103","v":0},{"$f":"'GRUPA 9 (2)'!D103","v":0},null,{"$f":"'GRUPA 9 (2)'!F103","v":{"$error":"#DIV/0!"}}]
[null,null,{"$f":"'GRUPA 9 (2)'!B104","v":0},{"$f":"'GRUPA 9 (2)'!C104","v":0},{"$f":"'GRUPA 9 (2)'!D104","v":0},null,{"$f":"'GRUPA 9 (2)'!F104","v":{"$error":"#DIV/0!"}}]
[null,null,{"$f":"'GRUPA 9 (2)'!B105","v":0},{"$f":"'GRUPA 9 (2)'!C105","v":0},{"$f":"'GRUPA 9 (2)'!D105","v":0},null,{"$f":"'GRUPA 9 (2)'!F105","v":{"$error":"#DIV/0!"}}]
[null,null,{"$f":"'GRUPA 9 (2)'!B106","v":0},{"$f":"'GRUPA 9 (2)'!C106","v":0},{"$f":"'GRUPA 9 (2)'!D106","v":0},null,{"$f":"'GRUPA 9 (2)'!F106","v":{"$error":"#DIV/0!"}}]
[null,null,{"$f":"'GRUPA 9 (2)'!B107","v":0},{"$f":"'GRUPA 9 (2)'!C107","v":0},{"$f":"'GRUPA 9 (2)'!D107","v":0},null,{"$f":"'GRUPA 9 (2)'!F107","v":{"$error":"#DIV/0!"}}]
[null,null,{"$f":"'GRUPA 9 (2)'!B108","v":0},{"$f":"'GRUPA 9 (2)'!C108","v":0},{"$f":"'GRUPA 9 (2)'!D108","v":0},null,{"$f":"'GRUPA 9 (2)'!F108","v":{"$error":"#DIV/0!"}}]
[null,null,{"$f":"'GRUPA 9 (2)'!B109","v":0},{"$f":"'GRUPA 9 (2)'!C109","v":0},{"$f":"'GRUPA 9 (2)'!D109","v":0},null,{"$f":"'GRUPA 9 (2)'!F109","v":{"$error":"#DIV/0!"}}]
[null,null,{"$f":"'GRUPA 9 (2)'!B110","v":0},{"$f":"'GRUPA 9 (2)'!C110","v":0},{"$f":"'GRUPA 9 (2)'!D110","v":0},null,{"$f":"'GRUPA 9 (2)'!F110","v":{"$error":"#DIV/0!"}}]
[null,null,{"$f":"'GRUPA 9 (2)'!B111","v":0},{"$f":"'GRUPA 9 (2)'!C111","v":0},{"$f":"'GRUPA 9 (2)'!D111","v":0},null,{"$f":"'GRUPA 9 (2)'!F111","v":{"$error":"#DIV/0!"}}]
[null,null,{"$f":"'GRUPA 9 (2)'!B112","v":0},{"$f":"'GRUPA 9 (2)'!C112","v":0},{"$f":"'GRUPA 9 (2)'!D112","v":0},null,{"$f":"'GRUPA 9 (2)'!F112","v":{"$error":"#DIV/0!"}}]
[null,null,{"$f":"'GRUPA 9 (4)'!B103","v":0},{"$f":"'GRUPA 9 (4)'!C103","v":0},{"$f":"'GRUPA 9 (4)'!D103","v":0},null,{"$f":"'GRUPA 9 (4)'!F103","v":{"$error":"#DIV/0!"}}]
[null,null,{"$f":"'GRUPA 9 (4)'!B104","v":0},{"$f":"'GRUPA 9 (4)'!C104","v":0},{"$f":"'GRUPA 9 (4)'!D104","v":0},null,{"$f":"'GRUPA 9 (4)'!F104","v":{"$error":"#DIV/0!"}}]
[null,null,{"$f":"'GRUPA 9 (4)'!B105","v":0},{"$f":"'GRUPA 9 (4)'!C105","v":0},{"$f":"'GRUPA 9 (4)'!D105","v":0},null,{"$f":"'GRUPA 9 (4)'!F105","v":{"$error":"#DIV/0!"}}]
[null,null,{"$f":"'GRUPA 9 (4)'!B106","v":0},{"$f":"'GRUPA 9 (4)'!C106","v":0},{"$f":"'GRUPA 9 (4)'!D106","v":0},null,{"$f":"'GRUPA 9 (4)'!F106","v":{"$error":"#DIV/0!"}}]
[null,null,{"$f":"'GRUPA 9 (4)'!B107","v":0},{"$f":"'GRUPA 9 (4)'!C107","v":0},{"$f":"'GRUPA 9 (4)'!D107","v":0},null,{"$f":"'GRUPA 9 (4)'!F107","v":{"$error":"#DIV/0!"}}]
[null,null,{"$f":"'GRUPA 9 (4)'!B108","v":0},{"$f":"'GRUPA 9 (4)'!C108","v":0},{"$f":"'GRUPA 9 (4)'!D108","v":0},null,{"$f":"'GRUPA 9 (4)'!F108","v":{"$error":"#DIV/0!"}}]
[null,null,{"$f":"'GRUPA 9 (4)'!B109","v":0},{"$f":"'GRUPA 9 (4)'!C109","v":0},{"$f":"'GRUPA 9 (4)'!D109","v":0},null,{"$f":"'GRUPA 9 (4)'!F109","v":{"$error":"#DIV/0!"}}]
[null,null,{"$f":"'GRUPA 9 (4)'!B110","v":0},{"$f":"'GRUPA 9 (4)'!C110","v":0},{"$f":"'GRUPA 9 (4)'!D110","v":0},null,{"$f":"'GRUPA 9 (4)'!F110","v":{"$error":"#DIV/0!"}}]
[null,null,{"$f":"'GRUPA 9 (4)'!B111","v":0},{"$f":"'GRUPA 9 (4)'!C111","v":0},{"$f":"'GRUPA 9 (4)'!D111","v":0},null,{"$f":"'GRUPA 9 (4)'!F111","v":{"$error":"#DIV/0!"}}]
[null,null,{"$f":"'GRUPA 9 (4)'!B112","v":0},{"$f":"'GRUPA 9 (4)'!C112","v":0},{"$f":"'GRUPA 9 (4)'!D112","v":0},null,{"$f":"'GRUPA 9 (4)'!F112","v":{"$error":"#DIV/0!"}}]
[null,null,{"$f":"'GRUPA 9 (4)'!B113","v":0},{"$f":"'GRUPA 9 (4)'!C113","v":0},{"$f":"'GRUPA 9 (4)'!D113","v":0}]
[null,null,{"$f":"'GRUPA 4'!B101","v":0},{"$f":"'GRUPA 4'!C101","v":0},{"$f":"'GRUPA 4'!D101","v":0},{"$f":"'GRUPA 4'!E101","v":{"$error":"#DIV/0!"}},{"$f":"F342","v":{"$error":"#DIV/0!"}}]
[null,null,{"$f":"'GRUPA 4'!B102","v":0},{"$f":"'GRUPA 4'!C102","v":0},{"$f":"'GRUPA 4'!D102","v":0},{"$f":"'GRUPA 4'!E102","v":{"$error":"#DIV/0!"}},{"$f":"F343","v":{"$error":"#DIV/0!"}}]
[null,null,{"$f":"'GRUPA 4'!B103","v":0},{"$f":"'GRUPA 4'!C103","v":0},{"$f":"'GRUPA 4'!D103","v":0},{"$f":"'GRUPA 4'!E103","v":{"$error":"#DIV/0!"}},{"$error":"#DIV/0!"}]
[null,null,{"$f":"'GRUPA 4'!B104","v":0},{"$f":"'GRUPA 4'!C104","v":0},{"$f":"'GRUPA 4'!D104","v":0},{"$f":"'GRUPA 4'!E104","v":{"$error":"#DIV/0!"}},{"$error":"#DIV/0!"}]
[null,null,{"$f":"'GRUPA 4 (2)'!B101","v":0},{"$f":"'GRUPA 4 (2)'!C101","v":0},{"$f":"'GRUPA 4 (2)'!D101","v":0},{"$f":"'GRUPA 4 (2)'!E101","v":{"$error":"#DIV/0!"}},{"$error":"#DIV/0!"}]
[null,null,{"$f":"'GRUPA 4 (2)'!B102","v":0},{"$f":"'GRUPA 4 (2)'!C102","v":0},{"$f":"'GRUPA 4 (2)'!D102","v":0},{"$f":"'GRUPA 4 (2)'!E102","v":{"$error":"#DIV/0!"}},{"$error":"#DIV/0!"}]
[null,null,{"$f":"'GRUPA 4 (2)'!B103","v":0},{"$f":"'GRUPA 4 (2)'!C103","v":0},{"$f":"'GRUPA 4 (2)'!D103","v":0},{"$f":"'GRUPA 4 (2)'!E103","v":{"$error":"#DIV/0!"}},{"$error":"#DIV/0!"}]
[null,null,{"$f":"'GRUPA 4 (2)'!B104","v":0},{"$f":"'GRUPA 4 (2)'!C104","v":0},{"$f":"'GRUPA 4 (2)'!D104","v":0},{"$f":"'GRUPA 4 (2)'!E104","v":{"$error":"#DIV/0!"}},{"$error":"#DIV/0!"}]
[null,null,{"$f":"'GRUPA 4 (3)'!B101","v":0},{"$f":"'GRUPA 4 (3)'!C101","v":0},{"$f":"'GRUPA 4 (3)'!D101","v":0},{"$f":"'GRUPA 4 (3)'!E101","v":{"$error":"#DIV/0!"}},{"$error":"#DIV/0!"}]
[null,null,{"$f":"'GRUPA 4 (3)'!B102","v":0},{"$f":"'GRUPA 4 (3)'!C102","v":0},{"$f":"'GRUPA 4 (3)'!D102","v":0},{"$f":"'GRUPA 4 (3)'!E102","v":{"$error":"#DIV/0!"}},{"$error":"#DIV/0!"}]
[null,null,{"$f":"'GRUPA 4 (3)'!B103","v":0},{"$f":"'GRUPA 4 (3)'!C103","v":0},{"$f":"'GRUPA 4 (3)'!D103","v":0},{"$f":"'GRUPA 4 (3)'!E103","v":{"$error":"#DIV/0!"}},{"$error":"#DIV/0!"}]
[null,null,{"$f":"'GRUPA 4 (3)'!B104","v":0},{"$f":"'GRUPA 4 (3)'!C104","v":0},{"$f":"'GRUPA 4 (3)'!D104","v":0},{"$f":"'GRUPA 4 (3)'!E104","v":{"$error":"#DIV/0!"}},{"$error":"#DIV/0!"}]
[null,null,{"$f":"'GRUPA 4 (4)'!B101","v":0},{"$f":"'GRUPA 4 (4)'!C101","v":0},{"$f":"'GRUPA 4 (4)'!D101","v":0},{"$f":"'GRUPA 4 (4)'!E101","v":{"$error":"#DIV/0!"}},{"$error":"#DIV/0!"}]
[null,null,{"$f":"'GRUPA 4 (4)'!B102","v":0},{"$f":"'GRUPA 4 (4)'!C102","v":0},{"$f":"'GRUPA 4 (4)'!D102","v":0},{"$f":"'GRUPA 4 (4)'!E102","v":{"$error":"#DIV/0!"}},{"$error":"#DIV/0!"}]
[null,null,{"$f":"'GRUPA 4 (4)'!B103","v":0},{"$f":"'GRUPA 4 (4)'!C103","v":0},{"$f":"'GRUPA 4 (4)'!D103","v":0},{"$f":"'GRUPA 4 (4)'!E103","v":{"$error":"#DIV/0!"}},{"$error":"#DIV/0!"}]
[null,null,{"$f":"'GRUPA 4 (4)'!B104","v":0},{"$f":"'GRUPA 4 (4)'!C104","v":0},{"$f":"'GRUPA 4 (4)'!D104","v":0},{"$f":"'GRUPA 4 (4)'!E104","v":{"$error":"#DIV/0!"}},{"$error":"#DIV/0!"}]
[null,null,{"$f":"'GRUPA 4 (5)'!B101","v":0},{"$f":"'GRUPA 4 (5)'!C101","v":0},{"$f":"'GRUPA 4 (5)'!D101","v":0},{"$f":"'GRUPA 4 (5)'!E101","v":{"$error":"#DIV/0!"}},{"$error":"#DIV/0!"}]
[null,null,{"$f":"'GRUPA 4 (5)'!B102","v":0},{"$f":"'GRUPA 4 (5)'!C102","v":0},{"$f":"'GRUPA 4 (5)'!D102","v":0},{"$f":"'GRUPA 4 (5)'!E102","v":{"$error":"#DIV/0!"}},{"$error":"#DIV/0!"}]
[null,null,{"$f":"'GRUPA 4 (5)'!B103","v":0},{"$f":"'GRUPA 4 (5)'!C103","v":0},{"$f":"'GRUPA 4 (5)'!D103","v":0},{"$f":"'GRUPA 4 (5)'!E103","v":{"$error":"#DIV/0!"}},{"$error":"#DIV/0!"}]
[null,null,{"$f":"'GRUPA 4 (5)'!B104","v":0},{"$f":"'GRUPA 4 (5)'!C104","v":0},{"$f":"'GRUPA 4 (5)'!D104","v":0},{"$f":"'GRUPA 4 (5)'!E104","v":{"$error":"#DIV/0!"}},{"$error":"#DIV/0!"}]
[null,null,{"$f":"'GRUPA 4 (6)'!B101","v":0},{"$f":"'GRUPA 4 (6)'!C101","v":0},{"$f":"'GRUPA 4 (6)'!D101","v":0},{"$f":"'GRUPA 4 (6)'!E101","v":{"$error":"#DIV/0!"}},{"$error":"#DIV/0!"}]
[null,null,{"$f":"'GRUPA 4 (6)'!B102","v":0},{"$f":"'GRUPA 4 (6)'!C102","v":0},{"$f":"'GRUPA 4 (6)'!D102","v":0},{"$f":"'GRUPA 4 (6)'!E102","v":{"$error":"#DIV/0!"}},{"$error":"#DIV/0!"}]
[null,null,{"$f":"'GRUPA 4 (6)'!B103","v":0},{"$f":"'GRUPA 4 (6)'!C103","v":0},{"$f":"'GRUPA 4 (6)'!D103","v":0},{"$f":"'GRUPA 4 (6)'!E103","v":{"$error":"#DIV/0!"}},{"$error":"#DIV/0!"}]
[null,null,{"$f":"'GRUPA 4 (6)'!B104","v":0},{"$f":"'GRUPA 4 (6)'!C104","v":0},{"$f":"'GRUPA 4 (6)'!D104","v":0},{"$f":"'GRUPA 4 (6)'!E104","v":{"$error":"#DIV/0!"}},{"$error":"#DIV/0!"}]
[null,null,{"$f":"'GRUPA 4 (7)'!B101","v":0},{"$f":"'GRUPA 4 (7)'!C101","v":0},{"$f":"'GRUPA 4 (7)'!D101","v":0},{"$f":"'GRUPA 4 (7)'!E101","v":{"$error":"#DIV/0!"}},{"$error":"#DIV/0!"}]
[null,null,{"$f":"'GRUPA 4 (7)'!B102","v":0},{"$f":"'GRUPA 4 (7)'!C102","v":0},{"$f":"'GRUPA 4 (7)'!D102","v":0},{"$f":"'GRUPA 4 (7)'!E102","v":{"$error":"#DIV/0!"}},{"$error":"#DIV/0!"}]
[null,null,{"$f":"'GRUPA 4 (7)'!B103","v":0},{"$f":"'GRUPA 4 (7)'!C103","v":0},{"$f":"'GRUPA 4 (7)'!D103","v":0},{"$f":"'GRUPA 4 (7)'!E103","v":{"$error":"#DIV/0!"}},{"$error":"#DIV/0!"}]
[null,null,{"$f":"'GRUPA 4 (7)'!B104","v":0},{"$f":"'GRUPA 4 (7)'!C104","v":0},{"$f":"'GRUPA 4 (7)'!D104","v":0},{"$f":"'GRUPA 4 (7)'!E104","v":{"$error":"#DIV/0!"}},{"$error":"#DIV/0!"}]
[null,null,{"$f":"'GRUPA 4 (8)'!B101","v":0},{"$f":"'GRUPA 4 (8)'!C101","v":0},{"$f":"'GRUPA 4 (8)'!D101","v":0},{"$f":"'GRUPA 4 (8)'!E101","v":{"$error":"#DIV/0!"}},{"$error":"#DIV/0!"}]
[null,null,{"$f":"'GRUPA 4 (8)'!B102","v":0},{"$f":"'GRUPA 4 (8)'!C102","v":0},{"$f":"'GRUPA 4 (8)'!D102","v":0},{"$f":"'GRUPA 4 (8)'!E102","v":{"$error":"#DIV/0!"}},{"$error":"#DIV/0!"}]
[null,null,{"$f":"'GRUPA 4 (8)'!B103","v":0},{"$f":"'GRUPA 4 (8)'!C103","v":0},{"$f":"'GRUPA 4 (8)'!D103","v":0},{"$f":"'GRUPA 4 (8)'!E103","v":{"$error":"#DIV/0!"}},{"$error":"#DIV/0!"}]
[null,null,{"$f":"'GRUPA 4 (8)'!B104","v":0},{"$f":"'GRUPA 4 (8)'!C104","v":0},{"$f":"'GRUPA 4 (8)'!D104","v":0},{"$f":"'GRUPA 4 (8)'!E104","v":{"$error":"#DIV/0!"}},{"$error":"#DIV/0!"}]
[null,null,{"$f":"'GRUPA 4 (9)'!B101","v":0},{"$f":"'GRUPA 4 (9)'!C101","v":0},{"$f":"'GRUPA 4 (9)'!D101","v":0},{"$f":"'GRUPA 4 (9)'!E101","v":{"$error":"#DIV/0!"}},{"$error":"#DIV/0!"}]
[null,null,{"$f":"'GRUPA 4 (9)'!B102","v":0},{"$f":"'GRUPA 4 (9)'!C102","v":0},{"$f":"'GRUPA 4 (9)'!D102","v":0},{"$f":"'GRUPA 4 (9)'!E102","v":{"$error":"#DIV/0!"}},{"$error":"#DIV/0!"}]
[null,null,{"$f":"'GRUPA 4 (9)'!B103","v":0},{"$f":"'GRUPA 4 (9)'!C103","v":0},{"$f":"'GRUPA 4 (9)'!D103","v":0},{"$f":"'GRUPA 4 (9)'!E103","v":{"$error":"#DIV/0!"}},{"$error":"#DIV/0!"}]
[null,null,{"$f":"'GRUPA 4 (9)'!B104","v":0},{"$f":"'GRUPA 4 (9)'!C104","v":0},{"$f":"'GRUPA 4 (9)'!D104","v":0},{"$f":"'GRUPA 4 (9)'!E104","v":{"$error":"#DIV/0!"}},{"$error":"#DIV/0!"}]
[null,null,{"$f":"'GRUPA 4 (10)'!B101","v":0},{"$f":"'GRUPA 4 (10)'!C101","v":0},{"$f":"'GRUPA 4 (10)'!D101","v":0},{"$f":"'GRUPA 4 (10)'!E101","v":{"$error":"#DIV/0!"}},{"$error":"#DIV/0!"}]
[null,null,{"$f":"'GRUPA 4 (10)'!B102","v":0},{"$f":"'GRUPA 4 (10)'!C102","v":0},{"$f":"'GRUPA 4 (10)'!D102","v":0},{"$f":"'GRUPA 4 (10)'!E102","v":{"$error":"#DIV/0!"}},{"$error":"#DIV/0!"}]
[null,null,{"$f":"'GRUPA 4 (10)'!B103","v":0},{"$f":"'GRUPA 4 (10)'!C103","v":0},{"$f":"'GRUPA 4 (10)'!D103","v":0},{"$f":"'GRUPA 4 (10)'!E103","v":{"$error":"#DIV/0!"}},{"$error":"#DIV/0!"}]
[null,null,{"$f":"'GRUPA 4 (10)'!B104","v":0},{"$f":"'GRUPA 4 (10)'!C104","v":0},{"$f":"'GRUPA 4 (10)'!D104","v":0},{"$f":"'GRUPA 4 (10)'!E104","v":{"$error":"#DIV/0!"}},{"$error":"#DIV/0!"}]
[null,null,{"$f":"'GRUPA 4 (11)'!B101","v":0},{"$f":"'GRUPA 4 (11)'!C101","v":0},{"$f":"'GRUPA 4 (11)'!D101","v":0},{"$f":"'GRUPA 4 (11)'!E101","v":{"$error":"#DIV/0!"}},{"$error":"#DIV/0!"}]
[null,null,{"$f":"'GRUPA 4 (11)'!B102","v":0},{"$f":"'GRUPA 4 (11)'!C102","v":0},{"$f":"'GRUPA 4 (11)'!D102","v":0},{"$f":"'GRUPA 4 (11)'!E102","v":{"$error":"#DIV/0!"}},{"$error":"#DIV/0!"}]
[null,null,{"$f":"'GRUPA 4 (11)'!B103","v":0},{"$f":"'GRUPA 4 (11)'!C103","v":0},{"$f":"'GRUPA 4 (11)'!D103","v":0},{"$f":"'GRUPA 4 (11)'!E103","v":{"$error":"#DIV/0!"}},{"$error":"#DIV/0!"}]
[null,null,{"$f":"'GRUPA 4 (11)'!B104","v":0},{"$f":"'GRUPA 4 (11)'!C104","v":0},{"$f":"'GRUPA 4 (11)'!D104","v":0},{"$f":"'GRUPA 4 (11)'!E104","v":{"$error":"#DIV/0!"}},{"$error":"#DIV/0!"}]
[null,null,{"$f":"'GRUPA 4 (12)'!B101","v":0},{"$f":"'GRUPA 4 (12)'!C101","v":0},{"$f":"'GRUPA 4 (12)'!D101","v":0},{"$f":"'GRUPA 4 (12)'!E101","v":{"$error":"#DIV/0!"}},{"$error":"#DIV/0!"}]
[null,null,{"$f":"'GRUPA 4 (12)'!B102","v":0},{"$f":"'GRUPA 4 (12)'!C102","v":0},{"$f":"'GRUPA 4 (12)'!D102","v":0},{"$f":"'GRUPA 4 (12)'!E102","v":{"$error":"#DIV/0!"}},{"$error":"#DIV/0!"}]
[null,null,{"$f":"'GRUPA 4 (12)'!B103","v":0},{"$f":"'GRUPA 4 (12)'!C103","v":0},{"$f":"'GRUPA 4 (12)'!D103","v":0},{"$f":"'GRUPA 4 (12)'!E103","v":{"$error":"#DIV/0!"}},{"$error":"#DIV/0!"}]
[null,null,{"$f":"'GRUPA 4 (12)'!B104","v":0},{"$f":"'GRUPA 4 (12)'!C104","v":0},{"$f":"'GRUPA 4 (12)'!D104","v":0},{"$f":"'GRUPA 4 (12)'!E104","v":{"$error":"#DIV/0!"}},{"$error":"#DIV/0!"}]
[null,null,{"$f":"'GRUPA 4 (13)'!B101","v":0},{"$f":"'GRUPA 4 (13)'!C101","v":0},{"$f":"'GRUPA 4 (13)'!D101","v":0},{"$f":"'GRUPA 4 (13)'!E101","v":{"$error":"#DIV/0!"}},{"$error":"#DIV/0!"}]
[null,null,{"$f":"'GRUPA 4 (13)'!B102","v":0},{"$f":"'GRUPA 4 (13)'!C102","v":0},{"$f":"'GRUPA 4 (13)'!D102","v":0},{"$f":"'GRUPA 4 (13)'!E102","v":{"$error":"#DIV/0!"}},{"$error":"#DIV/0!"}]
[null,null,{"$f":"'GRUPA 4 (13)'!B103","v":0},{"$f":"'GRUPA 4 (13)'!C103","v":0},{"$f":"'GRUPA 4 (13)'!D103","v":0},{"$f":"'GRUPA 4 (13)'!E103","v":{"$error":"#DIV/0!"}},{"$error":"#DIV/0!"}]
[null,null,{"$f":"'GRUPA 4 (13)'!B104","v":0},{"$f":"'GRUPA 4 (13)'!C104","v":0},{"$f":"'GRUPA 4 (13)'!D104","v":0},{"$f":"'GRUPA 4 (13)'!E104","v":{"$error":"#DIV/0!"}},{"$error":"#DIV/0!"}]
[null,null,{"$f":"'GRUPA 4 (14)'!B101","v":0},{"$f":"'GRUPA 4 (14)'!C101","v":0},{"$f":"'GRUPA 4 (14)'!D101","v":0},{"$f":"'GRUPA 4 (14)'!E101","v":{"$error":"#DIV/0!"}},{"$error":"#DIV/0!"}]
[null,null,{"$f":"'GRUPA 4 (14)'!B102","v":0},{"$f":"'GRUPA 4 (14)'!C102","v":0},{"$f":"'GRUPA 4 (14)'!D102","v":0},{"$f":"'GRUPA 4 (14)'!E102","v":{"$error":"#DIV/0!"}},{"$error":"#DIV/0!"}]
[null,null,{"$f":"'GRUPA 4 (14)'!B103","v":0},{"$f":"'GRUPA 4 (14)'!C103","v":0},{"$f":"'GRUPA 4 (14)'!D103","v":0},{"$f":"'GRUPA 4 (14)'!E103","v":{"$error":"#DIV/0!"}},{"$error":"#DIV/0!"}]
[null,null,{"$f":"'GRUPA 4 (14)'!B104","v":0},{"$f":"'GRUPA 4 (14)'!C104","v":0},{"$f":"'GRUPA 4 (14)'!D104","v":0},{"$f":"'GRUPA 4 (14)'!E104","v":{"$error":"#DIV/0!"}},{"$error":"#DIV/0!"}]
[null,null,{"$f":"'GRUPA 5'!B102","v":0},{"$f":"'GRUPA 5'!C102","v":0},{"$f":"'GRUPA 5'!D102","v":0},{"$f":"'GRUPA 5'!E102","v":{"$error":"#DIV/0!"}},{"$error":"#DIV/0!"}]
[null,null,{"$f":"'GRUPA 5'!B103","v":0},{"$f":"'GRUPA 5'!C103","v":0},{"$f":"'GRUPA 5'!D103","v":0},{"$f":"'GRUPA 5'!E103","v":{"$error":"#DIV/0!"}},{"$error":"#DIV/0!"}]
[null,null,{"$f":"'GRUPA 5'!B104","v":0},{"$f":"'GRUPA 5'!C104","v":0},{"$f":"'GRUPA 5'!D104","v":0},{"$f":"'GRUPA 5'!E104","v":{"$error":"#DIV/0!"}},{"$error":"#DIV/0!"}]
[null,null,{"$f":"'GRUPA 5'!B105","v":0},{"$f":"'GRUPA 5'!C105","v":0},{"$f":"'GRUPA 5'!D105","v":0},{"$f":"'GRUPA 5'!E105","v":{"$error":"#DIV/0!"}},{"$error":"#DIV/0!"}]
[null,null,{"$f":"'GRUPA 5'!B106","v":0},{"$f":"'GRUPA 5'!C106","v":0},{"$f":"'GRUPA 5'!D106","v":0},{"$f":"'GRUPA 5'!E106","v":{"$error":"#DIV/0!"}},{"$error":"#DIV/0!"}]
[null,null,{"$f":"'GRUPA 5 (2)'!B102","v":0},{"$f":"'GRUPA 5 (2)'!C102","v":0},{"$f":"'GRUPA 5 (2)'!D102","v":0},{"$f":"'GRUPA 5 (2)'!E102","v":{"$error":"#DIV/0!"}},{"$error":"#DIV/0!"}]
[null,null,{"$f":"'GRUPA 5 (2)'!B103","v":0},{"$f":"'GRUPA 5 (2)'!C103","v":0},{"$f":"'GRUPA 5 (2)'!D103","v":0},{"$f":"'GRUPA 5 (2)'!E103","v":{"$error":"#DIV/0!"}},{"$error":"#DIV/0!"}]
[null,null,{"$f":"'GRUPA 5 (2)'!B104","v":0},{"$f":"'GRUPA 5 (2)'!C104","v":0},{"$f":"'GRUPA 5 (2)'!D104","v":0},{"$f":"'GRUPA 5 (2)'!E104","v":{"$error":"#DIV/0!"}},{"$error":"#DIV/0!"}]
[null,null,{"$f":"'GRUPA 5 (2)'!B105","v":0},{"$f":"'GRUPA 5 (2)'!C105","v":0},{"$f":"'GRUPA 5 (2)'!D105","v":0},{"$f":"'GRUPA 5 (2)'!E105","v":{"$error":"#DIV/0!"}},{"$error":"#DIV/0!"}]
[null,null,{"$f":"'GRUPA 5 (2)'!B106","v":0},{"$f":"'GRUPA 5 (2)'!C106","v":0},{"$f":"'GRUPA 5 (2)'!D106","v":0},{"$f":"'GRUPA 5 (2)'!E106","v":{"$error":"#DIV/0!"}},{"$f":"F407","v":{"$error":"#DIV/0!"}}]
[null,null,{"$f":"'GRUPA 5 (3)'!B102","v":0},{"$f":"'GRUPA 5 (3)'!C102","v":0},{"$f":"'GRUPA 5 (3)'!D102","v":0},{"$f":"'GRUPA 5 (3)'!E102","v":{"$error":"#DIV/0!"}},{"$error":"#DIV/0!"}]
[null,null,{"$f":"'GRUPA 5 (3)'!B103","v":0},{"$f":"'GRUPA 5 (3)'!C103","v":0},{"$f":"'GRUPA 5 (3)'!D103","v":0},{"$f":"'GRUPA 5 (3)'!E103","v":{"$error":"#DIV/0!"}},{"$error":"#DIV/0!"}]
[null,null,{"$f":"'GRUPA 5 (3)'!B104","v":0},{"$f":"'GRUPA 5 (3)'!C104","v":0},{"$f":"'GRUPA 5 (3)'!D104","v":0},{"$f":"'GRUPA 5 (3)'!E104","v":{"$error":"#DIV/0!"}},{"$error":"#DIV/0!"}]
[null,null,{"$f":"'GRUPA 5 (3)'!B105","v":0},{"$f":"'GRUPA 5 (3)'!C105","v":0},{"$f":"'GRUPA 5 (3)'!D105","v":0},{"$f":"'GRUPA 5 (3)'!E105","v":{"$error":"#DIV/0!"}},{"$error":"#DIV/0!"}]
[null,null,{"$f":"'GRUPA 5 (3)'!B106","v":0},{"$f":"'GRUPA 5 (3)'!C106","v":0},{"$f":"'GRUPA 5 (3)'!D106","v":0},{"$f":"'GRUPA 5 (3)'!E106","v":{"$error":"#DIV/0!"}},{"$error":"#DIV/0!"}]
[null,null,{"$f":"'GRUPA 5 (4)'!B102","v":0},{"$f":"'GRUPA 5 (4)'!C102","v":0},{"$f":"'GRUPA 5 (4)'!D102","v":0},{"$f":"'GRUPA 5 (4)'!E102","v":{"$error":"#DIV/0!"}},{"$error":"#DIV/0!"}]
[null,null,{"$f":"'GRUPA 5 (4)'!B103","v":0},{"$f":"'GRUPA 5 (4)'!C103","v":0},{"$f":"'GRUPA 5 (4)'!D103","v":0},{"$f":"'GRUPA 5 (4)'!E103","v":{"$error":"#DIV/0!"}},{"$error":"#DIV/0!"}]
[null,null,{"$f":"'GRUPA 5 (4)'!B104","v":0},{"$f":"'GRUPA 5 (4)'!C104","v":0},{"$f":"'GRUPA 5 (4)'!D104","v":0},{"$f":"'GRUPA 5 (4)'!E104","v":{"$error":"#DIV/0!"}},{"$error":"#DIV/0!"}]
[null,null,{"$f":"'GRUPA 5 (4)'!B105","v":0},{"$f":"'GRUPA 5 (4)'!C105","v":0},{"$f":"'GRUPA 5 (4)'!D105","v":0},{"$f":"'GRUPA 5 (4)'!E105","v":{"$error":"#DIV/0!"}},{"$error":"#DIV/0!"}]
[null,null,{"$f":"'GRUPA 5 (4)'!B106","v":0},{"$f":"'GRUPA 5 (4)'!C106","v":0},{"$f":"'GRUPA 5 (4)'!D106","v":0},{"$f":"'GRUPA 5 (4)'!E106","v":{"$error":"#DIV/0!"}},{"$error":"#DIV/0!"}]
[null,null,{"$f":"'GRUPA 5 (5)'!B102","v":0},{"$f":"'GRUPA 5 (5)'!C102","v":0},{"$f":"'GRUPA 5 (5)'!D102","v":0},{"$f":"'GRUPA 5 (5)'!E102","v":{"$error":"#DIV/0!"}},{"$error":"#DIV/0!"}]
[null,null,{"$f":"'GRUPA 5 (5)'!B103","v":0},{"$f":"'GRUPA 5 (5)'!C103","v":0},{"$f":"'GRUPA 5 (5)'!D103","v":0},{"$f":"'GRUPA 5 (5)'!E103","v":{"$error":"#DIV/0!"}},{"$error":"#DIV/0!"}]
[null,null,{"$f":"'GRUPA 5 (5)'!B104","v":0},{"$f":"'GRUPA 5 (5)'!C104","v":0},{"$f":"'GRUPA 5 (5)'!D104","v":0},{"$f":"'GRUPA 5 (5)'!E104","v":{"$error":"#DIV/0!"}},{"$error":"#DIV/0!"}]
[null,null,{"$f":"'GRUPA 5 (5)'!B105","v":0},{"$f":"'GRUPA 5 (5)'!C105","v":0},{"$f":"'GRUPA 5 (5)'!D105","v":0},{"$f":"'GRUPA 5 (5)'!E105","v":{"$error":"#DIV/0!"}},{"$error":"#DIV/0!"}]
[null,null,{"$f":"'GRUPA 5 (5)'!B106","v":0},{"$f":"'GRUPA 5 (5)'!C106","v":0},{"$f":"'GRUPA 5 (5)'!D106","v":0},{"$f":"'GRUPA 5 (5)'!E106","v":{"$error":"#DIV/0!"}},{"$error":"#DIV/0!"}]
[null,null,{"$f":"'GRUPA 5 (6)'!B102","v":0},{"$f":"'GRUPA 5 (6)'!C102","v":0},{"$f":"'GRUPA 5 (6)'!D102","v":0},{"$f":"'GRUPA 5 (6)'!E102","v":{"$error":"#DIV/0!"}},{"$error":"#DIV/0!"}]
[null,null,{"$f":"'GRUPA 5 (6)'!B103","v":0},{"$f":"'GRUPA 5 (6)'!C103","v":0},{"$f":"'GRUPA 5 (6)'!D103","v":0},{"$f":"'GRUPA 5 (6)'!E103","v":{"$error":"#DIV/0!"}},{"$error":"#DIV/0!"}]
[null,null,{"$f":"'GRUPA 5 (6)'!B104","v":0},{"$f":"'GRUPA 5 (6)'!C104","v":0},{"$f":"'GRUPA 5 (6)'!D104","v":0},{"$f":"'GRUPA 5 (6)'!E104","v":{"$error":"#DIV/0!"}},{"$error":"#DIV/0!"}]
[null,null,{"$f":"'GRUPA 5 (6)'!B105","v":0},{"$f":"'GRUPA 5 (6)'!C105","v":0},{"$f":"'GRUPA 5 (6)'!D105","v":0},{"$f":"'GRUPA 5 (6)'!E105","v":{"$error":"#DIV/0!"}},{"$error":"#DIV/0!"}]
[null,null,{"$f":"'GRUPA 5 (6)'!B106","v":0},{"$f":"'GRUPA 5 (6)'!C106","v":0},{"$f":"'GRUPA 5 (6)'!D106","v":0},{"$f":"'GRUPA 5 (6)'!E106","v":{"$error":"#DIV/0!"}},{"$error":"#DIV/0!"}]
[null,null,{"$f":"'GRUPA 5 (7)'!B102","v":0},{"$f":"'GRUPA 5 (7)'!C102","v":0},{"$f":"'GRUPA 5 (7)'!D102","v":0},{"$f":"'GRUPA 5 (7)'!E102","v":{"$error":"#DIV/0!"}},{"$error":"#DIV/0!"}]
[null,null,{"$f":"'GRUPA 5 (7)'!B103","v":0},{"$f":"'GRUPA 5 (7)'!C103","v":0},{"$f":"'GRUPA 5 (7)'!D103","v":0},{"$f":"'GRUPA 5 (7)'!E103","v":{"$error":"#DIV/0!"}},{"$error":"#DIV/0!"}]
[null,null,{"$f":"'GRUPA 5 (7)'!B104","v":0},{"$f":"'GRUPA 5 (7)'!C104","v":0},{"$f":"'GRUPA 5 (7)'!D104","v":0},{"$f":"'GRUPA 5 (7)'!E104","v":{"$error":"#DIV/0!"}},{"$error":"#DIV/0!"}]
[null,null,{"$f":"'GRUPA 5 (7)'!B105","v":0},{"$f":"'GRUPA 5 (7)'!C105","v":0},{"$f":"'GRUPA 5 (7)'!D105","v":0},{"$f":"'GRUPA 5 (7)'!E105","v":{"$error":"#DIV/0!"}},{"$error":"#DIV/0!"}]
[null,null,{"$f":"'GRUPA 5 (7)'!B106","v":0},{"$f":"'GRUPA 5 (7)'!C106","v":0},{"$f":"'GRUPA 5 (7)'!D106","v":0},{"$f":"'GRUPA 5 (7)'!E106","v":{"$error":"#DIV/0!"}},{"$error":"#DIV/0!"}]
[null,null,{"$f":"'GRUPA 5 (8)'!B102","v":0},{"$f":"'GRUPA 5 (8)'!C102","v":0},{"$f":"'GRUPA 5 (8)'!D102","v":0},{"$f":"'GRUPA 5 (8)'!E102","v":{"$error":"#DIV/0!"}},{"$error":"#DIV/0!"}]
[null,null,{"$f":"'GRUPA 5 (8)'!B103","v":0},{"$f":"'GRUPA 5 (8)'!C103","v":0},{"$f":"'GRUPA 5 (8)'!D103","v":0},{"$f":"'GRUPA 5 (8)'!E103","v":{"$error":"#DIV/0!"}},{"$error":"#DIV/0!"}]
[null,null,{"$f":"'GRUPA 5 (8)'!B104","v":0},{"$f":"'GRUPA 5 (8)'!C104","v":0},{"$f":"'GRUPA 5 (8)'!D104","v":0},{"$f":"'GRUPA 5 (8)'!E104","v":{"$error":"#DIV/0!"}},{"$error":"#DIV/0!"}]
[null,null,{"$f":"'GRUPA 5 (8)'!B105","v":0},{"$f":"'GRUPA 5 (8)'!C105","v":0},{"$f":"'GRUPA 5 (8)'!D105","v":0},{"$f":"'GRUPA 5 (8)'!E105","v":{"$error":"#DIV/0!"}},{"$error":"#DIV/0!"}]
[null,null,{"$f":"'GRUPA 5 (8)'!B106","v":0},{"$f":"'GRUPA 5 (8)'!C106","v":0},{"$f":"'GRUPA 5 (8)'!D106","v":0},{"$f":"'GRUPA 5 (8)'!E106","v":{"$error":"#DIV/0!"}},{"$error":"#DIV/0!"}]
[null,null,{"$f":"'GRUPA 5 (9)'!B102","v":0},{"$f":"'GRUPA 5 (9)'!C102","v":0},{"$f":"'GRUPA 5 (9)'!D102","v":0},{"$f":"'GRUPA 5 (9)'!E102","v":{"$error":"#DIV/0!"}},{"$error":"#DIV/0!"}]
[null,null,{"$f":"'GRUPA 5 (9)'!B103","v":0},{"$f":"'GRUPA 5 (9)'!C103","v":0},{"$f":"'GRUPA 5 (9)'!D103","v":0},{"$f":"'GRUPA 5 (9)'!E103","v":{"$error":"#DIV/0!"}},{"$error":"#DIV/0!"}]
[null,null,{"$f":"'GRUPA 5 (9)'!B104","v":0},{"$f":"'GRUPA 5 (9)'!C104","v":0},{"$f":"'GRUPA 5 (9)'!D104","v":0},{"$f":"'GRUPA 5 (9)'!E104","v":{"$error":"#DIV/0!"}},{"$error":"#DIV/0!"}]
[null,null,{"$f":"'GRUPA 5 (9)'!B105","v":0},{"$f":"'GRUPA 5 (9)'!C105","v":0},{"$f":"'GRUPA 5 (9)'!D105","v":0},{"$f":"'GRUPA 5 (9)'!E105","v":{"$error":"#DIV/0!"}},{"$error":"#DIV/0!"}]
[null,null,{"$f":"'GRUPA 5 (9)'!B106","v":0},{"$f":"'GRUPA 5 (9)'!C106","v":0},{"$f":"'GRUPA 5 (9)'!D106","v":0},{"$f":"'GRUPA 5 (9)'!E106","v":{"$error":"#DIV/0!"}},{"$error":"#DIV/0!"}]
[null,null,{"$f":"'GRUPA 5 (10)'!B102","v":0},{"$f":"'GRUPA 5 (10)'!C102","v":0},{"$f":"'GRUPA 5 (10)'!D102","v":0},{"$f":"'GRUPA 5 (10)'!E102","v":{"$error":"#DIV/0!"}},{"$error":"#DIV/0!"}]
[null,null,{"$f":"'GRUPA 5 (10)'!B103","v":0},{"$f":"'GRUPA 5 (10)'!C103","v":0},{"$f":"'GRUPA 5 (10)'!D103","v":0},{"$f":"'GRUPA 5 (10)'!E103","v":{"$error":"#DIV/0!"}},{"$error":"#DIV/0!"}]
[null,null,{"$f":"'GRUPA 5 (10)'!B104","v":0},{"$f":"'GRUPA 5 (10)'!C104","v":0},{"$f":"'GRUPA 5 (10)'!D104","v":0},{"$f":"'GRUPA 5 (10)'!E104","v":{"$error":"#DIV/0!"}},{"$error":"#DIV/0!"}]
[null,null,{"$f":"'GRUPA 5 (10)'!B105","v":0},{"$f":"'GRUPA 5 (10)'!C105","v":0},{"$f":"'GRUPA 5 (10)'!D105","v":0},{"$f":"'GRUPA 5 (10)'!E105","v":{"$error":"#DIV/0!"}},{"$error":"#DIV/0!"}]
[null,null,{"$f":"'GRUPA 5 (10)'!B106","v":0},{"$f":"'GRUPA 5 (10)'!C106","v":0},{"$f":"'GRUPA 5 (10)'!D106","v":0},{"$f":"'GRUPA 5 (10)'!E106","v":{"$error":"#DIV/0!"}},{"$error":"#DIV/0!"}]
[null,null,{"$f":"'GRUPA 5 (11)'!B102","v":0},{"$f":"'GRUPA 5 (11)'!C102","v":0},{"$f":"'GRUPA 5 (11)'!D102","v":0},{"$f":"'GRUPA 5 (11)'!E102","v":{"$error":"#DIV/0!"}},{"$error":"#DIV/0!"}]
[null,null,{"$f":"'GRUPA 5 (11)'!B103","v":0},{"$f":"'GRUPA 5 (11)'!C103","v":0},{"$f":"'GRUPA 5 (11)'!D103","v":0},{"$f":"'GRUPA 5 (11)'!E103","v":{"$error":"#DIV/0!"}},{"$error":"#DIV/0!"}]
[null,null,{"$f":"'GRUPA 5 (11)'!B104","v":0},{"$f":"'GRUPA 5 (11)'!C104","v":0},{"$f":"'GRUPA 5 (11)'!D104","v":0},{"$f":"'GRUPA 5 (11)'!E104","v":{"$error":"#DIV/0!"}},{"$error":"#DIV/0!"}]
[null,null,{"$f":"'GRUPA 5 (11)'!B105","v":0},{"$f":"'GRUPA 5 (11)'!C105","v":0},{"$f":"'GRUPA 5 (11)'!D105","v":0},{"$f":"'GRUPA 5 (11)'!E105","v":{"$error":"#DIV/0!"}},{"$error":"#DIV/0!"}]
[null,null,{"$f":"'GRUPA 5 (11)'!B106","v":0},{"$f":"'GRUPA 5 (11)'!C106","v":0},{"$f":"'GRUPA 5 (11)'!D106","v":0},{"$f":"'GRUPA 5 (11)'!E106","v":{"$error":"#DIV/0!"}},{"$error":"#DIV/0!"}]
[null,null,{"$f":"'GRUPA 5 (12)'!B102","v":0},{"$f":"'GRUPA 5 (12)'!C102","v":0},{"$f":"'GRUPA 5 (12)'!D102","v":0},{"$f":"'GRUPA 5 (12)'!E102","v":{"$error":"#DIV/0!"}},{"$error":"#DIV/0!"}]
[null,null,{"$f":"'GRUPA 5 (12)'!B103","v":0},{"$f":"'GRUPA 5 (12)'!C103","v":0},{"$f":"'GRUPA 5 (12)'!D103","v":0},{"$f":"'GRUPA 5 (12)'!E103","v":{"$error":"#DIV/0!"}},{"$error":"#DIV/0!"}]
[null,null,{"$f":"'GRUPA 5 (12)'!B104","v":0},{"$f":"'GRUPA 5 (12)'!C104","v":0},{"$f":"'GRUPA 5 (12)'!D104","v":0},{"$f":"'GRUPA 5 (12)'!E104","v":{"$error":"#DIV/0!"}},{"$error":"#DIV/0!"}]
[null,null,{"$f":"'GRUPA 5 (12)'!B105","v":0},{"$f":"'GRUPA 5 (12)'!C105","v":0},{"$f":"'GRUPA 5 (12)'!D105","v":0},{"$f":"'GRUPA 5 (12)'!E105","v":{"$error":"#DIV/0!"}},{"$error":"#DIV/0!"}]
[null,null,{"$f":"'GRUPA 5 (12)'!B106","v":0},{"$f":"'GRUPA 5 (12)'!C106","v":0},{"$f":"'GRUPA 5 (12)'!D106","v":0},{"$f":"'GRUPA 5 (12)'!E106","v":{"$error":"#DIV/0!"}},{"$error":"#DIV/0!"}]
[null,null,{"$f":"'GRUPA 6'!B103","v":0},{"$f":"'GRUPA 6'!C103","v":0},{"$f":"'GRUPA 6'!D103","v":0},{"$f":"'GRUPA 6'!E103","v":{"$error":"#DIV/0!"}},{"$error":"#DIV/0!"}]
[null,null,{"$f":"'GRUPA 6'!B104","v":0},{"$f":"'GRUPA 6'!C104","v":0},{"$f":"'GRUPA 6'!D104","v":0},{"$f":"'GRUPA 6'!E104","v":{"$error":"#DIV/0!"}},{"$error":"#DIV/0!"}]
[null,null,{"$f":"'GRUPA 6'!B105","v":0},{"$f":"'GRUPA 6'!C105","v":0},{"$f":"'GRUPA 6'!D105","v":0},{"$f":"'GRUPA 6'!E105","v":{"$error":"#DIV/0!"}},{"$error":"#DIV/0!"}]
[null,null,{"$f":"'GRUPA 6'!B106","v":0},{"$f":"'GRUPA 6'!C106","v":0},{"$f":"'GRUPA 6'!D106","v":0},{"$f":"'GRUPA 6'!E106","v":{"$error":"#DIV/0!"}},{"$error":"#DIV/0!"}]
[null,null,{"$f":"'GRUPA 6'!B107","v":0},{"$f":"'GRUPA 6'!C107","v":0},{"$f":"'GRUPA 6'!D107","v":0},{"$f":"'GRUPA 6'!E107","v":{"$error":"#DIV/0!"}},{"$error":"#DIV/0!"}]
[null,null,{"$f":"'GRUPA 6'!B108","v":0},{"$f":"'GRUPA 6'!C108","v":0},{"$f":"'GRUPA 6'!D108","v":0},{"$f":"'GRUPA 6'!E108","v":{"$error":"#DIV/0!"}},{"$error":"#DIV/0!"}]
[null,null,{"$f":"'GRUPA 6 (2)'!B103","v":0},{"$f":"'GRUPA 6 (2)'!C103","v":0},{"$f":"'GRUPA 6 (2)'!D103","v":0},{"$f":"'GRUPA 6 (2)'!E103","v":{"$error":"#DIV/0!"}},{"$error":"#DIV/0!"}]
[null,null,{"$f":"'GRUPA 6 (2)'!B104","v":0},{"$f":"'GRUPA 6 (2)'!C104","v":0},{"$f":"'GRUPA 6 (2)'!D104","v":0},{"$f":"'GRUPA 6 (2)'!E104","v":{"$error":"#DIV/0!"}},{"$error":"#DIV/0!"}]
[null,null,{"$f":"'GRUPA 6 (2)'!B105","v":0},{"$f":"'GRUPA 6 (2)'!C105","v":0},{"$f":"'GRUPA 6 (2)'!D105","v":0},{"$f":"'GRUPA 6 (2)'!E105","v":{"$error":"#DIV/0!"}},{"$error":"#DIV/0!"}]
[null,null,{"$f":"'GRUPA 6 (2)'!B106","v":0},{"$f":"'GRUPA 6 (2)'!C106","v":0},{"$f":"'GRUPA 6 (2)'!D106","v":0},{"$f":"'GRUPA 6 (2)'!E106","v":{"$error":"#DIV/0!"}},{"$error":"#DIV/0!"}]
[null,null,{"$f":"'GRUPA 6 (2)'!B107","v":0},{"$f":"'GRUPA 6 (2)'!C107","v":0},{"$f":"'GRUPA 6 (2)'!D107","v":0},{"$f":"'GRUPA 6 (2)'!E107","v":{"$error":"#DIV/0!"}},{"$error":"#DIV/0!"}]
[null,null,{"$f":"'GRUPA 6 (2)'!B108","v":0},{"$f":"'GRUPA 6 (2)'!C108","v":0},{"$f":"'GRUPA 6 (2)'!D108","v":0},{"$f":"'GRUPA 6 (2)'!E108","v":{"$error":"#DIV/0!"}},{"$error":"#DIV/0!"}]
[null,null,{"$f":"'GRUPA 6 (3)'!B103","v":0},{"$f":"'GRUPA 6 (3)'!C103","v":0},{"$f":"'GRUPA 6 (3)'!D103","v":0},{"$f":"'GRUPA 6 (3)'!E103","v":{"$error":"#DIV/0!"}},{"$error":"#DIV/0!"}]
[null,null,{"$f":"'GRUPA 6 (3)'!B104","v":0},{"$f":"'GRUPA 6 (3)'!C104","v":0},{"$f":"'GRUPA 6 (3)'!D104","v":0},{"$f":"'GRUPA 6 (3)'!E104","v":{"$error":"#DIV/0!"}},{"$f":"F471","v":{"$error":"#DIV/0!"}}]
[null,null,{"$f":"'GRUPA 6 (3)'!B105","v":0},{"$f":"'GRUPA 6 (3)'!C105","v":0},{"$f":"'GRUPA 6 (3)'!D105","v":0},{"$f":"'GRUPA 6 (3)'!E105","v":{"$error":"#DIV/0!"}},{"$error":"#DIV/0!"}]
[null,null,{"$f":"'GRUPA 6 (3)'!B106","v":0},{"$f":"'GRUPA 6 (3)'!C106","v":0},{"$f":"'GRUPA 6 (3)'!D106","v":0},{"$f":"'GRUPA 6 (3)'!E106","v":{"$error":"#DIV/0!"}},{"$error":"#DIV/0!"}]
[null,null,{"$f":"'GRUPA 6 (3)'!B107","v":0},{"$f":"'GRUPA 6 (3)'!C107","v":0},{"$f":"'GRUPA 6 (3)'!D107","v":0},{"$f":"'GRUPA 6 (3)'!E107","v":{"$error":"#DIV/0!"}},{"$error":"#DIV/0!"}]
[null,null,{"$f":"'GRUPA 6 (3)'!B108","v":0},{"$f":"'GRUPA 6 (3)'!C108","v":0},{"$f":"'GRUPA 6 (3)'!D108","v":0},{"$f":"'GRUPA 6 (3)'!E108","v":{"$error":"#DIV/0!"}},{"$error":"#DIV/0!"}]
[null,null,{"$f":"'GRUPA 6 (4)'!B103","v":0},{"$f":"'GRUPA 6 (4)'!C103","v":0},{"$f":"'GRUPA 6 (4)'!D103","v":0},{"$f":"'GRUPA 6 (4)'!E103","v":{"$error":"#DIV/0!"}},{"$error":"#DIV/0!"}]
[null,null,{"$f":"'GRUPA 6 (4)'!B104","v":0},{"$f":"'GRUPA 6 (4)'!C104","v":0},{"$f":"'GRUPA 6 (4)'!D104","v":0},{"$f":"'GRUPA 6 (4)'!E104","v":{"$error":"#DIV/0!"}},{"$error":"#DIV/0!"}]
[null,null,{"$f":"'GRUPA 6 (4)'!B105","v":0},{"$f":"'GRUPA 6 (4)'!C105","v":0},{"$f":"'GRUPA 6 (4)'!D105","v":0},{"$f":"'GRUPA 6 (4)'!E105","v":{"$error":"#DIV/0!"}},{"$error":"#DIV/0!"}]
[null,null,{"$f":"'GRUPA 6 (4)'!B106","v":0},{"$f":"'GRUPA 6 (4)'!C106","v":0},{"$f":"'GRUPA 6 (4)'!D106","v":0},{"$f":"'GRUPA 6 (4)'!E106","v":{"$error":"#DIV/0!"}},{"$error":"#DIV/0!"}]
[null,null,{"$f":"'GRUPA 6 (4)'!B107","v":0},{"$f":"'GRUPA 6 (4)'!C107","v":0},{"$f":"'GRUPA 6 (4)'!D107","v":0},{"$f":"'GRUPA 6 (4)'!E107","v":{"$error":"#DIV/0!"}},{"$error":"#DIV/0!"}]
[null,null,{"$f":"'GRUPA 6 (4)'!B108","v":0},{"$f":"'GRUPA 6 (4)'!C108","v":0},{"$f":"'GRUPA 6 (4)'!D108","v":0},{"$f":"'GRUPA 6 (4)'!E108","v":{"$error":"#DIV/0!"}},{"$error":"#DIV/0!"}]
[null,null,{"$f":"'GRUPA 6 (5)'!B103","v":0},{"$f":"'GRUPA 6 (5)'!C103","v":0},{"$f":"'GRUPA 6 (5)'!D103","v":0},{"$f":"'GRUPA 6 (5)'!E103","v":{"$error":"#DIV/0!"}},{"$error":"#DIV/0!"}]
[null,null,{"$f":"'GRUPA 6 (5)'!B104","v":0},{"$f":"'GRUPA 6 (5)'!C104","v":0},{"$f":"'GRUPA 6 (5)'!D104","v":0},{"$f":"'GRUPA 6 (5)'!E104","v":{"$error":"#DIV/0!"}},{"$error":"#DIV/0!"}]
[null,null,{"$f":"'GRUPA 6 (5)'!B105","v":0},{"$f":"'GRUPA 6 (5)'!C105","v":0},{"$f":"'GRUPA 6 (5)'!D105","v":0},{"$f":"'GRUPA 6 (5)'!E105","v":{"$error":"#DIV/0!"}},{"$error":"#DIV/0!"}]
[null,null,{"$f":"'GRUPA 6 (5)'!B106","v":0},{"$f":"'GRUPA 6 (5)'!C106","v":0},{"$f":"'GRUPA 6 (5)'!D106","v":0},{"$f":"'GRUPA 6 (5)'!E106","v":{"$error":"#DIV/0!"}},{"$error":"#DIV/0!"}]
[null,null,{"$f":"'GRUPA 6 (5)'!B107","v":0},{"$f":"'GRUPA 6 (5)'!C107","v":0},{"$f":"'GRUPA 6 (5)'!D107","v":0},{"$f":"'GRUPA 6 (5)'!E107","v":{"$error":"#DIV/0!"}},{"$error":"#DIV/0!"}]
[null,null,{"$f":"'GRUPA 6 (5)'!B108","v":0},{"$f":"'GRUPA 6 (5)'!C108","v":0},{"$f":"'GRUPA 6 (5)'!D108","v":0},{"$f":"'GRUPA 6 (5)'!E108","v":{"$error":"#DIV/0!"}},{"$error":"#DIV/0!"}]
[null,null,null,null,null,null,0]
[null,null,null,null,null,null,0]
[null,null,null,null,null,null,0]
[null,null,null,null,null,null,0]
[null,null,null,null,null,null,0]
[null,null,null,null,null,null,0]
[null,null,null,null,null,null,0]
[null,null,null,null,null,null,0]
[null,null,null,null,null,null,0]
[null,null,null,null,null,null,0]
[null,null,null,null,null,null,0]
[null,null,null,null,null,null,0]
[null,null,null,null,null,null,0]
[null,null,null,null,null,null,0]
[null,null,null,null,null,null,0]
[null,null,null,null,null,null,0]
[null,null,null,null,null,null,0]
[null,null,null,null,null,null,0]
[null,null,null,null,null,null,0]
[null,null,null,null,null,null,0]
[null,null,null,null,null,null,0]
[null,null,null,null,null,null,0]
[null,null,null,null,null,null,0]
[null,null,null,null,null,null,0]
[null,null,null,null,null,null,0]
[null,null,null,null,null,null,0]
[null,null,null,null,null,null,0]
[null,null,null,null,null,null,0]
[null,null,null,null,null,null,0]
[null,null,null,null,null,null,0]
[null,null,null,null,null,null,0]
[null,null,null,null,null,null,0]
[null,null,null,null,null,null,0]
[null,null,null,null,null,null,0]
[null,null,null,null,null,null,0]
[null,null,null,null,null,null,0]
[null,null,null,null,null,null,0]
[null,null,null,null,null,null,0]
[null,null,null,null,null,null,0]
[null,null,null,null,null,null,0]
[null,null,null,null,null,null,0]
[null,null,null,null,null,null,0]
[null,null,null,null,null,null,0]
[null,null,null,null,null,null,0]
[null,null,null,null,null,null,0]
[null,null,null,null,null,null,0]
[null,null,null,null,null,null,0]
[null,null,null,null,null,null,{"$f":"F535","v":0}]
[null,null,null,null,null,null,0]
[null,null,null,null,null,null,0]
[null,null,null,null,null,null,0]
[null,null,null,null,null,null,0]
[null,null,null,null,null,null,0]
[null,null,null,null,null,null,0]
[null,null,null,null,null,null,0]
[null,null,null,null,null,null,0]
[null,null,null,null,null,null,0]
[null,null,null,null,null,null,0]
[null,null,null,null,null,null,0]
[null,null,null,null,null,null,0]
[null,null,null,null,null,null,0]
[null,null,null,null,null,null,0]
[null,null,null,null,null,null,0]
[null,null,null,null,null,null,0]
[null,null,null,null,null,null,0]
[null,null,null,null,null,null,0]
[null,null,null,null,null,null,0]
[null,null,null,null,null,null,0]
[null,null,null,null,null,null,0]
[null,null,null,null,null,null,0]
[null,null,null,null,null,null,0]
[null,null,null,null,null,null,0]
[null,null,null,null,null,null,0]
[null,null,null,null,null,null,0]
[null,null,null,null,null,null,0]
[null,null,null,null,null,null,0]
[null,null,null,null,null,null,0]
[null,null,null,null,null,null,0]
[null,null,null,null,null,null,0]
[null,null,null,null,null,null,0]
[null,null,null,null,null,null,0]
[null,null,null,null,null,null,0]
[null,null,null,null,null,null,0]
[null,null,null,null,null,null,0]
[null,null,null,null,null,null,0]
[null,null,null,null,null,null,0]
[null,null,null,null,null,null,0]
[null,null,null,null,null,null,0]
[null,null,null,null,null,null,0]
[null,null,null,null,null,null,0]
[null,null,null,null,null,null,0]
[null,null,null,null,null,null,0]
[null,null,null,null,null,null,0]
[null,null,null,null,null,null,0]
[null,null,null,null,null,null,0]
[null,null,null,null,null,null,0]
[null,null,null,null,null,null,0]
[null,null,null,null,null,null,0]
[null,null,null,null,null,null,0]
[null,null,null,null,null,null,0]
[null,null,null,null,null,null,0]
[null,null,null,null,null,null,0]
[null,null,null,null,null,null,0]
[null,null,null,null,null,null,0]
[null,null,null,null,null,null,0]
[null,null,null,null,null,null,0]
[null,null,null,null,null,null,0]
[null,null,null,null,null,null,0]
[null,null,null,null,null,null,0]
[null,null,null,null,null,null,0]
[null,null,null,null,null,null,0]
[null,null,null,null,null,null,{"$f":"F599","v":0}]
[null,null,null,null,null,null,0]
[null,null,null,null,null,null,0]
[null,null,null,null,null,null,0]
[null,null,null,null,null,null,0]
[null,null,null,null,null,null,0]
[null,null,null,null,null,null,0]
[null,null,null,null,null,null,0]
[null,null,null,null,null,null,0]
[null,null,null,null,null,null,0]
[null,null,null,null,null,null,0]
[null,null,null,null,null,null,0]
[null,null,null,null,null,null,0]
[null,null,null,null,null,null,0]
[null,null,null,null,null,null,0]
[null,null,null,null,null,null,0]
[null,null,null,null,null,null,0]
[null,null,null,null,null,null,0]
[null,null,null,null,null,null,0]
[null,null,null,null,null,null,0]
[null,null,null,null,null,null,0]
[null,null,null,null,null,null,0]
[null,null,null,null,null,null,0]
[null,null,null,null,null,null,0]
[null,null,null,null,null,null,0]
[null,null,null,null,null,null,0]
[null,null,null,null,null,null,0]
[null,null,null,null,null,null,0]
[null,null,null,null,null,null,0]
[null,null,null,null,null,null,0]
[null,null,null,null,null,null,0]
[null,null,null,null,null,null,0]
[null,null,null,null,null,null,0]
[null,null,null,null,null,null,0]
[null,null,null,null,null,null,0]
[null,null,null,null,null,null,0]
[null,null,null,null,null,null,0]
[null,null,null,null,null,null,0]
[null,null,null,null,null,null,0]
[null,null,null,null,null,null,0]
[null,null,null,null,null,null,0]
[null,null,null,null,null,null,0]
[null,null,null,null,null,null,0]
[null,null,null,null,null,null,0]
[null,null,null,null,null,null,0]
[null,null,null,null,null,null,0]
[null,null,null,null,null,null,0]
[null,null,null,null,null,null,0]
[null,null,null,null,null,null,0]
[null,null,null,null,null,null,0]
[null,null,null,null,null,null,0]
[null,null,null,null,null,null,0]
[null,null,null,null,null,null,0]
[null,null,null,null,null,null,0]
[null,null,null,null,null,null,0]
[null,null,null,null,null,null,0]
[null,null,null,null,null,null,0]

{"sheet":"PRIPREMA (STATUS)","index":2,"n_rows":132,"n_cols":6,"rows_kept":132,"cut":false,"hidden":false,"merged":[[0,0,0,5]]}
[{"$f":"PODEŠAVANJA!B3","v":0}]
[null,{"$f":"PODEŠAVANJA!E5","v":0},{"$f":"PODEŠAVANJA!B5","v":0},null,{"$f":"PODEŠAVANJA!C7","v":0}]
["BROJ","PREZIME","IME","Br. Takmičarske","KLUB (skraćenica)","Datum rođenja"]
["B","BYE",null,null,null,0]
[1]
[2]
[3]
[4]
[5]
[6]
[7]
[8]
[9]
[10]
[11]
[12]
[13]
[14]
[15]
[16]
[17]
[18]
[19]
[20]
[21]
[22]
[23]
[24]
[25]
[26]
[27]
[28]
[29]
[30]
[31]
[32]
[33]
[34]
[35]
[36]
[37]
[38]
[39]
[40]
[41]
[42]
[43]
[44]
[45]
[46]
[47]
[48]
[49]
[50]
[51]
[52]
[53]
[54]
[55]
[56]
[57]
[58]
[59]
[60]
[61]
[62]
[63]
[64]
[65]
[66]
[67]
[68]
[69]
[70]
[71]
[72]
[73]
[74]
[75]
[76]
[77]
[78]
[79]
[80]
[81]
[82]
[83]
[84]
[85]
[86]
[87]
[88]
[89]
[90]
[91]
[92]
[93]
[94]
[95]
[96]
[97]
[98]
[99]
[100]
[101]
[102]
[103]
[104]
[105]
[106]
[107]
[108]
[109]
[110]
[111]
[112]
[113]
[114]
[115]
[116]
[117]
[118]
[119]
[120]
[121]
[122]
[123]
[124]
[125]
[126]
[127]
[128]

{"sheet":"GRUPA 9","index":3,"n_rows":112,"n_cols":42,"rows_kept":112,"cut":false,"hidden":true,"merged":[[1,3,2,3],[3,14,3,15],[1,4,2,5],[3,4,3,5],[3,6,3,7],[3,8,3,9],[3,10,3,11],[3,12,3,13],[1,6,2,7],[1,8,2,9],[1,10,2,11],[1,12,2,13]]}
[]
[null,null,null,"Br. sa\nstatusa"]
[]
[null,null,"Br. sa\nstatusa","GRUPA 9 TAKMIČARA",{"$f":"IFERROR(VLOOKUP($E2,'PRIPREMA (STATUS)'!$A$5:$F$128,2)&\" \"&VLOOKUP($E2,'PRIPREMA (STATUS)'!$A$5:$F$128,3),\"\")","v":""},null,{"$f":"IFERROR(VLOOKUP(G2,'PRIPREMA (STATUS)'!$A$5:$F$128,2)&\" \"&VLOOKUP(G2,'PRIPREMA (STATUS)'!$A$5:$F$128,3),\"\")","v":""},null,{"$f":"IFERROR(VLOOKUP(I2,'PRIPREMA (STATUS)'!$A$5:$F$128,2)&\" \"&VLOOKUP(I2,'PRIPREMA (STATUS)'!$A$5:$F$128,3),\"\")","v":""},null,{"$f":"IFERROR(VLOOKUP(K2,'PRIPREMA (STATUS)'!$A$5:$F$128,2)&\" \"&VLOOKUP(K2,'PRIPREMA (STATUS)'!$A$5:$F$128,3),\"\")","v":""},null,{"$f":"IFERROR(VLOOKUP(M2,'PRIPREMA (STATUS)'!$A$5:$F$128,2)&\" \"&VLOOKUP(M2,'PRIPREMA (STATUS)'!$A$5:$F$128,3),\"\")","v":""},null,"UKUPNO\n+                    -"]
[null,null,null,{"$f":"IFERROR(VLOOKUP(C5,'PRIPREMA (STATUS)'!$A$5:$F$128,2)&\" \"&VLOOKUP(C5,'PRIPREMA (STATUS)'!$A$5:$F$128,3),\"\")","v":""},null,null,null,null,null,null,null,null,null,null,{"$f":"SUM(E5,G5,I5,K5,M5)","v":0},0,{"$f":"COUNTIF(E5:N5,\"<>\")/2","v":0},{"$f":"O5/Q5","v":{"$error":"#DIV/0!"}}]
[null,null,null,{"$f":"IFERROR(VLOOKUP(C6,'PRIPREMA (STATUS)'!$A$5:$F$128,2)&\" \"&VLOOKUP(C6,'PRIPREMA (STATUS)'!$A$5:$F$128,3),\"\")","v":""},null,null,null,null,null,null,null,null,null,null,0,0,{"$f":"COUNTIF(E6:N6,\"<>\")/2","v":0},{"$f":"O6/Q6","v":{"$error":"#DIV/0!"}}]
[null,null,null,{"$f":"IFERROR(VLOOKUP(C7,'PRIPREMA (STATUS)'!$A$5:$F$128,2)&\" \"&VLOOKUP(C7,'PRIPREMA (STATUS)'!$A$5:$F$128,3),\"\")","v":""},null,null,null,null,null,null,null,null,null,null,0,0,0,{"$error":"#DIV/0!"}]
[null,null,null,{"$f":"IFERROR(VLOOKUP(C8,'PRIPREMA (STATUS)'!$A$5:$F$128,2)&\" \"&VLOOKUP(C8,'PRIPREMA (STATUS)'!$A$5:$F$128,3),\"\")","v":""},null,null,null,null,null,null,null,null,null,null,0,0,0,{"$error":"#DIV/0!"}]
[null,null,null,{"$f":"IFERROR(VLOOKUP(C9,'PRIPREMA (STATUS)'!$A$5:$F$128,2)&\" \"&VLOOKUP(C9,'PRIPREMA (STATUS)'!$A$5:$F$128,3),\"\")","v":""},null,null,null,null,null,null,null,null,null,null,0,0,0,{"$error":"#DIV/0!"}]
[null,null,null,"UKUPNO ( - / + )",{"$f":"SUM(E5:E9)","v":0},0,0,0,0,0,0,0,0,0]
[null,null,null,null,null,{"$f":"COUNTIF(F5:F9,\"<>\")","v":0},null,0,null,0,null,0,null,0]
[null,null,null,null,null,{"$f":"F10/F11","v":{"$error":"#DIV/0!"}},null,{"$f":"H10/H11","v":{"$error":"#DIV/0!"}},null,{"$f":"J10/J11","v":{"$error":"#DIV/0!"}},null,{"$f":"L10/L11","v":{"$error":"#DIV/0!"}},null,{"$f":"N10/N11","v":{"$error":"#DIV/0!"}}]
[]
[]
[]
[]
[]
[]
[]
[]
[]
[]
[]
[]
[]
[]
[]
[]
[]
[]
[]
[]
[]
[]
[]
[]
[]
[]
[]
[]
[]
[]
[]
[]
[]
[]
[]
[]
[]
[]
[]
[]
[]
[]
[]
[]
[]
[]
[]
[]
[]
[]
[]
[]
[]
[]
[]
[]
[]
[]
[]
[]
[]
[]
[]
[]
[]
[]
[]
[]
[]
[]
[]
[]
[]
[]
[]
[]
[]
[]
[]
[]
[]
[]
[]
[]
[]
[]
[]
[]
["x","x","x","x","x","x","x","x","x","x","x","x","x","x","x","x","x","x","x","x","x","x","x","x","x","x","x","x","x","x","x","x","x","x","x","x","x","x","x","x","x","x"]
[null,"br. Statusa","(+)","(-)",null,"%"]
[null,{"$f":"E2","v":0},{"$f":"F10","v":0},{"$f":"E10","v":0},null,{"$f":"F12","v":{"$error":"#DIV/0!"}}]
[null,{"$f":"G2","v":0},{"$f":"H10","v":0},{"$f":"G10","v":0},null,{"$f":"H12","v":{"$error":"#DIV/0!"}}]
[null,{"$f":"I2","v":0},{"$f":"J10","v":0},{"$f":"I10","v":0},null,{"$f":"J12","v":{"$error":"#DIV/0!"}}]
[null,{"$f":"K2","v":0},{"$f":"L10","v":0},{"$f":"K10","v":0},null,{"$f":"L12","v":{"$error":"#DIV/0!"}}]
[null,{"$f":"M2","v":0},{"$f":"N10","v":0},{"$f":"M10","v":0},null,{"$f":"N12","v":{"$error":"#DIV/0!"}}]
[null,{"$f":"C5","v":0},{"$f":"O5","v":0},{"$f":"P5","v":0},null,{"$f":"R5","v":{"$error":"#DIV/0!"}}]
[null,{"$f":"C6","v":0},{"$f":"O6","v":0},0,null,{"$f":"R6","v":{"$error":"#DIV/0!"}}]
[null,0,0,0,null,{"$error":"#DIV/0!"}]
[null,0,0,0,null,{"$error":"#DIV/0!"}]
[null,0,0,0,null,{"$error":"#DIV/0!"}]

{"sheet":"GRUPA 9 (2)","index":4,"n_rows":112,"n_cols":42,"rows_kept":112,"cut":false,"hidden":true,"merged":[[3,14,3,15],[1,3,2,3],[1,4,2,5],[1,6,2,7],[1,8,2,9],[1,10,2,11],[1,12,2,13],[3,4,3,5],[3,6,3,7],[3,8,3,9],[3,10,3,11],[3,12,3,13]]}
[]
[null,null,null,"Br. sa\nstatusa"]
[]
[null,null,"Br. sa\nstatusa","GRUPA 9 TAKMIČARA",{"$f":"IFERROR(VLOOKUP($E2,'PRIPREMA (STATUS)'!$A$5:$F$128,2)&\" \"&VLOOKUP($E2,'PRIPREMA (STATUS)'!$A$5:$F$128,3),\"\")","v":""},null,{"$f":"IFERROR(VLOOKUP(G2,'PRIPREMA (STATUS)'!$A$5:$F$128,2)&\" \"&VLOOKUP(G2,'PRIPREMA (STATUS)'!$A$5:$F$128,3),\"\")","v":""},null,{"$f":"IFERROR(VLOOKUP(I2,'PRIPREMA (STATUS)'!$A$5:$F$128,2)&\" \"&VLOOKUP(I2,'PRIPREMA (STATUS)'!$A$5:$F$128,3),\"\")","v":""},null,{"$f":"IFERROR(VLOOKUP(K2,'PRIPREMA (STATUS)'!$A$5:$F$128,2)&\" \"&VLOOKUP(K2,'PRIPREMA (STATUS)'!$A$5:$F$128,3),\"\")","v":""},null,{"$f":"IFERROR(VLOOKUP(M2,'PRIPREMA (STATUS)'!$A$5:$F$128,2)&\" \"&VLOOKUP(M2,'PRIPREMA (STATUS)'!$A$5:$F$128,3),\"\")","v":""},null,"UKUPNO\n+                    -"]
[null,null,null,{"$f":"IFERROR(VLOOKUP(C5,'PRIPREMA (STATUS)'!$A$5:$F$128,2)&\" \"&VLOOKUP(C5,'PRIPREMA (STATUS)'!$A$5:$F$128,3),\"\")","v":""},null,null,null,null,null,null,null,null,null,null,{"$f":"SUM(E5,G5,I5,K5,M5)","v":0},0,{"$f":"COUNTIF(E5:N5,\"<>\")/2","v":0},{"$f":"O5/Q5","v":{"$error":"#DIV/0!"}}]
[null,null,null,{"$f":"IFERROR(VLOOKUP(C6,'PRIPREMA (STATUS)'!$A$5:$F$128,2)&\" \"&VLOOKUP(C6,'PRIPREMA (STATUS)'!$A$5:$F$128,3),\"\")","v":""},null,null,null,null,null,null,null,null,null,null,0,0,{"$f":"COUNTIF(E6:N6,\"<>\")/2","v":0},{"$f":"O6/Q6","v":{"$error":"#DIV/0!"}}]
[null,null,null,{"$f":"IFERROR(VLOOKUP(C7,'PRIPREMA (STATUS)'!$A$5:$F$128,2)&\" \"&VLOOKUP(C7,'PRIPREMA (STATUS)'!$A$5:$F$128,3),\"\")","v":""},null,null,null,null,null,null,null,null,null,null,0,0,0,{"$error":"#DIV/0!"}]
[null,null,null,{"$f":"IFERROR(VLOOKUP(C8,'PRIPREMA (STATUS)'!$A$5:$F$128,2)&\" \"&VLOOKUP(C8,'PRIPREMA (STATUS)'!$A$5:$F$128,3),\"\")","v":""},null,null,null,null,null,null,null,null,null,null,0,0,0,{"$error":"#DIV/0!"}]
[null,null,null,{"$f":"IFERROR(VLOOKUP(C9,'PRIPREMA (STATUS)'!$A$5:$F$128,2)&\" \"&VLOOKUP(C9,'PRIPREMA (STATUS)'!$A$5:$F$128,3),\"\")","v":""},null,null,null,null,null,null,null,null,null,null,0,0,0,{"$error":"#DIV/0!"}]
[null,null,null,"UKUPNO ( - / + )",{"$f":"SUM(E5:E9)","v":0},0,0,0,0,0,0,0,0,0]
[null,null,null,null,null,{"$f":"COUNTIF(F5:F9,\"<>\")","v":0},null,0,null,0,null,0,null,0]
[null,null,null,null,null,{"$f":"F10/F11","v":{"$error":"#DIV/0!"}},null,{"$f":"H10/H11","v":{"$error":"#DIV/0!"}},null,{"$f":"J10/J11","v":{"$error":"#DIV/0!"}},null,{"$f":"L10/L11","v":{"$error":"#DIV/0!"}},null,{"$f":"N10/N11","v":{"$error":"#DIV/0!"}}]
[]
[]
[]
[]
[]
[]
[]
[]
[]
[]
[]
[]
[]
[]
[]
[]
[]
[]
[]
[]
[]
[]
[]
[]
[]
[]
[]
[]
[]
[]
[]
[]
[]
[]
[]
[]
[]
[]
[]
[]
[]
[]
[]
[]
[]
[]
[]
[]
[]
[]
[]
[]
[]
[]
[]
[]
[]
[]
[]
[]
[]
[]
[]
[]
[]
[]
[]
[]
[]
[]
[]
[]
[]
[]
[]
[]
[]
[]
[]
[]
[]
[]
[]
[]
[]
[]
[]
[]
["x","x","x","x","x","x","x","x","x","x","x","x","x","x","x","x","x","x","x","x","x","x","x","x","x","x","x","x","x","x","x","x","x","x","x","x","x","x","x","x","x","x"]
[null,"br. Statusa","(+)","(-)",null,"%"]
[null,{"$f":"E2","v":0},{"$f":"F10","v":0},{"$f":"E10","v":0},null,{"$f":"F12","v":{"$error":"#DIV/0!"}}]
[null,{"$f":"G2","v":0},{"$f":"H10","v":0},{"$f":"G10","v":0},null,{"$f":"H12","v":{"$error":"#DIV/0!"}}]
[null,{"$f":"I2","v":0},{"$f":"J10","v":0},{"$f":"I10","v":0},null,{"$f":"J12","v":{"$error":"#DIV/0!"}}]
[null,{"$f":"K2","v":0},{"$f":"L10","v":0},{"$f":"K10","v":0},null,{"$f":"L12","v":{"$error":"#DIV/0!"}}]
[null,{"$f":"M2","v":0},{"$f":"N10","v":0},{"$f":"M10","v":0},null,{"$f":"N12","v":{"$error":"#DIV/0!"}}]
[null,{"$f":"C5","v":0},{"$f":"O5","v":0},{"$f":"P5","v":0},null,{"$f":"R5","v":{"$error":"#DIV/0!"}}]
[null,{"$f":"C6","v":0},{"$f":"O6","v":0},0,null,{"$f":"R6","v":{"$error":"#DIV/0!"}}]
[null,0,0,0,null,{"$error":"#DIV/0!"}]
[null,0,0,0,null,{"$error":"#DIV/0!"}]
[null,0,0,0,null,{"$error":"#DIV/0!"}]

{"sheet":"GRUPA 9 (3)","index":5,"n_rows":112,"n_cols":42,"rows_kept":112,"cut":false,"hidden":true,"merged":[[3,14,3,15],[1,3,2,3],[1,4,2,5],[1,6,2,7],[1,8,2,9],[1,10,2,11],[1,12,2,13],[3,4,3,5],[3,6,3,7],[3,8,3,9],[3,10,3,11],[3,12,3,13]]}
[]
[null,null,null,"Br. sa\nstatusa"]
[]
[null,null,"Br. sa\nstatusa","GRUPA 9 TAKMIČARA",{"$f":"IFERROR(VLOOKUP($E2,'PRIPREMA (STATUS)'!$A$5:$F$128,2)&\" \"&VLOOKUP($E2,'PRIPREMA (STATUS)'!$A$5:$F$128,3),\"\")","v":""},null,{"$f":"IFERROR(VLOOKUP(G2,'PRIPREMA (STATUS)'!$A$5:$F$128,2)&\" \"&VLOOKUP(G2,'PRIPREMA (STATUS)'!$A$5:$F$128,3),\"\")","v":""},null,{"$f":"IFERROR(VLOOKUP(I2,'PRIPREMA (STATUS)'!$A$5:$F$128,2)&\" \"&VLOOKUP(I2,'PRIPREMA (STATUS)'!$A$5:$F$128,3),\"\")","v":""},null,{"$f":"IFERROR(VLOOKUP(K2,'PRIPREMA (STATUS)'!$A$5:$F$128,2)&\" \"&VLOOKUP(K2,'PRIPREMA (STATUS)'!$A$5:$F$128,3),\"\")","v":""},null,{"$f":"IFERROR(VLOOKUP(M2,'PRIPREMA (STATUS)'!$A$5:$F$128,2)&\" \"&VLOOKUP(M2,'PRIPREMA (STATUS)'!$A$5:$F$128,3),\"\")","v":""},null,"UKUPNO\n+                    -"]
[null,null,null,{"$f":"IFERROR(VLOOKUP(C5,'PRIPREMA (STATUS)'!$A$5:$F$128,2)&\" \"&VLOOKUP(C5,'PRIPREMA (STATUS)'!$A$5:$F$128,3),\"\")","v":""},null,null,null,null,null,null,null,null,null,null,{"$f":"SUM(E5,G5,I5,K5,M5)","v":0},0,{"$f":"COUNTIF(E5:N5,\"<>\")/2","v":0},{"$f":"O5/Q5","v":{"$error":"#DIV/0!"}}]
[null,null,null,{"$f":"IFERROR(VLOOKUP(C6,'PRIPREMA (STATUS)'!$A$5:$F$128,2)&\" \"&VLOOKUP(C6,'PRIPREMA (STATUS)'!$A$5:$F$128,3),\"\")","v":""},null,null,null,null,null,null,null,null,null,null,0,0,{"$f":"COUNTIF(E6:N6,\"<>\")/2","v":0},{"$f":"O6/Q6","v":{"$error":"#DIV/0!"}}]
[null,null,null,{"$f":"IFERROR(VLOOKUP(C7,'PRIPREMA (STATUS)'!$A$5:$F$128,2)&\" \"&VLOOKUP(C7,'PRIPREMA (STATUS)'!$A$5:$F$128,3),\"\")","v":""},null,null,null,null,null,null,null,null,null,null,0,0,0,{"$error":"#DIV/0!"}]
[null,null,null,{"$f":"IFERROR(VLOOKUP(C8,'PRIPREMA (STATUS)'!$A$5:$F$128,2)&\" \"&VLOOKUP(C8,'PRIPREMA (STATUS)'!$A$5:$F$128,3),\"\")","v":""},null,null,null,null,null,null,null,null,null,null,0,0,0,{"$error":"#DIV/0!"}]
[null,null,null,{"$f":"IFERROR(VLOOKUP(C9,'PRIPREMA (STATUS)'!$A$5:$F$128,2)&\" \"&VLOOKUP(C9,'PRIPREMA (STATUS)'!$A$5:$F$128,3),\"\")","v":""},null,null,null,null,null,null,null,null,null,null,0,0,0,{"$error":"#DIV/0!"}]
[null,null,null,"UKUPNO ( - / + )",{"$f":"SUM(E5:E9)","v":0},0,0,0,0,0,0,0,0,0]
[null,null,null,null,null,{"$f":"COUNTIF(F5:F9,\"<>\")","v":0},null,0,null,0,null,0,null,0]
[null,null,null,null,null,{"$f":"F10/F11","v":{"$error":"#DIV/0!"}},null,{"$f":"H10/H11","v":{"$error":"#DIV/0!"}},null,{"$f":"J10/J11","v":{"$error":"#DIV/0!"}},null,{"$f":"L10/L11","v":{"$error":"#DIV/0!"}},null,{"$f":"N10/N11","v":{"$error":"#DIV/0!"}}]
[]
[]
[]
[]
[]
[]
[]
[]
[]
[]
[]
[]
[]
[]
[]
[]
[]
[]
[]
[]
[]
[]
[]
[]
[]
[]
[]
[]
[]
[]
[]
[]
[]
[]
[]
[]
[]
[]
[]
[]
[]
[]
[]
[]
[]
[]
[]
[]
[]
[]
[]
[]
[]
[]
[]
[]
[]
[]
[]
[]
[]
[]
[]
[]
[]
[]
[]
[]
[]
[]
[]
[]
[]
[]
[]
[]
[]
[]
[]
[]
[]
[]
[]
[]
[]
[]
[]
[]
["x","x","x","x","x","x","x","x","x","x","x","x","x","x","x","x","x","x","x","x","x","x","x","x","x","x","x","x","x","x","x","x","x","x","x","x","x","x","x","x","x","x"]
[null,"br. Statusa","(+)","(-)",null,"%"]
[null,{"$f":"E2","v":0},{"$f":"F10","v":0},{"$f":"E10","v":0},null,{"$f":"F12","v":{"$error":"#DIV/0!"}}]
[null,{"$f":"G2","v":0},{"$f":"H10","v":0},{"$f":"G10","v":0},null,{"$f":"H12","v":{"$error":"#DIV/0!"}}]
[null,{"$f":"I2","v":0},{"$f":"J10","v":0},{"$f":"I10","v":0},null,{"$f":"J12","v":{"$error":"#DIV/0!"}}]
[null,{"$f":"K2","v":0},{"$f":"L10","v":0},{"$f":"K10","v":0},null,{"$f":"L12","v":{"$error":"#DIV/0!"}}]
[null,{"$f":"M2","v":0},{"$f":"N10","v":0},{"$f":"M10","v":0},null,{"$f":"N12","v":{"$error":"#DIV/0!"}}]
[null,{"$f":"C5","v":0},{"$f":"O5","v":0},{"$f":"P5","v":0},null,{"$f":"R5","v":{"$error":"#DIV/0!"}}]
[null,{"$f":"C6","v":0},{"$f":"O6","v":0},0,null,{"$f":"R6","v":{"$error":"#DIV/0!"}}]
[null,0,0,0,null,{"$error":"#DIV/0!"}]
[null,0,0,0,null,{"$error":"#DIV/0!"}]
[null,0,0,0,null,{"$error":"#DIV/0!"}]

{"sheet":"GRUPA 9 (4)","index":6,"n_rows":112,"n_cols":42,"rows_kept":112,"cut":false,"hidden":true,"merged":[[3,14,3,15],[1,3,2,3],[1,4,2,5],[1,6,2,7],[1,8,2,9],[1,10,2,11],[1,12,2,13],[3,4,3,5],[3,6,3,7],[3,8,3,9],[3,10,3,11],[3,12,3,13]]}
[]
[null,null,null,"Br. sa\nstatusa"]
[]
[null,null,"Br. sa\nstatusa","GRUPA 9 TAKMIČARA",{"$f":"IFERROR(VLOOKUP($E2,'PRIPREMA (STATUS)'!$A$5:$F$128,2)&\" \"&VLOOKUP($E2,'PRIPREMA (STATUS)'!$A$5:$F$128,3),\"\")","v":""},null,{"$f":"IFERROR(VLOOKUP(G2,'PRIPREMA (STATUS)'!$A$5:$F$128,2)&\" \"&VLOOKUP(G2,'PRIPREMA (STATUS)'!$A$5:$F$128,3),\"\")","v":""},null,{"$f":"IFERROR(VLOOKUP(I2,'PRIPREMA (STATUS)'!$A$5:$F$128,2)&\" \"&VLOOKUP(I2,'PRIPREMA (STATUS)'!$A$5:$F$128,3),\"\")","v":""},null,{"$f":"IFERROR(VLOOKUP(K2,'PRIPREMA (STATUS)'!$A$5:$F$128,2)&\" \"&VLOOKUP(K2,'PRIPREMA (STATUS)'!$A$5:$F$128,3),\"\")","v":""},null,{"$f":"IFERROR(VLOOKUP(M2,'PRIPREMA (STATUS)'!$A$5:$F$128,2)&\" \"&VLOOKUP(M2,'PRIPREMA (STATUS)'!$A$5:$F$128,3),\"\")","v":""},null,"UKUPNO\n+                    -"]
[null,null,null,{"$f":"IFERROR(VLOOKUP(C5,'PRIPREMA (STATUS)'!$A$5:$F$128,2)&\" \"&VLOOKUP(C5,'PRIPREMA (STATUS)'!$A$5:$F$128,3),\"\")","v":""},null,null,null,null,null,null,null,null,null,null,{"$f":"SUM(E5,G5,I5,K5,M5)","v":0},0,{"$f":"COUNTIF(E5:N5,\"<>\")/2","v":0},{"$f":"O5/Q5","v":{"$error":"#DIV/0!"}}]
[null,null,null,{"$f":"IFERROR(VLOOKUP(C6,'PRIPREMA (STATUS)'!$A$5:$F$128,2)&\" \"&VLOOKUP(C6,'PRIPREMA (STATUS)'!$A$5:$F$128,3),\"\")","v":""},null,null,null,null,null,null,null,null,null,null,0,0,{"$f":"COUNTIF(E6:N6,\"<>\")/2","v":0},{"$f":"O6/Q6","v":{"$error":"#DIV/0!"}}]
[null,null,null,{"$f":"IFERROR(VLOOKUP(C7,'PRIPREMA (STATUS)'!$A$5:$F$128,2)&\" \"&VLOOKUP(C7,'PRIPREMA (STATUS)'!$A$5:$F$128,3),\"\")","v":""},null,null,null,null,null,null,null,null,null,null,0,0,0,{"$error":"#DIV/0!"}]
[null,null,null,{"$f":"IFERROR(VLOOKUP(C8,'PRIPREMA (STATUS)'!$A$5:$F$128,2)&\" \"&VLOOKUP(C8,'PRIPREMA (STATUS)'!$A$5:$F$128,3),\"\")","v":""},null,null,null,null,null,null,null,null,null,null,0,0,0,{"$error":"#DIV/0!"}]
[null,null,null,{"$f":"IFERROR(VLOOKUP(C9,'PRIPREMA (STATUS)'!$A$5:$F$128,2)&\" \"&VLOOKUP(C9,'PRIPREMA (STATUS)'!$A$5:$F$128,3),\"\")","v":""},null,null,null,null,null,null,null,null,null,null,0,0,0,{"$error":"#DIV/0!"}]
[null,null,null,"UKUPNO ( - / + )",{"$f":"SUM(E5:E9)","v":0},0,0,0,0,0,0,0,0,0]
[null,null,null,null,null,{"$f":"COUNTIF(F5:F9,\"<>\")","v":0},null,0,null,0,null,0,null,0]
[null,null,null,null,null,{"$f":"F10/F11","v":{"$error":"#DIV/0!"}},null,{"$f":"H10/H11","v":{"$error":"#DIV/0!"}},null,{"$f":"J10/J11","v":{"$error":"#DIV/0!"}},null,{"$f":"L10/L11","v":{"$error":"#DIV/0!"}},null,{"$f":"N10/N11","v":{"$error":"#DIV/0!"}}]
[]
[]
[]
[]
[]
[]
[]
[]
[]
[]
[]
[]
[]
[]
[]
[]
[]
[]
[]
[]
[]
[]
[]
[]
[]
[]
[]
[]
[]
[]
[]
[]
[]
[]
[]
[]
[]
[]
[]
[]
[]
[]
[]
[]
[]
[]
[]
[]
[]
[]
[]
[]
[]
[]
[]
[]
[]
[]
[]
[]
[]
[]
[]
[]
[]
[]
[]
[]
[]
[]
[]
[]
[]
[]
[]
[]
[]
[]
[]
[]
[]
[]
[]
[]
[]
[]
[]
[]
["x","x","x","x","x","x","x","x","x","x","x","x","x","x","x","x","x","x","x","x","x","x","x","x","x","x","x","x","x","x","x","x","x","x","x","x","x","x","x","x","x","x"]
[null,"br. Statusa","(+)","(-)",null,"%"]
[null,{"$f":"E2","v":0},{"$f":"F10","v":0},{"$f":"E10","v":0},null,{"$f":"F12","v":{"$error":"#DIV/0!"}}]
[null,{"$f":"G2","v":0},{"$f":"H10","v":0},{"$f":"G10","v":0},null,{"$f":"H12","v":{"$error":"#DIV/0!"}}]
[null,{"$f":"I2","v":0},{"$f":"J10","v":0},{"$f":"I10","v":0},null,{"$f":"J12","v":{"$error":"#DIV/0!"}}]
[null,{"$f":"K2","v":0},{"$f":"L10","v":0},{"$f":"K10","v":0},null,{"$f":"L12","v":{"$error":"#DIV/0!"}}]
[null,{"$f":"M2","v":0},{"$f":"N10","v":0},{"$f":"M10","v":0},null,{"$f":"N12","v":{"$error":"#DIV/0!"}}]
[null,{"$f":"C5","v":0},{"$f":"O5","v":0},{"$f":"P5","v":0},null,{"$f":"R5","v":{"$error":"#DIV/0!"}}]
[null,{"$f":"C6","v":0},{"$f":"O6","v":0},0,null,{"$f":"R6","v":{"$error":"#DIV/0!"}}]
[null,0,0,0,null,{"$error":"#DIV/0!"}]
[null,0,0,0,null,{"$error":"#DIV/0!"}]
[null,0,0,0,null,{"$error":"#DIV/0!"}]

{"sheet":"GRUPA 4","index":7,"n_rows":104,"n_cols":40,"rows_kept":104,"cut":false,"hidden":true,"merged":[[1,4,2,5],[1,6,2,7],[1,8,2,9],[1,10,2,11],[1,2,2,3],[3,4,3,5],[3,6,3,7],[3,8,3,9],[3,10,3,11],[3,12,3,13]]}
[]
[null,null,"REZULTATI MORAJU DA SE UPISUJU U SVA POLJA",null,{"$f":"C5","v":0},null,{"$f":"C6","v":0},null,{"$f":"C7","v":0},null,{"$f":"C8","v":0}]
[]
[null,null,"Br. sa\nstatusa","GRUPA 4 TAKMIČARA",{"$f":"IFERROR(VLOOKUP($E2,'PRIPREMA (STATUS)'!$A$5:$F$128,2)&\" \"&VLOOKUP($E2,'PRIPREMA (STATUS)'!$A$5:$F$128,3),\"\")","v":""},null,{"$f":"IFERROR(VLOOKUP(G2,'PRIPREMA (STATUS)'!$A$5:$F$128,2)&\" \"&VLOOKUP(G2,'PRIPREMA (STATUS)'!$A$5:$F$128,3),\"\")","v":""},null,{"$f":"IFERROR(VLOOKUP(I2,'PRIPREMA (STATUS)'!$A$5:$F$128,2)&\" \"&VLOOKUP(I2,'PRIPREMA (STATUS)'!$A$5:$F$128,3),\"\")","v":""},null,{"$f":"IFERROR(VLOOKUP(K2,'PRIPREMA (STATUS)'!$A$5:$F$128,2)&\" \"&VLOOKUP(K2,'PRIPREMA (STATUS)'!$A$5:$F$128,3),\"\")","v":""},null,"UKUPNO\n+                    -",null,"%"]
[null,null,null,{"$f":"IFERROR(VLOOKUP(C5,'PRIPREMA (STATUS)'!$A$5:$F$128,2)&\" \"&VLOOKUP(C5,'PRIPREMA (STATUS)'!$A$5:$F$128,3),\"\")","v":""},null,null,null,null,null,null,null,null,{"$f":"SUM(G5,I5,K5)","v":0},{"$f":"SUM(H5,J5,L5)","v":0},{"$f":"M5/E9","v":{"$error":"#DIV/0!"}}]
[null,null,null,{"$f":"IFERROR(VLOOKUP(C6,'PRIPREMA (STATUS)'!$A$5:$F$128,2)&\" \"&VLOOKUP(C6,'PRIPREMA (STATUS)'!$A$5:$F$128,3),\"\")","v":""},null,null,null,null,null,null,null,null,{"$f":"SUM(E6,I6,K6)","v":0},{"$f":"SUM(F6,J6,L6)","v":0},{"$f":"M6/G9","v":{"$error":"#DIV/0!"}}]
[null,null,null,{"$f":"IFERROR(VLOOKUP(C7,'PRIPREMA (STATUS)'!$A$5:$F$128,2)&\" \"&VLOOKUP(C7,'PRIPREMA (STATUS)'!$A$5:$F$128,3),\"\")","v":""},null,null,null,null,null,null,null,null,{"$f":"SUM(E7,G7,K7)","v":0},{"$f":"SUM(F7,H7,L7)","v":0},{"$f":"M7/I9","v":{"$error":"#DIV/0!"}}]
[null,null,null,{"$f":"IFERROR(VLOOKUP(C8,'PRIPREMA (STATUS)'!$A$5:$F$128,2)&\" \"&VLOOKUP(C8,'PRIPREMA (STATUS)'!$A$5:$F$128,3),\"\")","v":""},null,null,null,null,null,null,null,null,{"$f":"SUM(E8,G8,I8)","v":0},{"$f":"SUM(F8,H8,J8)","v":0},{"$f":"M8/K9","v":{"$error":"#DIV/0!"}}]
[null,null,null,null,{"$f":"COUNTIF(E5:E8,\"<>\")","v":0},null,{"$f":"COUNTIF(G5:G8,\"<>\")","v":0},null,{"$f":"COUNTIF(I5:I8,\"<>\")","v":0},null,{"$f":"COUNTIF(K5:K8,\"<>\")","v":0}]
[]
[]
[]
[]
[]
[]
[]
[]
[]
[]
[]
[]
[]
[]
[]
[]
[]
[]
[]
[]
[]
[]
[]
[]
[]
[]
[]
[]
[]
[]
[]
[]
[]
[]
[]
[]
[]
[]
[]
[]
[]
[]
[]
[]
[]
[]
[]
[]
[]
[]
[]
[]
[]
[]
[]
[]
[]
[]
[]
[]
[]
[]
[]
[]
[]
[]
[]
[]
[]
[]
[]
[]
[]
[]
[]
[]
[]
[]
[]
[]
[]
[]
[]
[]
[]
[]
[]
[]
[]
["x","x","x","x","x","x","x","x","x","x","x","x","x","x","x","x","x","x","x","x","x","x","x","x","x","x","x","x","x","x","x","x","x","x","x","x","x","x","x","x"]
[null,"br. Statusa","(+)","(-)","%"]
[null,{"$f":"C5","v":0},{"$f":"M5","v":0},{"$f":"N5","v":0},{"$f":"O5","v":{"$error":"#DIV/0!"}}]
[null,{"$f":"C6","v":0},{"$f":"M6","v":0},{"$f":"N6","v":0},{"$f":"O6","v":{"$error":"#DIV/0!"}}]
[null,{"$f":"C7","v":0},0,0,{"$error":"#DIV/0!"}]
[null,{"$f":"C8","v":0},0,0,{"$error":"#DIV/0!"}]

{"sheet":"GRUPA 4 (2)","index":8,"n_rows":104,"n_cols":40,"rows_kept":104,"cut":false,"hidden":true,"merged":[[3,12,3,13],[1,2,2,3],[1,4,2,5],[1,6,2,7],[1,8,2,9],[1,10,2,11],[3,4,3,5],[3,6,3,7],[3,8,3,9],[3,10,3,11]]}
[]
[null,null,"REZULTATI MORAJU DA SE UPISUJU U SVA POLJA",null,{"$f":"C5","v":0},null,{"$f":"C6","v":0},null,{"$f":"C7","v":0},null,{"$f":"C8","v":0}]
[]
[null,null,"Br. sa\nstatusa","GRUPA 4 TAKMIČARA",{"$f":"IFERROR(VLOOKUP($E2,'PRIPREMA (STATUS)'!$A$5:$F$128,2)&\" \"&VLOOKUP($E2,'PRIPREMA (STATUS)'!$A$5:$F$128,3),\"\")","v":""},null,{"$f":"IFERROR(VLOOKUP(G2,'PRIPREMA (STATUS)'!$A$5:$F$128,2)&\" \"&VLOOKUP(G2,'PRIPREMA (STATUS)'!$A$5:$F$128,3),\"\")","v":""},null,{"$f":"IFERROR(VLOOKUP(I2,'PRIPREMA (STATUS)'!$A$5:$F$128,2)&\" \"&VLOOKUP(I2,'PRIPREMA (STATUS)'!$A$5:$F$128,3),\"\")","v":""},null,{"$f":"IFERROR(VLOOKUP(K2,'PRIPREMA (STATUS)'!$A$5:$F$128,2)&\" \"&VLOOKUP(K2,'PRIPREMA (STATUS)'!$A$5:$F$128,3),\"\")","v":""},null,"UKUPNO\n+                    -",null,"%"]
[null,null,null,{"$f":"IFERROR(VLOOKUP(C5,'PRIPREMA (STATUS)'!$A$5:$F$128,2)&\" \"&VLOOKUP(C5,'PRIPREMA (STATUS)'!$A$5:$F$128,3),\"\")","v":""},null,null,null,null,null,null,null,null,{"$f":"SUM(G5,I5,K5)","v":0},{"$f":"SUM(H5,J5,L5)","v":0},{"$f":"M5/E9","v":{"$error":"#DIV/0!"}}]
[null,null,null,{"$f":"IFERROR(VLOOKUP(C6,'PRIPREMA (STATUS)'!$A$5:$F$128,2)&\" \"&VLOOKUP(C6,'PRIPREMA (STATUS)'!$A$5:$F$128,3),\"\")","v":""},null,null,null,null,null,null,null,null,{"$f":"SUM(E6,I6,K6)","v":0},{"$f":"SUM(F6,J6,L6)","v":0},{"$f":"M6/G9","v":{"$error":"#DIV/0!"}}]
[null,null,null,{"$f":"IFERROR(VLOOKUP(C7,'PRIPREMA (STATUS)'!$A$5:$F$128,2)&\" \"&VLOOKUP(C7,'PRIPREMA (STATUS)'!$A$5:$F$128,3),\"\")","v":""},null,null,null,null,null,null,null,null,{"$f":"SUM(E7,G7,K7)","v":0},{"$f":"SUM(F7,H7,L7)","v":0},{"$f":"M7/I9","v":{"$error":"#DIV/0!"}}]
[null,null,null,{"$f":"IFERROR(VLOOKUP(C8,'PRIPREMA (STATUS)'!$A$5:$F$128,2)&\" \"&VLOOKUP(C8,'PRIPREMA (STATUS)'!$A$5:$F$128,3),\"\")","v":""},null,null,null,null,null,null,null,null,{"$f":"SUM(E8,G8,I8)","v":0},{"$f":"SUM(F8,H8,J8)","v":0},{"$f":"M8/K9","v":{"$error":"#DIV/0!"}}]
[null,null,null,null,{"$f":"COUNTIF(E5:E8,\"<>\")","v":0},null,{"$f":"COUNTIF(G5:G8,\"<>\")","v":0},null,{"$f":"COUNTIF(I5:I8,\"<>\")","v":0},null,{"$f":"COUNTIF(K5:K8,\"<>\")","v":0}]
[]
[]
[]
[]
[]
[]
[]
[]
[]
[]
[]
[]
[]
[]
[]
[]
[]
[]
[]
[]
[]
[]
[]
[]
[]
[]
[]
[]
[]
[]
[]
[]
[]
[]
[]
[]
[]
[]
[]
[]
[]
[]
[]
[]
[]
[]
[]
[]
[]
[]
[]
[]
[]
[]
[]
[]
[]
[]
[]
[]
[]
[]
[]
[]
[]
[]
[]
[]
[]
[]
[]
[]
[]
[]
[]
[]
[]
[]
[]
[]
[]
[]
[]
[]
[]
[]
[]
[]
[]
["x","x","x","x","x","x","x","x","x","x","x","x","x","x","x","x","x","x","x","x","x","x","x","x","x","x","x","x","x","x","x","x","x","x","x","x","x","x","x","x"]
[null,"br. Statusa","(+)","(-)","%"]
[null,{"$f":"C5","v":0},{"$f":"M5","v":0},{"$f":"N5","v":0},{"$f":"O5","v":{"$error":"#DIV/0!"}}]
[null,{"$f":"C6","v":0},{"$f":"M6","v":0},0,{"$error":"#DIV/0!"}]
[null,0,0,0,{"$error":"#DIV/0!"}]
[null,0,0,0,{"$error":"#DIV/0!"}]

{"sheet":"GRUPA 4 (3)","index":9,"n_rows":104,"n_cols":40,"rows_kept":104,"cut":false,"hidden":true,"merged":[[3,12,3,13],[1,2,2,3],[1,4,2,5],[1,6,2,7],[1,8,2,9],[1,10,2,11],[3,4,3,5],[3,6,3,7],[3,8,3,9],[3,10,3,11]]}
[]
[null,null,"REZULTATI MORAJU DA SE UPISUJU U SVA POLJA",null,{"$f":"C5","v":0},null,{"$f":"C6","v":0},null,{"$f":"C7","v":0},null,{"$f":"C8","v":0}]
[]
[null,null,"Br. sa\nstatusa","GRUPA 4 TAKMIČARA",{"$f":"IFERROR(VLOOKUP($E2,'PRIPREMA (STATUS)'!$A$5:$F$128,2)&\" \"&VLOOKUP($E2,'PRIPREMA (STATUS)'!$A$5:$F$128,3),\"\")","v":""},null,{"$f":"IFERROR(VLOOKUP(G2,'PRIPREMA (STATUS)'!$A$5:$F$128,2)&\" \"&VLOOKUP(G2,'PRIPREMA (STATUS)'!$A$5:$F$128,3),\"\")","v":""},null,{"$f":"IFERROR(VLOOKUP(I2,'PRIPREMA (STATUS)'!$A$5:$F$128,2)&\" \"&VLOOKUP(I2,'PRIPREMA (STATUS)'!$A$5:$F$128,3),\"\")","v":""},null,{"$f":"IFERROR(VLOOKUP(K2,'PRIPREMA (STATUS)'!$A$5:$F$128,2)&\" \"&VLOOKUP(K2,'PRIPREMA (STATUS)'!$A$5:$F$128,3),\"\")","v":""},null,"UKUPNO\n+                    -",null,"%"]
[null,null,null,{"$f":"IFERROR(VLOOKUP(C5,'PRIPREMA (STATUS)'!$A$5:$F$128,2)&\" \"&VLOOKUP(C5,'PRIPREMA (STATUS)'!$A$5:$F$128,3),\"\")","v":""},null,null,null,null,null,null,null,null,{"$f":"SUM(G5,I5,K5)","v":0},{"$f":"SUM(H5,J5,L5)","v":0},{"$f":"M5/E9","v":{"$error":"#DIV/0!"}}]
[null,null,null,{"$f":"IFERROR(VLOOKUP(C6,'PRIPREMA (STATUS)'!$A$5:$F$128,2)&\" \"&VLOOKUP(C6,'PRIPREMA (STATUS)'!$A$5:$F$128,3),\"\")","v":""},null,null,null,null,null,null,null,null,{"$f":"SUM(E6,I6,K6)","v":0},{"$f":"SUM(F6,J6,L6)","v":0},{"$f":"M6/G9","v":{"$error":"#DIV/0!"}}]
[null,null,null,{"$f":"IFERROR(VLOOKUP(C7,'PRIPREMA (STATUS)'!$A$5:$F$128,2)&\" \"&VLOOKUP(C7,'PRIPREMA (STATUS)'!$A$5:$F$128,3),\"\")","v":""},null,null,null,null,null,null,null,null,{"$f":"SUM(E7,G7,K7)","v":0},{"$f":"SUM(F7,H7,L7)","v":0},{"$f":"M7/I9","v":{"$error":"#DIV/0!"}}]
[null,null,null,{"$f":"IFERROR(VLOOKUP(C8,'PRIPREMA (STATUS)'!$A$5:$F$128,2)&\" \"&VLOOKUP(C8,'PRIPREMA (STATUS)'!$A$5:$F$128,3),\"\")","v":""},null,null,null,null,null,null,null,null,{"$f":"SUM(E8,G8,I8)","v":0},{"$f":"SUM(F8,H8,J8)","v":0},{"$f":"M8/K9","v":{"$error":"#DIV/0!"}}]
[null,null,null,null,{"$f":"COUNTIF(E5:E8,\"<>\")","v":0},null,{"$f":"COUNTIF(G5:G8,\"<>\")","v":0},null,{"$f":"COUNTIF(I5:I8,\"<>\")","v":0},null,{"$f":"COUNTIF(K5:K8,\"<>\")","v":0}]
[]
[]
[]
[]
[]
[]
[]
[]
[]
[]
[]
[]
[]
[]
[]
[]
[]
[]
[]
[]
[]
[]
[]
[]
[]
[]
[]
[]
[]
[]
[]
[]
[]
[]
[]
[]
[]
[]
[]
[]
[]
[]
[]
[]
[]
[]
[]
[]
[]
[]
[]
[]
[]
[]
[]
[]
[]
[]
[]
[]
[]
[]
[]
[]
[]
[]
[]
[]
[]
[]
[]
[]
[]
[]
[]
[]
[]
[]
[]
[]
[]
[]
[]
[]
[]
[]
[]
[]
[]
["x","x","x","x","x","x","x","x","x","x","x","x","x","x","x","x","x","x","x","x","x","x","x","x","x","x","x","x","x","x","x","x","x","x","x","x","x","x","x","x"]
[null,"br. Statusa","(+)","(-)","%"]
[null,{"$f":"C5","v":0},{"$f":"M5","v":0},{"$f":"N5","v":0},{"$f":"O5","v":{"$error":"#DIV/0!"}}]
[null,{"$f":"C6","v":0},{"$f":"M6","v":0},0,{"$error":"#DIV/0!"}]
[null,0,0,0,{"$error":"#DIV/0!"}]
[null,0,0,0,{"$error":"#DIV/0!"}]

{"sheet":"GRUPA 4 (4)","index":10,"n_rows":104,"n_cols":40,"rows_kept":104,"cut":false,"hidden":true,"merged":[[3,12,3,13],[1,2,2,3],[1,4,2,5],[1,6,2,7],[1,8,2,9],[1,10,2,11],[3,4,3,5],[3,6,3,7],[3,8,3,9],[3,10,3,11]]}
[]
[null,null,"REZULTATI MORAJU DA SE UPISUJU U SVA POLJA",null,{"$f":"C5","v":0},null,{"$f":"C6","v":0},null,{"$f":"C7","v":0},null,{"$f":"C8","v":0}]
[]
[null,null,"Br. sa\nstatusa","GRUPA 4 TAKMIČARA",{"$f":"IFERROR(VLOOKUP($E2,'PRIPREMA (STATUS)'!$A$5:$F$128,2)&\" \"&VLOOKUP($E2,'PRIPREMA (STATUS)'!$A$5:$F$128,3),\"\")","v":""},null,{"$f":"IFERROR(VLOOKUP(G2,'PRIPREMA (STATUS)'!$A$5:$F$128,2)&\" \"&VLOOKUP(G2,'PRIPREMA (STATUS)'!$A$5:$F$128,3),\"\")","v":""},null,{"$f":"IFERROR(VLOOKUP(I2,'PRIPREMA (STATUS)'!$A$5:$F$128,2)&\" \"&VLOOKUP(I2,'PRIPREMA (STATUS)'!$A$5:$F$128,3),\"\")","v":""},null,{"$f":"IFERROR(VLOOKUP(K2,'PRIPREMA (STATUS)'!$A$5:$F$128,2)&\" \"&VLOOKUP(K2,'PRIPREMA (STATUS)'!$A$5:$F$128,3),\"\")","v":""},null,"UKUPNO\n+                    -",null,"%"]
[null,null,null,{"$f":"IFERROR(VLOOKUP(C5,'PRIPREMA (STATUS)'!$A$5:$F$128,2)&\" \"&VLOOKUP(C5,'PRIPREMA (STATUS)'!$A$5:$F$128,3),\"\")","v":""},null,null,null,null,null,null,null,null,{"$f":"SUM(G5,I5,K5)","v":0},{"$f":"SUM(H5,J5,L5)","v":0},{"$f":"M5/E9","v":{"$error":"#DIV/0!"}}]
[null,null,null,{"$f":"IFERROR(VLOOKUP(C6,'PRIPREMA (STATUS)'!$A$5:$F$128,2)&\" \"&VLOOKUP(C6,'PRIPREMA (STATUS)'!$A$5:$F$128,3),\"\")","v":""},null,null,null,null,null,null,null,null,{"$f":"SUM(E6,I6,K6)","v":0},{"$f":"SUM(F6,J6,L6)","v":0},{"$f":"M6/G9","v":{"$error":"#DIV/0!"}}]
[null,null,null,{"$f":"IFERROR(VLOOKUP(C7,'PRIPREMA (STATUS)'!$A$5:$F$128,2)&\" \"&VLOOKUP(C7,'PRIPREMA (STATUS)'!$A$5:$F$128,3),\"\")","v":""},null,null,null,null,null,null,null,null,{"$f":"SUM(E7,G7,K7)","v":0},{"$f":"SUM(F7,H7,L7)","v":0},{"$f":"M7/I9","v":{"$error":"#DIV/0!"}}]
[null,null,null,{"$f":"IFERROR(VLOOKUP(C8,'PRIPREMA (STATUS)'!$A$5:$F$128,2)&\" \"&VLOOKUP(C8,'PRIPREMA (STATUS)'!$A$5:$F$128,3),\"\")","v":""},null,null,null,null,null,null,null,null,{"$f":"SUM(E8,G8,I8)","v":0},{"$f":"SUM(F8,H8,J8)","v":0},{"$f":"M8/K9","v":{"$error":"#DIV/0!"}}]
[null,null,null,null,{"$f":"COUNTIF(E5:E8,\"<>\")","v":0},null,{"$f":"COUNTIF(G5:G8,\"<>\")","v":0},null,{"$f":"COUNTIF(I5:I8,\"<>\")","v":0},null,{"$f":"COUNTIF(K5:K8,\"<>\")","v":0}]
[]
[]
[]
[]
[]
[]
[]
[]
[]
[]
[]
[]
[]
[]
[]
[]
[]
[]
[]
[]
[]
[]
[]
[]
[]
[]
[]
[]
[]
[]
[]
[]
[]
[]
[]
[]
[]
[]
[]
[]
[]
[]
[]
[]
[]
[]
[]
[]
[]
[]
[]
[]
[]
[]
[]
[]
[]
[]
[]
[]
[]
[]
[]
[]
[]
[]
[]
[]
[]
[]
[]
[]
[]
[]
[]
[]
[]
[]
[]
[]
[]
[]
[]
[]
[]
[]
[]
[]
[]
["x","x","x","x","x","x","x","x","x","x","x","x","x","x","x","x","x","x","x","x","x","x","x","x","x","x","x","x","x","x","x","x","x","x","x","x","x","x","x","x"]
[null,"br. Statusa","(+)","(-)","%"]
[null,{"$f":"C5","v":0},{"$f":"M5","v":0},{"$f":"N5","v":0},{"$f":"O5","v":{"$error":"#DIV/0!"}}]
[null,{"$f":"C6","v":0},{"$f":"M6","v":0},0,{"$error":"#DIV/0!"}]
[null,0,0,0,{"$error":"#DIV/0!"}]
[null,0,0,0,{"$error":"#DIV/0!"}]

{"sheet":"GRUPA 4 (5)","index":11,"n_rows":104,"n_cols":40,"rows_kept":104,"cut":false,"hidden":true,"merged":[[3,12,3,13],[1,2,2,3],[1,4,2,5],[1,6,2,7],[1,8,2,9],[1,10,2,11],[3,4,3,5],[3,6,3,7],[3,8,3,9],[3,10,3,11]]}
[]
[null,null,"REZULTATI MORAJU DA SE UPISUJU U SVA POLJA",null,{"$f":"C5","v":0},null,{"$f":"C6","v":0},null,{"$f":"C7","v":0},null,{"$f":"C8","v":0}]
[]
[null,null,"Br. sa\nstatusa","GRUPA 4 TAKMIČARA",{"$f":"IFERROR(VLOOKUP($E2,'PRIPREMA (STATUS)'!$A$5:$F$128,2)&\" \"&VLOOKUP($E2,'PRIPREMA (STATUS)'!$A$5:$F$128,3),\"\")","v":""},null,{"$f":"IFERROR(VLOOKUP(G2,'PRIPREMA (STATUS)'!$A$5:$F$128,2)&\" \"&VLOOKUP(G2,'PRIPREMA (STATUS)'!$A$5:$F$128,3),\"\")","v":""},null,{"$f":"IFERROR(VLOOKUP(I2,'PRIPREMA (STATUS)'!$A$5:$F$128,2)&\" \"&VLOOKUP(I2,'PRIPREMA (STATUS)'!$A$5:$F$128,3),\"\")","v":""},null,{"$f":"IFERROR(VLOOKUP(K2,'PRIPREMA (STATUS)'!$A$5:$F$128,2)&\" \"&VLOOKUP(K2,'PRIPREMA (STATUS)'!$A$5:$F$128,3),\"\")","v":""},null,"UKUPNO\n+                    -",null,"%"]
[null,null,null,{"$f":"IFERROR(VLOOKUP(C5,'PRIPREMA (STATUS)'!$A$5:$F$128,2)&\" \"&VLOOKUP(C5,'PRIPREMA (STATUS)'!$A$5:$F$128,3),\"\")","v":""},null,null,null,null,null,null,null,null,{"$f":"SUM(G5,I5,K5)","v":0},{"$f":"SUM(H5,J5,L5)","v":0},{"$f":"M5/E9","v":{"$error":"#DIV/0!"}}]
[null,null,null,{"$f":"IFERROR(VLOOKUP(C6,'PRIPREMA (STATUS)'!$A$5:$F$128,2)&\" \"&VLOOKUP(C6,'PRIPREMA (STATUS)'!$A$5:$F$128,3),\"\")","v":""},null,null,null,null,null,null,null,null,{"$f":"SUM(E6,I6,K6)","v":0},{"$f":"SUM(F6,J6,L6)","v":0},{"$f":"M6/G9","v":{"$error":"#DIV/0!"}}]
[null,null,null,{"$f":"IFERROR(VLOOKUP(C7,'PRIPREMA (STATUS)'!$A$5:$F$128,2)&\" \"&VLOOKUP(C7,'PRIPREMA (STATUS)'!$A$5:$F$128,3),\"\")","v":""},null,null,null,null,null,null,null,null,{"$f":"SUM(E7,G7,K7)","v":0},{"$f":"SUM(F7,H7,L7)","v":0},{"$f":"M7/I9","v":{"$error":"#DIV/0!"}}]
[null,null,null,{"$f":"IFERROR(VLOOKUP(C8,'PRIPREMA (STATUS)'!$A$5:$F$128,2)&\" \"&VLOOKUP(C8,'PRIPREMA (STATUS)'!$A$5:$F$128,3),\"\")","v":""},null,null,null,null,null,null,null,null,{"$f":"SUM(E8,G8,I8)","v":0},{"$f":"SUM(F8,H8,J8)","v":0},{"$f":"M8/K9","v":{"$error":"#DIV/0!"}}]
[null,null,null,null,{"$f":"COUNTIF(E5:E8,\"<>\")","v":0},null,{"$f":"COUNTIF(G5:G8,\"<>\")","v":0},null,{"$f":"COUNTIF(I5:I8,\"<>\")","v":0},null,{"$f":"COUNTIF(K5:K8,\"<>\")","v":0}]
[]
[]
[]
[]
[]
[]
[]
[]
[]
[]
[]
[]
[]
[]
[]
[]
[]
[]
[]
[]
[]
[]
[]
[]
[]
[]
[]
[]
[]
[]
[]
[]
[]
[]
[]
[]
[]
[]
[]
[]
[]
[]
[]
[]
[]
[]
[]
[]
[]
[]
[]
[]
[]
[]
[]
[]
[]
[]
[]
[]
[]
[]
[]
[]
[]
[]
[]
[]
[]
[]
[]
[]
[]
[]
[]
[]
[]
[]
[]
[]
[]
[]
[]
[]
[]
[]
[]
[]
[]
["x","x","x","x","x","x","x","x","x","x","x","x","x","x","x","x","x","x","x","x","x","x","x","x","x","x","x","x","x","x","x","x","x","x","x","x","x","x","x","x"]
[null,"br. Statusa","(+)","(-)","%"]
[null,{"$f":"C5","v":0},{"$f":"M5","v":0},{"$f":"N5","v":0},{"$f":"O5","v":{"$error":"#DIV/0!"}}]
[null,{"$f":"C6","v":0},{"$f":"M6","v":0},0,{"$error":"#DIV/0!"}]
[null,0,0,0,{"$error":"#DIV/0!"}]
[null,0,0,0,{"$error":"#DIV/0!"}]

{"sheet":"GRUPA 4 (6)","index":12,"n_rows":104,"n_cols":40,"rows_kept":104,"cut":false,"hidden":true,"merged":[[3,12,3,13],[1,2,2,3],[1,4,2,5],[1,6,2,7],[1,8,2,9],[1,10,2,11],[3,4,3,5],[3,6,3,7],[3,8,3,9],[3,10,3,11]]}
[]
[null,null,"REZULTATI MORAJU DA SE UPISUJU U SVA POLJA",null,{"$f":"C5","v":0},null,{"$f":"C6","v":0},null,{"$f":"C7","v":0},null,{"$f":"C8","v":0}]
[]
[null,null,"Br. sa\nstatusa","GRUPA 4 TAKMIČARA",{"$f":"IFERROR(VLOOKUP($E2,'PRIPREMA (STATUS)'!$A$5:$F$128,2)&\" \"&VLOOKUP($E2,'PRIPREMA (STATUS)'!$A$5:$F$128,3),\"\")","v":""},null,{"$f":"IFERROR(VLOOKUP(G2,'PRIPREMA (STATUS)'!$A$5:$F$128,2)&\" \"&VLOOKUP(G2,'PRIPREMA (STATUS)'!$A$5:$F$128,3),\"\")","v":""},null,{"$f":"IFERROR(VLOOKUP(I2,'PRIPREMA (STATUS)'!$A$5:$F$128,2)&\" \"&VLOOKUP(I2,'PRIPREMA (STATUS)'!$A$5:$F$128,3),\"\")","v":""},null,{"$f":"IFERROR(VLOOKUP(K2,'PRIPREMA (STATUS)'!$A$5:$F$128,2)&\" \"&VLOOKUP(K2,'PRIPREMA (STATUS)'!$A$5:$F$128,3),\"\")","v":""},null,"UKUPNO\n+                    -",null,"%"]
[null,null,null,{"$f":"IFERROR(VLOOKUP(C5,'PRIPREMA (STATUS)'!$A$5:$F$128,2)&\" \"&VLOOKUP(C5,'PRIPREMA (STATUS)'!$A$5:$F$128,3),\"\")","v":""},null,null,null,null,null,null,null,null,{"$f":"SUM(G5,I5,K5)","v":0},{"$f":"SUM(H5,J5,L5)","v":0},{"$f":"M5/E9","v":{"$error":"#DIV/0!"}}]
[null,null,null,{"$f":"IFERROR(VLOOKUP(C6,'PRIPREMA (STATUS)'!$A$5:$F$128,2)&\" \"&VLOOKUP(C6,'PRIPREMA (STATUS)'!$A$5:$F$128,3),\"\")","v":""},null,null,null,null,null,null,null,null,{"$f":"SUM(E6,I6,K6)","v":0},{"$f":"SUM(F6,J6,L6)","v":0},{"$f":"M6/G9","v":{"$error":"#DIV/0!"}}]
[null,null,null,{"$f":"IFERROR(VLOOKUP(C7,'PRIPREMA (STATUS)'!$A$5:$F$128,2)&\" \"&VLOOKUP(C7,'PRIPREMA (STATUS)'!$A$5:$F$128,3),\"\")","v":""},null,null,null,null,null,null,null,null,{"$f":"SUM(E7,G7,K7)","v":0},{"$f":"SUM(F7,H7,L7)","v":0},{"$f":"M7/I9","v":{"$error":"#DIV/0!"}}]
[null,null,null,{"$f":"IFERROR(VLOOKUP(C8,'PRIPREMA (STATUS)'!$A$5:$F$128,2)&\" \"&VLOOKUP(C8,'PRIPREMA (STATUS)'!$A$5:$F$128,3),\"\")","v":""},null,null,null,null,null,null,null,null,{"$f":"SUM(E8,G8,I8)","v":0},{"$f":"SUM(F8,H8,J8)","v":0},{"$f":"M8/K9","v":{"$error":"#DIV/0!"}}]
[null,null,null,null,{"$f":"COUNTIF(E5:E8,\"<>\")","v":0},null,{"$f":"COUNTIF(G5:G8,\"<>\")","v":0},null,{"$f":"COUNTIF(I5:I8,\"<>\")","v":0},null,{"$f":"COUNTIF(K5:K8,\"<>\")","v":0}]
[]
[]
[]
[]
[]
[]
[]
[]
[]
[]
[]
[]
[]
[]
[]
[]
[]
[]
[]
[]
[]
[]
[]
[]
[]
[]
[]
[]
[]
[]
[]
[]
[]
[]
[]
[]
[]
[]
[]
[]
[]
[]
[]
[]
[]
[]
[]
[]
[]
[]
[]
[]
[]
[]
[]
[]
[]
[]
[]
[]
[]
[]
[]
[]
[]
[]
[]
[]
[]
[]
[]
[]
[]
[]
[]
[]
[]
[]
[]
[]
[]
[]
[]
[]
[]
[]
[]
[]
[]
["x","x","x","x","x","x","x","x","x","x","x","x","x","x","x","x","x","x","x","x","x","x","x","x","x","x","x","x","x","x","x","x","x","x","x","x","x","x","x","x"]
[null,"br. Statusa","(+)","(-)","%"]
[null,{"$f":"C5","v":0},{"$f":"M5","v":0},{"$f":"N5","v":0},{"$f":"O5","v":{"$error":"#DIV/0!"}}]
[null,{"$f":"C6","v":0},{"$f":"M6","v":0},0,{"$error":"#DIV/0!"}]
[null,0,0,0,{"$error":"#DIV/0!"}]
[null,0,0,0,{"$error":"#DIV/0!"}]

{"sheet":"GRUPA 4 (7)","index":13,"n_rows":104,"n_cols":40,"rows_kept":104,"cut":false,"hidden":true,"merged":[[3,12,3,13],[1,2,2,3],[1,4,2,5],[1,6,2,7],[1,8,2,9],[1,10,2,11],[3,4,3,5],[3,6,3,7],[3,8,3,9],[3,10,3,11]]}
[]
[null,null,"REZULTATI MORAJU DA SE UPISUJU U SVA POLJA",null,{"$f":"C5","v":0},null,{"$f":"C6","v":0},null,{"$f":"C7","v":0},null,{"$f":"C8","v":0}]
[]
[null,null,"Br. sa\nstatusa","GRUPA 4 TAKMIČARA",{"$f":"IFERROR(VLOOKUP($E2,'PRIPREMA (STATUS)'!$A$5:$F$128,2)&\" \"&VLOOKUP($E2,'PRIPREMA (STATUS)'!$A$5:$F$128,3),\"\")","v":""},null,{"$f":"IFERROR(VLOOKUP(G2,'PRIPREMA (STATUS)'!$A$5:$F$128,2)&\" \"&VLOOKUP(G2,'PRIPREMA (STATUS)'!$A$5:$F$128,3),\"\")","v":""},null,{"$f":"IFERROR(VLOOKUP(I2,'PRIPREMA (STATUS)'!$A$5:$F$128,2)&\" \"&VLOOKUP(I2,'PRIPREMA (STATUS)'!$A$5:$F$128,3),\"\")","v":""},null,{"$f":"IFERROR(VLOOKUP(K2,'PRIPREMA (STATUS)'!$A$5:$F$128,2)&\" \"&VLOOKUP(K2,'PRIPREMA (STATUS)'!$A$5:$F$128,3),\"\")","v":""},null,"UKUPNO\n+                    -",null,"%"]
[null,null,null,{"$f":"IFERROR(VLOOKUP(C5,'PRIPREMA (STATUS)'!$A$5:$F$128,2)&\" \"&VLOOKUP(C5,'PRIPREMA (STATUS)'!$A$5:$F$128,3),\"\")","v":""},null,null,null,null,null,null,null,null,{"$f":"SUM(G5,I5,K5)","v":0},{"$f":"SUM(H5,J5,L5)","v":0},{"$f":"M5/E9","v":{"$error":"#DIV/0!"}}]
[null,null,null,{"$f":"IFERROR(VLOOKUP(C6,'PRIPREMA (STATUS)'!$A$5:$F$128,2)&\" \"&VLOOKUP(C6,'PRIPREMA (STATUS)'!$A$5:$F$128,3),\"\")","v":""},null,null,null,null,null,null,null,null,{"$f":"SUM(E6,I6,K6)","v":0},{"$f":"SUM(F6,J6,L6)","v":0},{"$f":"M6/G9","v":{"$error":"#DIV/0!"}}]
[null,null,null,{"$f":"IFERROR(VLOOKUP(C7,'PRIPREMA (STATUS)'!$A$5:$F$128,2)&\" \"&VLOOKUP(C7,'PRIPREMA (STATUS)'!$A$5:$F$128,3),\"\")","v":""},null,null,null,null,null,null,null,null,{"$f":"SUM(E7,G7,K7)","v":0},{"$f":"SUM(F7,H7,L7)","v":0},{"$f":"M7/I9","v":{"$error":"#DIV/0!"}}]
[null,null,null,{"$f":"IFERROR(VLOOKUP(C8,'PRIPREMA (STATUS)'!$A$5:$F$128,2)&\" \"&VLOOKUP(C8,'PRIPREMA (STATUS)'!$A$5:$F$128,3),\"\")","v":""},null,null,null,null,null,null,null,null,{"$f":"SUM(E8,G8,I8)","v":0},{"$f":"SUM(F8,H8,J8)","v":0},{"$f":"M8/K9","v":{"$error":"#DIV/0!"}}]
[null,null,null,null,{"$f":"COUNTIF(E5:E8,\"<>\")","v":0},null,{"$f":"COUNTIF(G5:G8,\"<>\")","v":0},null,{"$f":"COUNTIF(I5:I8,\"<>\")","v":0},null,{"$f":"COUNTIF(K5:K8,\"<>\")","v":0}]
[]
[]
[]
[]
[]
[]
[]
[]
[]
[]
[]
[]
[]
[]
[]
[]
[]
[]
[]
[]
[]
[]
[]
[]
[]
[]
[]
[]
[]
[]
[]
[]
[]
[]
[]
[]
[]
[]
[]
[]
[]
[]
[]
[]
[]
[]
[]
[]
[]
[]
[]
[]
[]
[]
[]
[]
[]
[]
[]
[]
[]
[]
[]
[]
[]
[]
[]
[]
[]
[]
[]
[]
[]
[]
[]
[]
[]
[]
[]
[]
[]
[]
[]
[]
[]
[]
[]
[]
[]
["x","x","x","x","x","x","x","x","x","x","x","x","x","x","x","x","x","x","x","x","x","x","x","x","x","x","x","x","x","x","x","x","x","x","x","x","x","x","x","x"]
[null,"br. Statusa","(+)","(-)","%"]
[null,{"$f":"C5","v":0},{"$f":"M5","v":0},{"$f":"N5","v":0},{"$f":"O5","v":{"$error":"#DIV/0!"}}]
[null,{"$f":"C6","v":0},{"$f":"M6","v":0},0,{"$error":"#DIV/0!"}]
[null,0,0,0,{"$error":"#DIV/0!"}]
[null,0,0,0,{"$error":"#DIV/0!"}]

{"sheet":"GRUPA 4 (8)","index":14,"n_rows":104,"n_cols":40,"rows_kept":104,"cut":false,"hidden":true,"merged":[[3,12,3,13],[1,2,2,3],[1,4,2,5],[1,6,2,7],[1,8,2,9],[1,10,2,11],[3,4,3,5],[3,6,3,7],[3,8,3,9],[3,10,3,11]]}
[]
[null,null,"REZULTATI MORAJU DA SE UPISUJU U SVA POLJA",null,{"$f":"C5","v":0},null,{"$f":"C6","v":0},null,{"$f":"C7","v":0},null,{"$f":"C8","v":0}]
[]
[null,null,"Br. sa\nstatusa","GRUPA 4 TAKMIČARA",{"$f":"IFERROR(VLOOKUP($E2,'PRIPREMA (STATUS)'!$A$5:$F$128,2)&\" \"&VLOOKUP($E2,'PRIPREMA (STATUS)'!$A$5:$F$128,3),\"\")","v":""},null,{"$f":"IFERROR(VLOOKUP(G2,'PRIPREMA (STATUS)'!$A$5:$F$128,2)&\" \"&VLOOKUP(G2,'PRIPREMA (STATUS)'!$A$5:$F$128,3),\"\")","v":""},null,{"$f":"IFERROR(VLOOKUP(I2,'PRIPREMA (STATUS)'!$A$5:$F$128,2)&\" \"&VLOOKUP(I2,'PRIPREMA (STATUS)'!$A$5:$F$128,3),\"\")","v":""},null,{"$f":"IFERROR(VLOOKUP(K2,'PRIPREMA (STATUS)'!$A$5:$F$128,2)&\" \"&VLOOKUP(K2,'PRIPREMA (STATUS)'!$A$5:$F$128,3),\"\")","v":""},null,"UKUPNO\n+                    -",null,"%"]
[null,null,null,{"$f":"IFERROR(VLOOKUP(C5,'PRIPREMA (STATUS)'!$A$5:$F$128,2)&\" \"&VLOOKUP(C5,'PRIPREMA (STATUS)'!$A$5:$F$128,3),\"\")","v":""},null,null,null,null,null,null,null,null,{"$f":"SUM(G5,I5,K5)","v":0},{"$f":"SUM(H5,J5,L5)","v":0},{"$f":"M5/E9","v":{"$error":"#DIV/0!"}}]
[null,null,null,{"$f":"IFERROR(VLOOKUP(C6,'PRIPREMA (STATUS)'!$A$5:$F$128,2)&\" \"&VLOOKUP(C6,'PRIPREMA (STATUS)'!$A$5:$F$128,3),\"\")","v":""},null,null,null,null,null,null,null,null,{"$f":"SUM(E6,I6,K6)","v":0},{"$f":"SUM(F6,J6,L6)","v":0},{"$f":"M6/G9","v":{"$error":"#DIV/0!"}}]
[null,null,null,{"$f":"IFERROR(VLOOKUP(C7,'PRIPREMA (STATUS)'!$A$5:$F$128,2)&\" \"&VLOOKUP(C7,'PRIPREMA (STATUS)'!$A$5:$F$128,3),\"\")","v":""},null,null,null,null,null,null,null,null,{"$f":"SUM(E7,G7,K7)","v":0},{"$f":"SUM(F7,H7,L7)","v":0},{"$f":"M7/I9","v":{"$error":"#DIV/0!"}}]
[null,null,null,{"$f":"IFERROR(VLOOKUP(C8,'PRIPREMA (STATUS)'!$A$5:$F$128,2)&\" \"&VLOOKUP(C8,'PRIPREMA (STATUS)'!$A$5:$F$128,3),\"\")","v":""},null,null,null,null,null,null,null,null,{"$f":"SUM(E8,G8,I8)","v":0},{"$f":"SUM(F8,H8,J8)","v":0},{"$f":"M8/K9","v":{"$error":"#DIV/0!"}}]
[null,null,null,null,{"$f":"COUNTIF(E5:E8,\"<>\")","v":0},null,{"$f":"COUNTIF(G5:G8,\"<>\")","v":0},null,{"$f":"COUNTIF(I5:I8,\"<>\")","v":0},null,{"$f":"COUNTIF(K5:K8,\"<>\")","v":0}]
[]
[]
[]
[]
[]
[]
[]
[]
[]
[]
[]
[]
[]
[]
[]
[]
[]
[]
[]
[]
[]
[]
[]
[]
[]
[]
[]
[]
[]
[]
[]
[]
[]
[]
[]
[]
[]
[]
[]
[]
[]
[]
[]
[]
[]
[]
[]
[]
[]
[]
[]
[]
[]
[]
[]
[]
[]
[]
[]
[]
[]
[]
[]
[]
[]
[]
[]
[]
[]
[]
[]
[]
[]
[]
[]
[]
[]
[]
[]
[]
[]
[]
[]
[]
[]
[]
[]
[]
[]
["x","x","x","x","x","x","x","x","x","x","x","x","x","x","x","x","x","x","x","x","x","x","x","x","x","x","x","x","x","x","x","x","x","x","x","x","x","x","x","x"]
[null,"br. Statusa","(+)","(-)","%"]
[null,{"$f":"C5","v":0},{"$f":"M5","v":0},{"$f":"N5","v":0},{"$f":"O5","v":{"$error":"#DIV/0!"}}]
[null,{"$f":"C6","v":0},{"$f":"M6","v":0},0,{"$error":"#DIV/0!"}]
[null,0,0,0,{"$error":"#DIV/0!"}]
[null,0,0,0,{"$error":"#DIV/0!"}]

{"sheet":"GRUPA 4 (9)","index":15,"n_rows":104,"n_cols":40,"rows_kept":104,"cut":false,"hidden":true,"merged":[[3,12,3,13],[1,2,2,3],[1,4,2,5],[1,6,2,7],[1,8,2,9],[1,10,2,11],[3,4,3,5],[3,6,3,7],[3,8,3,9],[3,10,3,11]]}
[]
[null,null,"REZULTATI MORAJU DA SE UPISUJU U SVA POLJA",null,{"$f":"C5","v":0},null,{"$f":"C6","v":0},null,{"$f":"C7","v":0},null,{"$f":"C8","v":0}]
[]
[null,null,"Br. sa\nstatusa","GRUPA 4 TAKMIČARA",{"$f":"IFERROR(VLOOKUP($E2,'PRIPREMA (STATUS)'!$A$5:$F$128,2)&\" \"&VLOOKUP($E2,'PRIPREMA (STATUS)'!$A$5:$F$128,3),\"\")","v":""},null,{"$f":"IFERROR(VLOOKUP(G2,'PRIPREMA (STATUS)'!$A$5:$F$128,2)&\" \"&VLOOKUP(G2,'PRIPREMA (STATUS)'!$A$5:$F$128,3),\"\")","v":""},null,{"$f":"IFERROR(VLOOKUP(I2,'PRIPREMA (STATUS)'!$A$5:$F$128,2)&\" \"&VLOOKUP(I2,'PRIPREMA (STATUS)'!$A$5:$F$128,3),\"\")","v":""},null,{"$f":"IFERROR(VLOOKUP(K2,'PRIPREMA (STATUS)'!$A$5:$F$128,2)&\" \"&VLOOKUP(K2,'PRIPREMA (STATUS)'!$A$5:$F$128,3),\"\")","v":""},null,"UKUPNO\n+                    -",null,"%"]
[null,null,null,{"$f":"IFERROR(VLOOKUP(C5,'PRIPREMA (STATUS)'!$A$5:$F$128,2)&\" \"&VLOOKUP(C5,'PRIPREMA (STATUS)'!$A$5:$F$128,3),\"\")","v":""},null,null,null,null,null,null,null,null,{"$f":"SUM(G5,I5,K5)","v":0},{"$f":"SUM(H5,J5,L5)","v":0},{"$f":"M5/E9","v":{"$error":"#DIV/0!"}}]
[null,null,null,{"$f":"IFERROR(VLOOKUP(C6,'PRIPREMA (STATUS)'!$A$5:$F$128,2)&\" \"&VLOOKUP(C6,'PRIPREMA (STATUS)'!$A$5:$F$128,3),\"\")","v":""},null,null,null,null,null,null,null,null,{"$f":"SUM(E6,I6,K6)","v":0},{"$f":"SUM(F6,J6,L6)","v":0},{"$f":"M6/G9","v":{"$error":"#DIV/0!"}}]
[null,null,null,{"$f":"IFERROR(VLOOKUP(C7,'PRIPREMA (STATUS)'!$A$5:$F$128,2)&\" \"&VLOOKUP(C7,'PRIPREMA (STATUS)'!$A$5:$F$128,3),\"\")","v":""},null,null,null,null,null,null,null,null,{"$f":"SUM(E7,G7,K7)","v":0},{"$f":"SUM(F7,H7,L7)","v":0},{"$f":"M7/I9","v":{"$error":"#DIV/0!"}}]
[null,null,null,{"$f":"IFERROR(VLOOKUP(C8,'PRIPREMA (STATUS)'!$A$5:$F$128,2)&\" \"&VLOOKUP(C8,'PRIPREMA (STATUS)'!$A$5:$F$128,3),\"\")","v":""},null,null,null,null,null,null,null,null,{"$f":"SUM(E8,G8,I8)","v":0},{"$f":"SUM(F8,H8,J8)","v":0},{"$f":"M8/K9","v":{"$error":"#DIV/0!"}}]
[null,null,null,null,{"$f":"COUNTIF(E5:E8,\"<>\")","v":0},null,{"$f":"COUNTIF(G5:G8,\"<>\")","v":0},null,{"$f":"COUNTIF(I5:I8,\"<>\")","v":0},null,{"$f":"COUNTIF(K5:K8,\"<>\")","v":0}]
[]
[]
[]
[]
[]
[]
[]
[]
[]
[]
[]
[]
[]
[]
[]
[]
[]
[]
[]
[]
[]
[]
[]
[]
[]
[]
[]
[]
[]
[]
[]
[]
[]
[]
[]
[]
[]
[]
[]
[]
[]
[]
[]
[]
[]
[]
[]
[]
[]
[]
[]
[]
[]
[]
[]
[]
[]
[]
[]
[]
[]
[]
[]
[]
[]
[]
[]
[]
[]
[]
[]
[]
[]
[]
[]
[]
[]
[]
[]
[]
[]
[]
[]
[]
[]
[]
[]
[]
[]
["x","x","x","x","x","x","x","x","x","x","x","x","x","x","x","x","x","x","x","x","x","x","x","x","x","x","x","x","x","x","x","x","x","x","x","x","x","x","x","x"]
[null,"br. Statusa","(+)","(-)","%"]
[null,{"$f":"C5","v":0},{"$f":"M5","v":0},{"$f":"N5","v":0},{"$f":"O5","v":{"$error":"#DIV/0!"}}]
[null,{"$f":"C6","v":0},{"$f":"M6","v":0},0,{"$error":"#DIV/0!"}]
[null,0,0,0,{"$error":"#DIV/0!"}]
[null,0,0,0,{"$error":"#DIV/0!"}]

{"sheet":"GRUPA 4 (10)","index":16,"n_rows":104,"n_cols":40,"rows_kept":104,"cut":false,"hidden":true,"merged":[[3,12,3,13],[1,2,2,3],[1,4,2,5],[1,6,2,7],[1,8,2,9],[1,10,2,11],[3,4,3,5],[3,6,3,7],[3,8,3,9],[3,10,3,11]]}
[]
[null,null,"REZULTATI MORAJU DA SE UPISUJU U SVA POLJA",null,{"$f":"C5","v":0},null,{"$f":"C6","v":0},null,{"$f":"C7","v":0},null,{"$f":"C8","v":0}]
[]
[null,null,"Br. sa\nstatusa","GRUPA 4 TAKMIČARA",{"$f":"IFERROR(VLOOKUP($E2,'PRIPREMA (STATUS)'!$A$5:$F$128,2)&\" \"&VLOOKUP($E2,'PRIPREMA (STATUS)'!$A$5:$F$128,3),\"\")","v":""},null,{"$f":"IFERROR(VLOOKUP(G2,'PRIPREMA (STATUS)'!$A$5:$F$128,2)&\" \"&VLOOKUP(G2,'PRIPREMA (STATUS)'!$A$5:$F$128,3),\"\")","v":""},null,{"$f":"IFERROR(VLOOKUP(I2,'PRIPREMA (STATUS)'!$A$5:$F$128,2)&\" \"&VLOOKUP(I2,'PRIPREMA (STATUS)'!$A$5:$F$128,3),\"\")","v":""},null,{"$f":"IFERROR(VLOOKUP(K2,'PRIPREMA (STATUS)'!$A$5:$F$128,2)&\" \"&VLOOKUP(K2,'PRIPREMA (STATUS)'!$A$5:$F$128,3),\"\")","v":""},null,"UKUPNO\n+                    -",null,"%"]
[null,null,null,{"$f":"IFERROR(VLOOKUP(C5,'PRIPREMA (STATUS)'!$A$5:$F$128,2)&\" \"&VLOOKUP(C5,'PRIPREMA (STATUS)'!$A$5:$F$128,3),\"\")","v":""},null,null,null,null,null,null,null,null,{"$f":"SUM(G5,I5,K5)","v":0},{"$f":"SUM(H5,J5,L5)","v":0},{"$f":"M5/E9","v":{"$error":"#DIV/0!"}}]
[null,null,null,{"$f":"IFERROR(VLOOKUP(C6,'PRIPREMA (STATUS)'!$A$5:$F$128,2)&\" \"&VLOOKUP(C6,'PRIPREMA (STATUS)'!$A$5:$F$128,3),\"\")","v":""},null,null,null,null,null,null,null,null,{"$f":"SUM(E6,I6,K6)","v":0},{"$f":"SUM(F6,J6,L6)","v":0},{"$f":"M6/G9","v":{"$error":"#DIV/0!"}}]
[null,null,null,{"$f":"IFERROR(VLOOKUP(C7,'PRIPREMA (STATUS)'!$A$5:$F$128,2)&\" \"&VLOOKUP(C7,'PRIPREMA (STATUS)'!$A$5:$F$128,3),\"\")","v":""},null,null,null,null,null,null,null,null,{"$f":"SUM(E7,G7,K7)","v":0},{"$f":"SUM(F7,H7,L7)","v":0},{"$f":"M7/I9","v":{"$error":"#DIV/0!"}}]
[null,null,null,{"$f":"IFERROR(VLOOKUP(C8,'PRIPREMA (STATUS)'!$A$5:$F$128,2)&\" \"&VLOOKUP(C8,'PRIPREMA (STATUS)'!$A$5:$F$128,3),\"\")","v":""},null,null,null,null,null,null,null,null,{"$f":"SUM(E8,G8,I8)","v":0},{"$f":"SUM(F8,H8,J8)","v":0},{"$f":"M8/K9","v":{"$error":"#DIV/0!"}}]
[null,null,null,null,{"$f":"COUNTIF(E5:E8,\"<>\")","v":0},null,{"$f":"COUNTIF(G5:G8,\"<>\")","v":0},null,{"$f":"COUNTIF(I5:I8,\"<>\")","v":0},null,{"$f":"COUNTIF(K5:K8,\"<>\")","v":0}]
[]
[]
[]
[]
[]
[]
[]
[]
[]
[]
[]
[]
[]
[]
[]
[]
[]
[]
[]
[]
[]
[]
[]
[]
[]
[]
[]
[]
[]
[]
[]
[]
[]
[]
[]
[]
[]
[]
[]
[]
[]
[]
[]
[]
[]
[]
[]
[]
[]
[]
[]
[]
[]
[]
[]
[]
[]
[]
[]
[]
[]
[]
[]
[]
[]
[]
[]
[]
[]
[]
[]
[]
[]
[]
[]
[]
[]
[]
[]
[]
[]
[]
[]
[]
[]
[]
[]
[]
[]
["x","x","x","x","x","x","x","x","x","x","x","x","x","x","x","x","x","x","x","x","x","x","x","x","x","x","x","x","x","x","x","x","x","x","x","x","x","x","x","x"]
[null,"br. Statusa","(+)","(-)","%"]
[null,{"$f":"C5","v":0},{"$f":"M5","v":0},{"$f":"N5","v":0},{"$f":"O5","v":{"$error":"#DIV/0!"}}]
[null,{"$f":"C6","v":0},{"$f":"M6","v":0},0,{"$error":"#DIV/0!"}]
[null,0,0,0,{"$error":"#DIV/0!"}]
[null,0,0,0,{"$error":"#DIV/0!"}]

{"sheet":"GRUPA 4 (11)","index":17,"n_rows":104,"n_cols":40,"rows_kept":104,"cut":false,"hidden":true,"merged":[[3,12,3,13],[1,2,2,3],[1,4,2,5],[1,6,2,7],[1,8,2,9],[1,10,2,11],[3,4,3,5],[3,6,3,7],[3,8,3,9],[3,10,3,11]]}
[]
[null,null,"REZULTATI MORAJU DA SE UPISUJU U SVA POLJA",null,{"$f":"C5","v":0},null,{"$f":"C6","v":0},null,{"$f":"C7","v":0},null,{"$f":"C8","v":0}]
[]
[null,null,"Br. sa\nstatusa","GRUPA 4 TAKMIČARA",{"$f":"IFERROR(VLOOKUP($E2,'PRIPREMA (STATUS)'!$A$5:$F$128,2)&\" \"&VLOOKUP($E2,'PRIPREMA (STATUS)'!$A$5:$F$128,3),\"\")","v":""},null,{"$f":"IFERROR(VLOOKUP(G2,'PRIPREMA (STATUS)'!$A$5:$F$128,2)&\" \"&VLOOKUP(G2,'PRIPREMA (STATUS)'!$A$5:$F$128,3),\"\")","v":""},null,{"$f":"IFERROR(VLOOKUP(I2,'PRIPREMA (STATUS)'!$A$5:$F$128,2)&\" \"&VLOOKUP(I2,'PRIPREMA (STATUS)'!$A$5:$F$128,3),\"\")","v":""},null,{"$f":"IFERROR(VLOOKUP(K2,'PRIPREMA (STATUS)'!$A$5:$F$128,2)&\" \"&VLOOKUP(K2,'PRIPREMA (STATUS)'!$A$5:$F$128,3),\"\")","v":""},null,"UKUPNO\n+                    -",null,"%"]
[null,null,null,{"$f":"IFERROR(VLOOKUP(C5,'PRIPREMA (STATUS)'!$A$5:$F$128,2)&\" \"&VLOOKUP(C5,'PRIPREMA (STATUS)'!$A$5:$F$128,3),\"\")","v":""},null,null,null,null,null,null,null,null,{"$f":"SUM(G5,I5,K5)","v":0},{"$f":"SUM(H5,J5,L5)","v":0},{"$f":"M5/E9","v":{"$error":"#DIV/0!"}}]
[null,null,null,{"$f":"IFERROR(VLOOKUP(C6,'PRIPREMA (STATUS)'!$A$5:$F$128,2)&\" \"&VLOOKUP(C6,'PRIPREMA (STATUS)'!$A$5:$F$128,3),\"\")","v":""},null,null,null,null,null,null,null,null,{"$f":"SUM(E6,I6,K6)","v":0},{"$f":"SUM(F6,J6,L6)","v":0},{"$f":"M6/G9","v":{"$error":"#DIV/0!"}}]
[null,null,null,{"$f":"IFERROR(VLOOKUP(C7,'PRIPREMA (STATUS)'!$A$5:$F$128,2)&\" \"&VLOOKUP(C7,'PRIPREMA (STATUS)'!$A$5:$F$128,3),\"\")","v":""},null,null,null,null,null,null,null,null,{"$f":"SUM(E7,G7,K7)","v":0},{"$f":"SUM(F7,H7,L7)","v":0},{"$f":"M7/I9","v":{"$error":"#DIV/0!"}}]
[null,null,null,{"$f":"IFERROR(VLOOKUP(C8,'PRIPREMA (STATUS)'!$A$5:$F$128,2)&\" \"&VLOOKUP(C8,'PRIPREMA (STATUS)'!$A$5:$F$128,3),\"\")","v":""},null,null,null,null,null,null,null,null,{"$f":"SUM(E8,G8,I8)","v":0},{"$f":"SUM(F8,H8,J8)","v":0},{"$f":"M8/K9","v":{"$error":"#DIV/0!"}}]
[null,null,null,null,{"$f":"COUNTIF(E5:E8,\"<>\")","v":0},null,{"$f":"COUNTIF(G5:G8,\"<>\")","v":0},null,{"$f":"COUNTIF(I5:I8,\"<>\")","v":0},null,{"$f":"COUNTIF(K5:K8,\"<>\")","v":0}]
[]
[]
[]
[]
[]
[]
[]
[]
[]
[]
[]
[]
[]
[]
[]
[]
[]
[]
[]
[]
[]
[]
[]
[]
[]
[]
[]
[]
[]
[]
[]
[]
[]
[]
[]
[]
[]
[]
[]
[]
[]
[]
[]
[]
[]
[]
[]
[]
[]
[]
[]
[]
[]
[]
[]
[]
[]
[]
[]
[]
[]
[]
[]
[]
[]
[]
[]
[]
[]
[]
[]
[]
[]
[]
[]
[]
[]
[]
[]
[]
[]
[]
[]
[]
[]
[]
[]
[]
[]
["x","x","x","x","x","x","x","x","x","x","x","x","x","x","x","x","x","x","x","x","x","x","x","x","x","x","x","x","x","x","x","x","x","x","x","x","x","x","x","x"]
[null,"br. Statusa","(+)","(-)","%"]
[null,{"$f":"C5","v":0},{"$f":"M5","v":0},{"$f":"N5","v":0},{"$f":"O5","v":{"$error":"#DIV/0!"}}]
[null,{"$f":"C6","v":0},{"$f":"M6","v":0},0,{"$error":"#DIV/0!"}]
[null,0,0,0,{"$error":"#DIV/0!"}]
[null,0,0,0,{"$error":"#DIV/0!"}]

{"sheet":"GRUPA 4 (12)","index":18,"n_rows":104,"n_cols":40,"rows_kept":104,"cut":false,"hidden":true,"merged":[[3,12,3,13],[1,2,2,3],[1,4,2,5],[1,6,2,7],[1,8,2,9],[1,10,2,11],[3,4,3,5],[3,6,3,7],[3,8,3,9],[3,10,3,11]]}
[]
[null,null,"REZULTATI MORAJU DA SE UPISUJU U SVA POLJA",null,{"$f":"C5","v":0},null,{"$f":"C6","v":0},null,{"$f":"C7","v":0},null,{"$f":"C8","v":0}]
[]
[null,null,"Br. sa\nstatusa","GRUPA 4 TAKMIČARA",{"$f":"IFERROR(VLOOKUP($E2,'PRIPREMA (STATUS)'!$A$5:$F$128,2)&\" \"&VLOOKUP($E2,'PRIPREMA (STATUS)'!$A$5:$F$128,3),\"\")","v":""},null,{"$f":"IFERROR(VLOOKUP(G2,'PRIPREMA (STATUS)'!$A$5:$F$128,2)&\" \"&VLOOKUP(G2,'PRIPREMA (STATUS)'!$A$5:$F$128,3),\"\")","v":""},null,{"$f":"IFERROR(VLOOKUP(I2,'PRIPREMA (STATUS)'!$A$5:$F$128,2)&\" \"&VLOOKUP(I2,'PRIPREMA (STATUS)'!$A$5:$F$128,3),\"\")","v":""},null,{"$f":"IFERROR(VLOOKUP(K2,'PRIPREMA (STATUS)'!$A$5:$F$128,2)&\" \"&VLOOKUP(K2,'PRIPREMA (STATUS)'!$A$5:$F$128,3),\"\")","v":""},null,"UKUPNO\n+                    -",null,"%"]
[null,null,null,{"$f":"IFERROR(VLOOKUP(C5,'PRIPREMA (STATUS)'!$A$5:$F$128,2)&\" \"&VLOOKUP(C5,'PRIPREMA (STATUS)'!$A$5:$F$128,3),\"\")","v":""},null,null,null,null,null,null,null,null,{"$f":"SUM(G5,I5,K5)","v":0},{"$f":"SUM(H5,J5,L5)","v":0},{"$f":"M5/E9","v":{"$error":"#DIV/0!"}}]
[null,null,null,{"$f":"IFERROR(VLOOKUP(C6,'PRIPREMA (STATUS)'!$A$5:$F$128,2)&\" \"&VLOOKUP(C6,'PRIPREMA (STATUS)'!$A$5:$F$128,3),\"\")","v":""},null,null,null,null,null,null,null,null,{"$f":"SUM(E6,I6,K6)","v":0},{"$f":"SUM(F6,J6,L6)","v":0},{"$f":"M6/G9","v":{"$error":"#DIV/0!"}}]
[null,null,null,{"$f":"IFERROR(VLOOKUP(C7,'PRIPREMA (STATUS)'!$A$5:$F$128,2)&\" \"&VLOOKUP(C7,'PRIPREMA (STATUS)'!$A$5:$F$128,3),\"\")","v":""},null,null,null,null,null,null,null,null,{"$f":"SUM(E7,G7,K7)","v":0},{"$f":"SUM(F7,H7,L7)","v":0},{"$f":"M7/I9","v":{"$error":"#DIV/0!"}}]
[null,null,null,{"$f":"IFERROR(VLOOKUP(C8,'PRIPREMA (STATUS)'!$A$5:$F$128,2)&\" \"&VLOOKUP(C8,'PRIPREMA (STATUS)'!$A$5:$F$128,3),\"\")","v":""},null,null,null,null,null,null,null,null,{"$f":"SUM(E8,G8,I8)","v":0},{"$f":"SUM(F8,H8,J8)","v":0},{"$f":"M8/K9","v":{"$error":"#DIV/0!"}}]
[null,null,null,null,{"$f":"COUNTIF(E5:E8,\"<>\")","v":0},null,{"$f":"COUNTIF(G5:G8,\"<>\")","v":0},null,{"$f":"COUNTIF(I5:I8,\"<>\")","v":0},null,{"$f":"COUNTIF(K5:K8,\"<>\")","v":0}]
[]
[]
[]
[]
[]
[]
[]
[]
[]
[]
[]
[]
[]
[]
[]
[]
[]
[]
[]
[]
[]
[]
[]
[]
[]
[]
[]
[]
[]
[]
[]
[]
[]
[]
[]
[]
[]
[]
[]
[]
[]
[]
[]
[]
[]
[]
[]
[]
[]
[]
[]
[]
[]
[]
[]
[]
[]
[]
[]
[]
[]
[]
[]
[]
[]
[]
[]
[]
[]
[]
[]
[]
[]
[]
[]
[]
[]
[]
[]
[]
[]
[]
[]
[]
[]
[]
[]
[]
[]
["x","x","x","x","x","x","x","x","x","x","x","x","x","x","x","x","x","x","x","x","x","x","x","x","x","x","x","x","x","x","x","x","x","x","x","x","x","x","x","x"]
[null,"br. Statusa","(+)","(-)","%"]
[null,{"$f":"C5","v":0},{"$f":"M5","v":0},{"$f":"N5","v":0},{"$f":"O5","v":{"$error":"#DIV/0!"}}]
[null,{"$f":"C6","v":0},{"$f":"M6","v":0},0,{"$error":"#DIV/0!"}]
[null,0,0,0,{"$error":"#DIV/0!"}]
[null,0,0,0,{"$error":"#DIV/0!"}]

{"sheet":"GRUPA 4 (13)","index":19,"n_rows":104,"n_cols":40,"rows_kept":104,"cut":false,"hidden":true,"merged":[[3,12,3,13],[1,2,2,3],[1,4,2,5],[1,6,2,7],[1,8,2,9],[1,10,2,11],[3,4,3,5],[3,6,3,7],[3,8,3,9],[3,10,3,11]]}
[]
[null,null,"REZULTATI MORAJU DA SE UPISUJU U SVA POLJA",null,{"$f":"C5","v":0},null,{"$f":"C6","v":0},null,{"$f":"C7","v":0},null,{"$f":"C8","v":0}]
[]
[null,null,"Br. sa\nstatusa","GRUPA 4 TAKMIČARA",{"$f":"IFERROR(VLOOKUP($E2,'PRIPREMA (STATUS)'!$A$5:$F$128,2)&\" \"&VLOOKUP($E2,'PRIPREMA (STATUS)'!$A$5:$F$128,3),\"\")","v":""},null,{"$f":"IFERROR(VLOOKUP(G2,'PRIPREMA (STATUS)'!$A$5:$F$128,2)&\" \"&VLOOKUP(G2,'PRIPREMA (STATUS)'!$A$5:$F$128,3),\"\")","v":""},null,{"$f":"IFERROR(VLOOKUP(I2,'PRIPREMA (STATUS)'!$A$5:$F$128,2)&\" \"&VLOOKUP(I2,'PRIPREMA (STATUS)'!$A$5:$F$128,3),\"\")","v":""},null,{"$f":"IFERROR(VLOOKUP(K2,'PRIPREMA (STATUS)'!$A$5:$F$128,2)&\" \"&VLOOKUP(K2,'PRIPREMA (STATUS)'!$A$5:$F$128,3),\"\")","v":""},null,"UKUPNO\n+                    -",null,"%"]
[null,null,null,{"$f":"IFERROR(VLOOKUP(C5,'PRIPREMA (STATUS)'!$A$5:$F$128,2)&\" \"&VLOOKUP(C5,'PRIPREMA (STATUS)'!$A$5:$F$128,3),\"\")","v":""},null,null,null,null,null,null,null,null,{"$f":"SUM(G5,I5,K5)","v":0},{"$f":"SUM(H5,J5,L5)","v":0},{"$f":"M5/E9","v":{"$error":"#DIV/0!"}}]
[null,null,null,{"$f":"IFERROR(VLOOKUP(C6,'PRIPREMA (STATUS)'!$A$5:$F$128,2)&\" \"&VLOOKUP(C6,'PRIPREMA (STATUS)'!$A$5:$F$128,3),\"\")","v":""},null,null,null,null,null,null,null,null,{"$f":"SUM(E6,I6,K6)","v":0},{"$f":"SUM(F6,J6,L6)","v":0},{"$f":"M6/G9","v":{"$error":"#DIV/0!"}}]
[null,null,null,{"$f":"IFERROR(VLOOKUP(C7,'PRIPREMA (STATUS)'!$A$5:$F$128,2)&\" \"&VLOOKUP(C7,'PRIPREMA (STATUS)'!$A$5:$F$128,3),\"\")","v":""},null,null,null,null,null,null,null,null,{"$f":"SUM(E7,G7,K7)","v":0},{"$f":"SUM(F7,H7,L7)","v":0},{"$f":"M7/I9","v":{"$error":"#DIV/0!"}}]
[null,null,null,{"$f":"IFERROR(VLOOKUP(C8,'PRIPREMA (STATUS)'!$A$5:$F$128,2)&\" \"&VLOOKUP(C8,'PRIPREMA (STATUS)'!$A$5:$F$128,3),\"\")","v":""},null,null,null,null,null,null,null,null,{"$f":"SUM(E8,G8,I8)","v":0},{"$f":"SUM(F8,H8,J8)","v":0},{"$f":"M8/K9","v":{"$error":"#DIV/0!"}}]
[null,null,null,null,{"$f":"COUNTIF(E5:E8,\"<>\")","v":0},null,{"$f":"COUNTIF(G5:G8,\"<>\")","v":0},null,{"$f":"COUNTIF(I5:I8,\"<>\")","v":0},null,{"$f":"COUNTIF(K5:K8,\"<>\")","v":0}]
[]
[]
[]
[]
[]
[]
[]
[]
[]
[]
[]
[]
[]
[]
[]
[]
[]
[]
[]
[]
[]
[]
[]
[]
[]
[]
[]
[]
[]
[]
[]
[]
[]
[]
[]
[]
[]
[]
[]
[]
[]
[]
[]
[]
[]
[]
[]
[]
[]
[]
[]
[]
[]
[]
[]
[]
[]
[]
[]
[]
[]
[]
[]
[]
[]
[]
[]
[]
[]
[]
[]
[]
[]
[]
[]
[]
[]
[]
[]
[]
[]
[]
[]
[]
[]
[]
[]
[]
[]
["x","x","x","x","x","x","x","x","x","x","x","x","x","x","x","x","x","x","x","x","x","x","x","x","x","x","x","x","x","x","x","x","x","x","x","x","x","x","x","x"]
[null,"br. Statusa","(+)","(-)","%"]
[null,{"$f":"C5","v":0},{"$f":"M5","v":0},{"$f":"N5","v":0},{"$f":"O5","v":{"$error":"#DIV/0!"}}]
[null,{"$f":"C6","v":0},{"$f":"M6","v":0},0,{"$error":"#DIV/0!"}]
[null,0,0,0,{"$error":"#DIV/0!"}]
[null,0,0,0,{"$error":"#DIV/0!"}]

{"sheet":"GRUPA 4 (14)","index":20,"n_rows":104,"n_cols":40,"rows_kept":104,"cut":false,"hidden":true,"merged":[[3,12,3,13],[1,2,2,3],[1,4,2,5],[1,6,2,7],[1,8,2,9],[1,10,2,11],[3,4,3,5],[3,6,3,7],[3,8,3,9],[3,10,3,11]]}
[]
[null,null,"REZULTATI MORAJU DA SE UPISUJU U SVA POLJA",null,{"$f":"C5","v":0},null,{"$f":"C6","v":0},null,{"$f":"C7","v":0},null,{"$f":"C8","v":0}]
[]
[null,null,"Br. sa\nstatusa","GRUPA 4 TAKMIČARA",{"$f":"IFERROR(VLOOKUP($E2,'PRIPREMA (STATUS)'!$A$5:$F$128,2)&\" \"&VLOOKUP($E2,'PRIPREMA (STATUS)'!$A$5:$F$128,3),\"\")","v":""},null,{"$f":"IFERROR(VLOOKUP(G2,'PRIPREMA (STATUS)'!$A$5:$F$128,2)&\" \"&VLOOKUP(G2,'PRIPREMA (STATUS)'!$A$5:$F$128,3),\"\")","v":""},null,{"$f":"IFERROR(VLOOKUP(I2,'PRIPREMA (STATUS)'!$A$5:$F$128,2)&\" \"&VLOOKUP(I2,'PRIPREMA (STATUS)'!$A$5:$F$128,3),\"\")","v":""},null,{"$f":"IFERROR(VLOOKUP(K2,'PRIPREMA (STATUS)'!$A$5:$F$128,2)&\" \"&VLOOKUP(K2,'PRIPREMA (STATUS)'!$A$5:$F$128,3),\"\")","v":""},null,"UKUPNO\n+                    -",null,"%"]
[null,null,null,{"$f":"IFERROR(VLOOKUP(C5,'PRIPREMA (STATUS)'!$A$5:$F$128,2)&\" \"&VLOOKUP(C5,'PRIPREMA (STATUS)'!$A$5:$F$128,3),\"\")","v":""},null,null,null,null,null,null,null,null,{"$f":"SUM(G5,I5,K5)","v":0},{"$f":"SUM(H5,J5,L5)","v":0},{"$f":"M5/E9","v":{"$error":"#DIV/0!"}}]
[null,null,null,{"$f":"IFERROR(VLOOKUP(C6,'PRIPREMA (STATUS)'!$A$5:$F$128,2)&\" \"&VLOOKUP(C6,'PRIPREMA (STATUS)'!$A$5:$F$128,3),\"\")","v":""},null,null,null,null,null,null,null,null,{"$f":"SUM(E6,I6,K6)","v":0},{"$f":"SUM(F6,J6,L6)","v":0},{"$f":"M6/G9","v":{"$error":"#DIV/0!"}}]
[null,null,null,{"$f":"IFERROR(VLOOKUP(C7,'PRIPREMA (STATUS)'!$A$5:$F$128,2)&\" \"&VLOOKUP(C7,'PRIPREMA (STATUS)'!$A$5:$F$128,3),\"\")","v":""},null,null,null,null,null,null,null,null,{"$f":"SUM(E7,G7,K7)","v":0},{"$f":"SUM(F7,H7,L7)","v":0},{"$f":"M7/I9","v":{"$error":"#DIV/0!"}}]
[null,null,null,{"$f":"IFERROR(VLOOKUP(C8,'PRIPREMA (STATUS)'!$A$5:$F$128,2)&\" \"&VLOOKUP(C8,'PRIPREMA (STATUS)'!$A$5:$F$128,3),\"\")","v":""},null,null,null,null,null,null,null,null,{"$f":"SUM(E8,G8,I8)","v":0},{"$f":"SUM(F8,H8,J8)","v":0},{"$f":"M8/K9","v":{"$error":"#DIV/0!"}}]
[null,null,null,null,{"$f":"COUNTIF(E5:E8,\"<>\")","v":0},null,{"$f":"COUNTIF(G5:G8,\"<>\")","v":0},null,{"$f":"COUNTIF(I5:I8,\"<>\")","v":0},null,{"$f":"COUNTIF(K5:K8,\"<>\")","v":0}]
[]
[]
[]
[]
[]
[]
[]
[]
[]
[]
[]
[]
[]
[]
[]
[]
[]
[]
[]
[]
[]
[]
[]
[]
[]
[]
[]
[]
[]
[]
[]
[]
[]
[]
[]
[]
[]
[]
[]
[]
[]
[]
[]
[]
[]
[]
[]
[]
[]
[]
[]
[]
[]
[]
[]
[]
[]
[]
[]
[]
[]
[]
[]
[]
[]
[]
[]
[]
[]
[]
[]
[]
[]
[]
[]
[]
[]
[]
[]
[]
[]
[]
[]
[]
[]
[]
[]
[]
[]
["x","x","x","x","x","x","x","x","x","x","x","x","x","x","x","x","x","x","x","x","x","x","x","x","x","x","x","x","x","x","x","x","x","x","x","x","x","x","x","x"]
[null,"br. Statusa","(+)","(-)","%"]
[null,{"$f":"C5","v":0},{"$f":"M5","v":0},{"$f":"N5","v":0},{"$f":"O5","v":{"$error":"#DIV/0!"}}]
[null,{"$f":"C6","v":0},{"$f":"M6","v":0},0,{"$error":"#DIV/0!"}]
[null,0,0,0,{"$error":"#DIV/0!"}]
[null,0,0,0,{"$error":"#DIV/0!"}]

{"sheet":"GRUPA 5","index":21,"n_rows":107,"n_cols":42,"rows_kept":107,"cut":false,"hidden":true,"merged":[[3,14,3,15],[3,12,3,13],[1,2,2,3],[1,4,2,5],[1,6,2,7],[1,8,2,9],[1,10,2,11],[3,4,3,5],[3,6,3,7],[3,8,3,9],[3,10,3,11]]}
[]
[null,null,"REZULTATI MORAJU DA SE UPISUJU U SVA POLJA"]
[]
[null,null,"Br. sa\nstatusa","GRUPA 5 TAKMIČARA",{"$f":"D5","v":""},null,{"$f":"D6","v":""},null,{"$f":"D7","v":""},null,{"$f":"D8","v":""},null,{"$f":"D9","v":""},null,"UKUPNO\n+                    -",null,"%"]
[null,null,null,{"$f":"IFERROR(VLOOKUP(C5,'PRIPREMA (STATUS)'!$A$5:$F$128,2)&\" \"&VLOOKUP(C5,'PRIPREMA (STATUS)'!$A$5:$F$128,3),\"\")","v":""},null,null,null,null,null,null,null,null,null,null,{"$f":"SUM(G5,I5,K5,M5)","v":0},{"$f":"SUM(H5,J5,L5,N5)","v":0},{"$f":"O5/E10","v":{"$error":"#DIV/0!"}}]
[null,null,null,{"$f":"IFERROR(VLOOKUP(C6,'PRIPREMA (STATUS)'!$A$5:$F$128,2)&\" \"&VLOOKUP(C6,'PRIPREMA (STATUS)'!$A$5:$F$128,3),\"\")","v":""},null,null,null,null,null,null,null,null,null,null,{"$f":"SUM(E6,I6,K6,M6)","v":0},{"$f":"SUM(F6,J6,L6,N6)","v":0},{"$f":"O6/G10","v":{"$error":"#DIV/0!"}}]
[null,null,null,{"$f":"IFERROR(VLOOKUP(C7,'PRIPREMA (STATUS)'!$A$5:$F$128,2)&\" \"&VLOOKUP(C7,'PRIPREMA (STATUS)'!$A$5:$F$128,3),\"\")","v":""},null,null,null,null,null,null,null,null,null,null,{"$f":"SUM(E7,G7,K7,M7)","v":0},{"$f":"SUM(F7,H7,L7,N7)","v":0},{"$f":"O7/I10","v":{"$error":"#DIV/0!"}}]
[null,null,null,{"$f":"IFERROR(VLOOKUP(C8,'PRIPREMA (STATUS)'!$A$5:$F$128,2)&\" \"&VLOOKUP(C8,'PRIPREMA (STATUS)'!$A$5:$F$128,3),\"\")","v":""},null,null,null,null,null,null,null,null,null,null,{"$f":"SUM(E8,G8,I8,M8)","v":0},{"$f":"SUM(F8,H8,J8,N8)","v":0},{"$f":"O8/K10","v":{"$error":"#DIV/0!"}}]
[null,null,null,{"$f":"IFERROR(VLOOKUP(C9,'PRIPREMA (STATUS)'!$A$5:$F$128,2)&\" \"&VLOOKUP(C9,'PRIPREMA (STATUS)'!$A$5:$F$128,3),\"\")","v":""},null,null,null,null,null,null,null,null,null,null,{"$f":"SUM(E9,G9,I9,K9)","v":0},{"$f":"SUM(F9,H9,J9,L9)","v":0},{"$f":"O9/M10","v":{"$error":"#DIV/0!"}}]
[null,null,null,null,{"$f":"COUNTIF(E5:E9,\"<>\")","v":0},null,{"$f":"COUNTIF(G5:G9,\"<>\")","v":0},null,{"$f":"COUNTIF(I5:I9,\"<>\")","v":0},null,{"$f":"COUNTIF(K5:K9,\"<>\")","v":0},null,{"$f":"COUNTIF(M5:M9,\"<>\")","v":0}]
[]
[]
[]
[]
[]
[]
[]
[]
[]
[]
[]
[]
[]
[]
[]
[]
[]
[]
[]
[]
[]
[]
[]
[]
[]
[]
[]
[]
[]
[]
[]
[]
[]
[]
[]
[]
[]
[]
[]
[]
[]
[]
[]
[]
[]
[]
[]
[]
[]
[]
[]
[]
[]
[]
[]
[]
[]
[]
[]
[]
[]
[]
[]
[]
[]
[]
[]
[]
[]
[]
[]
[]
[]
[]
[]
[]
[]
[]
[]
[]
[]
[]
[]
[]
[]
[]
[]
[]
[]
["x","x","x","x","x","x","x","x","x","x","x","x",null,null,"x","x","x","x","x","x","x","x","x","x","x","x","x","x","x","x","x","x","x","x","x","x","x","x","x","x","x","x"]
[null,"br. Statusa","(+)","(-)","%"]
[null,{"$f":"C5","v":0},{"$f":"O5","v":0},{"$f":"P5","v":0},{"$f":"Q5","v":{"$error":"#DIV/0!"}}]
[null,{"$f":"C6","v":0},{"$f":"O6","v":0},{"$f":"P6","v":0},{"$f":"Q6","v":{"$error":"#DIV/0!"}}]
[null,{"$f":"C7","v":0},{"$f":"O7","v":0},{"$f":"P7","v":0},{"$f":"Q7","v":{"$error":"#DIV/0!"}}]
[null,{"$f":"C8","v":0},{"$f":"O8","v":0},{"$f":"P8","v":0},{"$f":"Q8","v":{"$error":"#DIV/0!"}}]
[null,{"$f":"C9","v":0},{"$f":"O9","v":0},{"$f":"P9","v":0},{"$f":"Q9","v":{"$error":"#DIV/0!"}}]
[null,{"$f":"C10","v":0},{"$f":"O10","v":0},{"$f":"P10","v":0},{"$f":"Q10","v":0}]

{"sheet":"GRUPA 5 (2)","index":22,"n_rows":107,"n_cols":42,"rows_kept":107,"cut":false,"hidden":true,"merged":[[3,12,3,13],[3,14,3,15],[1,2,2,3],[1,4,2,5],[1,6,2,7],[1,8,2,9],[1,10,2,11],[3,4,3,5],[3,6,3,7],[3,8,3,9],[3,10,3,11]]}
[]
[null,null,"REZULTATI MORAJU DA SE UPISUJU U SVA POLJA"]
[]
[null,null,"Br. sa\nstatusa","GRUPA 5 TAKMIČARA",{"$f":"D5","v":""},null,{"$f":"D6","v":""},null,{"$f":"D7","v":""},null,{"$f":"D8","v":""},null,{"$f":"D9","v":""},null,"UKUPNO\n+                    -",null,"%"]
[null,null,null,{"$f":"IFERROR(VLOOKUP(C5,'PRIPREMA (STATUS)'!$A$5:$F$128,2)&\" \"&VLOOKUP(C5,'PRIPREMA (STATUS)'!$A$5:$F$128,3),\"\")","v":""},null,null,null,null,null,null,null,null,null,null,{"$f":"SUM(G5,I5,K5,M5)","v":0},{"$f":"SUM(H5,J5,L5,N5)","v":0},{"$f":"O5/E10","v":{"$error":"#DIV/0!"}}]
[null,null,null,{"$f":"IFERROR(VLOOKUP(C6,'PRIPREMA (STATUS)'!$A$5:$F$128,2)&\" \"&VLOOKUP(C6,'PRIPREMA (STATUS)'!$A$5:$F$128,3),\"\")","v":""},null,null,null,null,null,null,null,null,null,null,{"$f":"SUM(E6,I6,K6,M6)","v":0},{"$f":"SUM(F6,J6,L6,N6)","v":0},{"$f":"O6/G10","v":{"$error":"#DIV/0!"}}]
[null,null,null,{"$f":"IFERROR(VLOOKUP(C7,'PRIPREMA (STATUS)'!$A$5:$F$128,2)&\" \"&VLOOKUP(C7,'PRIPREMA (STATUS)'!$A$5:$F$128,3),\"\")","v":""},null,null,null,null,null,null,null,null,null,null,{"$f":"SUM(E7,G7,K7,M7)","v":0},{"$f":"SUM(F7,H7,L7,N7)","v":0},{"$f":"O7/I10","v":{"$error":"#DIV/0!"}}]
[null,null,null,{"$f":"IFERROR(VLOOKUP(C8,'PRIPREMA (STATUS)'!$A$5:$F$128,2)&\" \"&VLOOKUP(C8,'PRIPREMA (STATUS)'!$A$5:$F$128,3),\"\")","v":""},null,null,null,null,null,null,null,null,null,null,{"$f":"SUM(E8,G8,I8,M8)","v":0},{"$f":"SUM(F8,H8,J8,N8)","v":0},{"$f":"O8/K10","v":{"$error":"#DIV/0!"}}]
[null,null,null,{"$f":"IFERROR(VLOOKUP(C9,'PRIPREMA (STATUS)'!$A$5:$F$128,2)&\" \"&VLOOKUP(C9,'PRIPREMA (STATUS)'!$A$5:$F$128,3),\"\")","v":""},null,null,null,null,null,null,null,null,null,null,{"$f":"SUM(E9,G9,I9,K9)","v":0},{"$f":"SUM(F9,H9,J9,L9)","v":0},{"$f":"O9/M10","v":{"$error":"#DIV/0!"}}]
[null,null,null,null,{"$f":"COUNTIF(E5:E9,\"<>\")","v":0},null,{"$f":"COUNTIF(G5:G9,\"<>\")","v":0},null,{"$f":"COUNTIF(I5:I9,\"<>\")","v":0},null,{"$f":"COUNTIF(K5:K9,\"<>\")","v":0},null,{"$f":"COUNTIF(M5:M9,\"<>\")","v":0}]
[]
[]
[]
[]
[]
[]
[]
[]
[]
[]
[]
[]
[]
[]
[]
[]
[]
[]
[]
[]
[]
[]
[]
[]
[]
[]
[]
[]
[]
[]
[]
[]
[]
[]
[]
[]
[]
[]
[]
[]
[]
[]
[]
[]
[]
[]
[]
[]
[]
[]
[]
[]
[]
[]
[]
[]
[]
[]
[]
[]
[]
[]
[]
[]
[]
[]
[]
[]
[]
[]
[]
[]
[]
[]
[]
[]
[]
[]
[]
[]
[]
[]
[]
[]
[]
[]
[]
[]
[]
["x","x","x","x","x","x","x","x","x","x","x","x",null,null,"x","x","x","x","x","x","x","x","x","x","x","x","x","x","x","x","x","x","x","x","x","x","x","x","x","x","x","x"]
[null,"br. Statusa","(+)","(-)","%"]
[null,{"$f":"C5","v":0},{"$f":"O5","v":0},{"$f":"P5","v":0},{"$f":"Q5","v":{"$error":"#DIV/0!"}}]
[null,{"$f":"C6","v":0},{"$f":"O6","v":0},{"$f":"P6","v":0},{"$f":"Q6","v":{"$error":"#DIV/0!"}}]
[null,{"$f":"C7","v":0},{"$f":"O7","v":0},{"$f":"P7","v":0},{"$f":"Q7","v":{"$error":"#DIV/0!"}}]
[null,{"$f":"C8","v":0},{"$f":"O8","v":0},{"$f":"P8","v":0},{"$f":"Q8","v":{"$error":"#DIV/0!"}}]
[null,{"$f":"C9","v":0},{"$f":"O9","v":0},{"$f":"P9","v":0},{"$f":"Q9","v":{"$error":"#DIV/0!"}}]
[null,{"$f":"C10","v":0},{"$f":"O10","v":0},{"$f":"P10","v":0},{"$f":"Q10","v":0}]

{"sheet":"GRUPA 5 (3)","index":23,"n_rows":107,"n_cols":42,"rows_kept":107,"cut":false,"hidden":true,"merged":[[3,12,3,13],[3,14,3,15],[1,2,2,3],[1,4,2,5],[1,6,2,7],[1,8,2,9],[1,10,2,11],[3,4,3,5],[3,6,3,7],[3,8,3,9],[3,10,3,11]]}
[]
[null,null,"REZULTATI MORAJU DA SE UPISUJU U SVA POLJA"]
[]
[null,null,"Br. sa\nstatusa","GRUPA 5 TAKMIČARA",{"$f":"D5","v":""},null,{"$f":"D6","v":""},null,{"$f":"D7","v":""},null,{"$f":"D8","v":""},null,{"$f":"D9","v":""},null,"UKUPNO\n+                    -",null,"%"]
[null,null,null,{"$f":"IFERROR(VLOOKUP(C5,'PRIPREMA (STATUS)'!$A$5:$F$128,2)&\" \"&VLOOKUP(C5,'PRIPREMA (STATUS)'!$A$5:$F$128,3),\"\")","v":""},null,null,null,null,null,null,null,null,null,null,{"$f":"SUM(G5,I5,K5,M5)","v":0},{"$f":"SUM(H5,J5,L5,N5)","v":0},{"$f":"O5/E10","v":{"$error":"#DIV/0!"}}]
[null,null,null,{"$f":"IFERROR(VLOOKUP(C6,'PRIPREMA (STATUS)'!$A$5:$F$128,2)&\" \"&VLOOKUP(C6,'PRIPREMA (STATUS)'!$A$5:$F$128,3),\"\")","v":""},null,null,null,null,null,null,null,null,null,null,{"$f":"SUM(E6,I6,K6,M6)","v":0},{"$f":"SUM(F6,J6,L6,N6)","v":0},{"$f":"O6/G10","v":{"$error":"#DIV/0!"}}]
[null,null,null,{"$f":"IFERROR(VLOOKUP(C7,'PRIPREMA (STATUS)'!$A$5:$F$128,2)&\" \"&VLOOKUP(C7,'PRIPREMA (STATUS)'!$A$5:$F$128,3),\"\")","v":""},null,null,null,null,null,null,null,null,null,null,{"$f":"SUM(E7,G7,K7,M7)","v":0},{"$f":"SUM(F7,H7,L7,N7)","v":0},{"$f":"O7/I10","v":{"$error":"#DIV/0!"}}]
[null,null,null,{"$f":"IFERROR(VLOOKUP(C8,'PRIPREMA (STATUS)'!$A$5:$F$128,2)&\" \"&VLOOKUP(C8,'PRIPREMA (STATUS)'!$A$5:$F$128,3),\"\")","v":""},null,null,null,null,null,null,null,null,null,null,{"$f":"SUM(E8,G8,I8,M8)","v":0},{"$f":"SUM(F8,H8,J8,N8)","v":0},{"$f":"O8/K10","v":{"$error":"#DIV/0!"}}]
[null,null,null,{"$f":"IFERROR(VLOOKUP(C9,'PRIPREMA (STATUS)'!$A$5:$F$128,2)&\" \"&VLOOKUP(C9,'PRIPREMA (STATUS)'!$A$5:$F$128,3),\"\")","v":""},null,null,null,null,null,null,null,null,null,null,{"$f":"SUM(E9,G9,I9,K9)","v":0},{"$f":"SUM(F9,H9,J9,L9)","v":0},{"$f":"O9/M10","v":{"$error":"#DIV/0!"}}]
[null,null,null,null,{"$f":"COUNTIF(E5:E9,\"<>\")","v":0},null,{"$f":"COUNTIF(G5:G9,\"<>\")","v":0},null,{"$f":"COUNTIF(I5:I9,\"<>\")","v":0},null,{"$f":"COUNTIF(K5:K9,\"<>\")","v":0},null,{"$f":"COUNTIF(M5:M9,\"<>\")","v":0}]
[]
[]
[]
[]
[]
[]
[]
[]
[]
[]
[]
[]
[]
[]
[]
[]
[]
[]
[]
[]
[]
[]
[]
[]
[]
[]
[]
[]
[]
[]
[]
[]
[]
[]
[]
[]
[]
[]
[]
[]
[]
[]
[]
[]
[]
[]
[]
[]
[]
[]
[]
[]
[]
[]
[]
[]
[]
[]
[]
[]
[]
[]
[]
[]
[]
[]
[]
[]
[]
[]
[]
[]
[]
[]
[]
[]
[]
[]
[]
[]
[]
[]
[]
[]
[]
[]
[]
[]
[]
["x","x","x","x","x","x","x","x","x","x","x","x",null,null,"x","x","x","x","x","x","x","x","x","x","x","x","x","x","x","x","x","x","x","x","x","x","x","x","x","x","x","x"]
[null,"br. Statusa","(+)","(-)","%"]
[null,{"$f":"C5","v":0},{"$f":"O5","v":0},{"$f":"P5","v":0},{"$f":"Q5","v":{"$error":"#DIV/0!"}}]
[null,{"$f":"C6","v":0},{"$f":"O6","v":0},{"$f":"P6","v":0},{"$f":"Q6","v":{"$error":"#DIV/0!"}}]
[null,{"$f":"C7","v":0},{"$f":"O7","v":0},{"$f":"P7","v":0},{"$f":"Q7","v":{"$error":"#DIV/0!"}}]
[null,{"$f":"C8","v":0},{"$f":"O8","v":0},{"$f":"P8","v":0},{"$f":"Q8","v":{"$error":"#DIV/0!"}}]
[null,{"$f":"C9","v":0},{"$f":"O9","v":0},{"$f":"P9","v":0},{"$f":"Q9","v":{"$error":"#DIV/0!"}}]
[null,{"$f":"C10","v":0},{"$f":"O10","v":0},{"$f":"P10","v":0},{"$f":"Q10","v":0}]

{"sheet":"GRUPA 5 (4)","index":24,"n_rows":107,"n_cols":42,"rows_kept":107,"cut":false,"hidden":true,"merged":[[3,12,3,13],[3,14,3,15],[1,2,2,3],[1,4,2,5],[1,6,2,7],[1,8,2,9],[1,10,2,11],[3,4,3,5],[3,6,3,7],[3,8,3,9],[3,10,3,11]]}
[]
[null,null,"REZULTATI MORAJU DA SE UPISUJU U SVA POLJA"]
[]
[null,null,"Br. sa\nstatusa","GRUPA 5 TAKMIČARA",{"$f":"D5","v":""},null,{"$f":"D6","v":""},null,{"$f":"D7","v":""},null,{"$f":"D8","v":""},null,{"$f":"D9","v":""},null,"UKUPNO\n+                    -",null,"%"]
[null,null,null,{"$f":"IFERROR(VLOOKUP(C5,'PRIPREMA (STATUS)'!$A$5:$F$128,2)&\" \"&VLOOKUP(C5,'PRIPREMA (STATUS)'!$A$5:$F$128,3),\"\")","v":""},null,null,null,null,null,null,null,null,null,null,{"$f":"SUM(G5,I5,K5,M5)","v":0},{"$f":"SUM(H5,J5,L5,N5)","v":0},{"$f":"O5/E10","v":{"$error":"#DIV/0!"}}]
[null,null,null,{"$f":"IFERROR(VLOOKUP(C6,'PRIPREMA (STATUS)'!$A$5:$F$128,2)&\" \"&VLOOKUP(C6,'PRIPREMA (STATUS)'!$A$5:$F$128,3),\"\")","v":""},null,null,null,null,null,null,null,null,null,null,{"$f":"SUM(E6,I6,K6,M6)","v":0},{"$f":"SUM(F6,J6,L6,N6)","v":0},{"$f":"O6/G10","v":{"$error":"#DIV/0!"}}]
[null,null,null,{"$f":"IFERROR(VLOOKUP(C7,'PRIPREMA (STATUS)'!$A$5:$F$128,2)&\" \"&VLOOKUP(C7,'PRIPREMA (STATUS)'!$A$5:$F$128,3),\"\")","v":""},null,null,null,null,null,null,null,null,null,null,{"$f":"SUM(E7,G7,K7,M7)","v":0},{"$f":"SUM(F7,H7,L7,N7)","v":0},{"$f":"O7/I10","v":{"$error":"#DIV/0!"}}]
[null,null,null,{"$f":"IFERROR(VLOOKUP(C8,'PRIPREMA (STATUS)'!$A$5:$F$128,2)&\" \"&VLOOKUP(C8,'PRIPREMA (STATUS)'!$A$5:$F$128,3),\"\")","v":""},null,null,null,null,null,null,null,null,null,null,{"$f":"SUM(E8,G8,I8,M8)","v":0},{"$f":"SUM(F8,H8,J8,N8)","v":0},{"$f":"O8/K10","v":{"$error":"#DIV/0!"}}]
[null,null,null,{"$f":"IFERROR(VLOOKUP(C9,'PRIPREMA (STATUS)'!$A$5:$F$128,2)&\" \"&VLOOKUP(C9,'PRIPREMA (STATUS)'!$A$5:$F$128,3),\"\")","v":""},null,null,null,null,null,null,null,null,null,null,{"$f":"SUM(E9,G9,I9,K9)","v":0},{"$f":"SUM(F9,H9,J9,L9)","v":0},{"$f":"O9/M10","v":{"$error":"#DIV/0!"}}]
[null,null,null,null,{"$f":"COUNTIF(E5:E9,\"<>\")","v":0},null,{"$f":"COUNTIF(G5:G9,\"<>\")","v":0},null,{"$f":"COUNTIF(I5:I9,\"<>\")","v":0},null,{"$f":"COUNTIF(K5:K9,\"<>\")","v":0},null,{"$f":"COUNTIF(M5:M9,\"<>\")","v":0}]
[]
[]
[]
[]
[]
[]
[]
[]
[]
[]
[]
[]
[]
[]
[]
[]
[]
[]
[]
[]
[]
[]
[]
[]
[]
[]
[]
[]
[]
[]
[]
[]
[]
[]
[]
[]
[]
[]
[]
[]
[]
[]
[]
[]
[]
[]
[]
[]
[]
[]
[]
[]
[]
[]
[]
[]
[]
[]
[]
[]
[]
[]
[]
[]
[]
[]
[]
[]
[]
[]
[]
[]
[]
[]
[]
[]
[]
[]
[]
[]
[]
[]
[]
[]
[]
[]
[]
[]
[]
["x","x","x","x","x","x","x","x","x","x","x","x",null,null,"x","x","x","x","x","x","x","x","x","x","x","x","x","x","x","x","x","x","x","x","x","x","x","x","x","x","x","x"]
[null,"br. Statusa","(+)","(-)","%"]
[null,{"$f":"C5","v":0},{"$f":"O5","v":0},{"$f":"P5","v":0},{"$f":"Q5","v":{"$error":"#DIV/0!"}}]
[null,{"$f":"C6","v":0},{"$f":"O6","v":0},{"$f":"P6","v":0},{"$f":"Q6","v":{"$error":"#DIV/0!"}}]
[null,{"$f":"C7","v":0},{"$f":"O7","v":0},{"$f":"P7","v":0},{"$f":"Q7","v":{"$error":"#DIV/0!"}}]
[null,{"$f":"C8","v":0},{"$f":"O8","v":0},{"$f":"P8","v":0},{"$f":"Q8","v":{"$error":"#DIV/0!"}}]
[null,{"$f":"C9","v":0},{"$f":"O9","v":0},{"$f":"P9","v":0},{"$f":"Q9","v":{"$error":"#DIV/0!"}}]
[null,{"$f":"C10","v":0},{"$f":"O10","v":0},{"$f":"P10","v":0},{"$f":"Q10","v":0}]

{"sheet":"GRUPA 5 (5)","index":25,"n_rows":107,"n_cols":42,"rows_kept":107,"cut":false,"hidden":true,"merged":[[3,12,3,13],[3,14,3,15],[1,2,2,3],[1,4,2,5],[1,6,2,7],[1,8,2,9],[1,10,2,11],[3,4,3,5],[3,6,3,7],[3,8,3,9],[3,10,3,11]]}
[]
[null,null,"REZULTATI MORAJU DA SE UPISUJU U SVA POLJA"]
[]
[null,null,"Br. sa\nstatusa","GRUPA 5 TAKMIČARA",{"$f":"D5","v":""},null,{"$f":"D6","v":""},null,{"$f":"D7","v":""},null,{"$f":"D8","v":""},null,{"$f":"D9","v":""},null,"UKUPNO\n+                    -",null,"%"]
[null,null,null,{"$f":"IFERROR(VLOOKUP(C5,'PRIPREMA (STATUS)'!$A$5:$F$128,2)&\" \"&VLOOKUP(C5,'PRIPREMA (STATUS)'!$A$5:$F$128,3),\"\")","v":""},null,null,null,null,null,null,null,null,null,null,{"$f":"SUM(G5,I5,K5,M5)","v":0},{"$f":"SUM(H5,J5,L5,N5)","v":0},{"$f":"O5/E10","v":{"$error":"#DIV/0!"}}]
[null,null,null,{"$f":"IFERROR(VLOOKUP(C6,'PRIPREMA (STATUS)'!$A$5:$F$128,2)&\" \"&VLOOKUP(C6,'PRIPREMA (STATUS)'!$A$5:$F$128,3),\"\")","v":""},null,null,null,null,null,null,null,null,null,null,{"$f":"SUM(E6,I6,K6,M6)","v":0},{"$f":"SUM(F6,J6,L6,N6)","v":0},{"$f":"O6/G10","v":{"$error":"#DIV/0!"}}]
[null,null,null,{"$f":"IFERROR(VLOOKUP(C7,'PRIPREMA (STATUS)'!$A$5:$F$128,2)&\" \"&VLOOKUP(C7,'PRIPREMA (STATUS)'!$A$5:$F$128,3),\"\")","v":""},null,null,null,null,null,null,null,null,null,null,{"$f":"SUM(E7,G7,K7,M7)","v":0},{"$f":"SUM(F7,H7,L7,N7)","v":0},{"$f":"O7/I10","v":{"$error":"#DIV/0!"}}]
[null,null,null,{"$f":"IFERROR(VLOOKUP(C8,'PRIPREMA (STATUS)'!$A$5:$F$128,2)&\" \"&VLOOKUP(C8,'PRIPREMA (STATUS)'!$A$5:$F$128,3),\"\")","v":""},null,null,null,null,null,null,null,null,null,null,{"$f":"SUM(E8,G8,I8,M8)","v":0},{"$f":"SUM(F8,H8,J8,N8)","v":0},{"$f":"O8/K10","v":{"$error":"#DIV/0!"}}]
[null,null,null,{"$f":"IFERROR(VLOOKUP(C9,'PRIPREMA (STATUS)'!$A$5:$F$128,2)&\" \"&VLOOKUP(C9,'PRIPREMA (STATUS)'!$A$5:$F$128,3),\"\")","v":""},null,null,null,null,null,null,null,null,null,null,{"$f":"SUM(E9,G9,I9,K9)","v":0},{"$f":"SUM(F9,H9,J9,L9)","v":0},{"$f":"O9/M10","v":{"$error":"#DIV/0!"}}]
[null,null,null,null,{"$f":"COUNTIF(E5:E9,\"<>\")","v":0},null,{"$f":"COUNTIF(G5:G9,\"<>\")","v":0},null,{"$f":"COUNTIF(I5:I9,\"<>\")","v":0},null,{"$f":"COUNTIF(K5:K9,\"<>\")","v":0},null,{"$f":"COUNTIF(M5:M9,\"<>\")","v":0}]
[]
[]
[]
[]
[]
[]
[]
[]
[]
[]
[]
[]
[]
[]
[]
[]
[]
[]
[]
[]
[]
[]
[]
[]
[]
[]
[]
[]
[]
[]
[]
[]
[]
[]
[]
[]
[]
[]
[]
[]
[]
[]
[]
[]
[]
[]
[]
[]
[]
[]
[]
[]
[]
[]
[]
[]
[]
[]
[]
[]
[]
[]
[]
[]
[]
[]
[]
[]
[]
[]
[]
[]
[]
[]
[]
[]
[]
[]
[]
[]
[]
[]
[]
[]
[]
[]
[]
[]
[]
["x","x","x","x","x","x","x","x","x","x","x","x",null,null,"x","x","x","x","x","x","x","x","x","x","x","x","x","x","x","x","x","x","x","x","x","x","x","x","x","x","x","x"]
[null,"br. Statusa","(+)","(-)","%"]
[null,{"$f":"C5","v":0},{"$f":"O5","v":0},{"$f":"P5","v":0},{"$f":"Q5","v":{"$error":"#DIV/0!"}}]
[null,{"$f":"C6","v":0},{"$f":"O6","v":0},{"$f":"P6","v":0},{"$f":"Q6","v":{"$error":"#DIV/0!"}}]
[null,{"$f":"C7","v":0},{"$f":"O7","v":0},{"$f":"P7","v":0},{"$f":"Q7","v":{"$error":"#DIV/0!"}}]
[null,{"$f":"C8","v":0},{"$f":"O8","v":0},{"$f":"P8","v":0},{"$f":"Q8","v":{"$error":"#DIV/0!"}}]
[null,{"$f":"C9","v":0},{"$f":"O9","v":0},{"$f":"P9","v":0},{"$f":"Q9","v":{"$error":"#DIV/0!"}}]
[null,{"$f":"C10","v":0},{"$f":"O10","v":0},{"$f":"P10","v":0},{"$f":"Q10","v":0}]

{"sheet":"GRUPA 5 (6)","index":26,"n_rows":107,"n_cols":42,"rows_kept":107,"cut":false,"hidden":true,"merged":[[3,12,3,13],[3,14,3,15],[1,2,2,3],[1,4,2,5],[1,6,2,7],[1,8,2,9],[1,10,2,11],[3,4,3,5],[3,6,3,7],[3,8,3,9],[3,10,3,11]]}
[]
[null,null,"REZULTATI MORAJU DA SE UPISUJU U SVA POLJA"]
[]
[null,null,"Br. sa\nstatusa","GRUPA 5 TAKMIČARA",{"$f":"D5","v":""},null,{"$f":"D6","v":""},null,{"$f":"D7","v":""},null,{"$f":"D8","v":""},null,{"$f":"D9","v":""},null,"UKUPNO\n+                    -",null,"%"]
[null,null,null,{"$f":"IFERROR(VLOOKUP(C5,'PRIPREMA (STATUS)'!$A$5:$F$128,2)&\" \"&VLOOKUP(C5,'PRIPREMA (STATUS)'!$A$5:$F$128,3),\"\")","v":""},null,null,null,null,null,null,null,null,null,null,{"$f":"SUM(G5,I5,K5,M5)","v":0},{"$f":"SUM(H5,J5,L5,N5)","v":0},{"$f":"O5/E10","v":{"$error":"#DIV/0!"}}]
[null,null,null,{"$f":"IFERROR(VLOOKUP(C6,'PRIPREMA (STATUS)'!$A$5:$F$128,2)&\" \"&VLOOKUP(C6,'PRIPREMA (STATUS)'!$A$5:$F$128,3),\"\")","v":""},null,null,null,null,null,null,null,null,null,null,{"$f":"SUM(E6,I6,K6,M6)","v":0},{"$f":"SUM(F6,J6,L6,N6)","v":0},{"$f":"O6/G10","v":{"$error":"#DIV/0!"}}]
[null,null,null,{"$f":"IFERROR(VLOOKUP(C7,'PRIPREMA (STATUS)'!$A$5:$F$128,2)&\" \"&VLOOKUP(C7,'PRIPREMA (STATUS)'!$A$5:$F$128,3),\"\")","v":""},null,null,null,null,null,null,null,null,null,null,{"$f":"SUM(E7,G7,K7,M7)","v":0},{"$f":"SUM(F7,H7,L7,N7)","v":0},{"$f":"O7/I10","v":{"$error":"#DIV/0!"}}]
[null,null,null,{"$f":"IFERROR(VLOOKUP(C8,'PRIPREMA (STATUS)'!$A$5:$F$128,2)&\" \"&VLOOKUP(C8,'PRIPREMA (STATUS)'!$A$5:$F$128,3),\"\")","v":""},null,null,null,null,null,null,null,null,null,null,{"$f":"SUM(E8,G8,I8,M8)","v":0},{"$f":"SUM(F8,H8,J8,N8)","v":0},{"$f":"O8/K10","v":{"$error":"#DIV/0!"}}]
[null,null,null,{"$f":"IFERROR(VLOOKUP(C9,'PRIPREMA (STATUS)'!$A$5:$F$128,2)&\" \"&VLOOKUP(C9,'PRIPREMA (STATUS)'!$A$5:$F$128,3),\"\")","v":""},null,null,null,null,null,null,null,null,null,null,{"$f":"SUM(E9,G9,I9,K9)","v":0},{"$f":"SUM(F9,H9,J9,L9)","v":0},{"$f":"O9/M10","v":{"$error":"#DIV/0!"}}]
[null,null,null,null,{"$f":"COUNTIF(E5:E9,\"<>\")","v":0},null,{"$f":"COUNTIF(G5:G9,\"<>\")","v":0},null,{"$f":"COUNTIF(I5:I9,\"<>\")","v":0},null,{"$f":"COUNTIF(K5:K9,\"<>\")","v":0},null,{"$f":"COUNTIF(M5:M9,\"<>\")","v":0}]
[]
[]
[]
[]
[]
[]
[]
[]
[]
[]
[]
[]
[]
[]
[]
[]
[]
[]
[]
[]
[]
[]
[]
[]
[]
[]
[]
[]
[]
[]
[]
[]
[]
[]
[]
[]
[]
[]
[]
[]
[]
[]
[]
[]
[]
[]
[]
[]
[]
[]
[]
[]
[]
[]
[]
[]
[]
[]
[]
[]
[]
[]
[]
[]
[]
[]
[]
[]
[]
[]
[]
[]
[]
[]
[]
[]
[]
[]
[]
[]
[]
[]
[]
[]
[]
[]
[]
[]
[]
["x","x","x","x","x","x","x","x","x","x","x","x",null,null,"x","x","x","x","x","x","x","x","x","x","x","x","x","x","x","x","x","x","x","x","x","x","x","x","x","x","x","x"]
[null,"br. Statusa","(+)","(-)","%"]
[null,{"$f":"C5","v":0},{"$f":"O5","v":0},{"$f":"P5","v":0},{"$f":"Q5","v":{"$error":"#DIV/0!"}}]
[null,{"$f":"C6","v":0},{"$f":"O6","v":0},{"$f":"P6","v":0},{"$f":"Q6","v":{"$error":"#DIV/0!"}}]
[null,{"$f":"C7","v":0},{"$f":"O7","v":0},{"$f":"P7","v":0},{"$f":"Q7","v":{"$error":"#DIV/0!"}}]
[null,{"$f":"C8","v":0},{"$f":"O8","v":0},{"$f":"P8","v":0},{"$f":"Q8","v":{"$error":"#DIV/0!"}}]
[null,{"$f":"C9","v":0},{"$f":"O9","v":0},{"$f":"P9","v":0},{"$f":"Q9","v":{"$error":"#DIV/0!"}}]
[null,{"$f":"C10","v":0},{"$f":"O10","v":0},{"$f":"P10","v":0},{"$f":"Q10","v":0}]

{"sheet":"GRUPA 5 (7)","index":27,"n_rows":107,"n_cols":42,"rows_kept":107,"cut":false,"hidden":true,"merged":[[3,12,3,13],[3,14,3,15],[1,2,2,3],[1,4,2,5],[1,6,2,7],[1,8,2,9],[1,10,2,11],[3,4,3,5],[3,6,3,7],[3,8,3,9],[3,10,3,11]]}
[]
[null,null,"REZULTATI MORAJU DA SE UPISUJU U SVA POLJA"]
[]
[null,null,"Br. sa\nstatusa","GRUPA 5 TAKMIČARA",{"$f":"D5","v":""},null,{"$f":"D6","v":""},null,{"$f":"D7","v":""},null,{"$f":"D8","v":""},null,{"$f":"D9","v":""},null,"UKUPNO\n+                    -",null,"%"]
[null,null,null,{"$f":"IFERROR(VLOOKUP(C5,'PRIPREMA (STATUS)'!$A$5:$F$128,2)&\" \"&VLOOKUP(C5,'PRIPREMA (STATUS)'!$A$5:$F$128,3),\"\")","v":""},null,null,null,null,null,null,null,null,null,null,{"$f":"SUM(G5,I5,K5,M5)","v":0},{"$f":"SUM(H5,J5,L5,N5)","v":0},{"$f":"O5/E10","v":{"$error":"#DIV/0!"}}]
[null,null,null,{"$f":"IFERROR(VLOOKUP(C6,'PRIPREMA (STATUS)'!$A$5:$F$128,2)&\" \"&VLOOKUP(C6,'PRIPREMA (STATUS)'!$A$5:$F$128,3),\"\")","v":""},null,null,null,null,null,null,null,null,null,null,{"$f":"SUM(E6,I6,K6,M6)","v":0},{"$f":"SUM(F6,J6,L6,N6)","v":0},{"$f":"O6/G10","v":{"$error":"#DIV/0!"}}]
[null,null,null,{"$f":"IFERROR(VLOOKUP(C7,'PRIPREMA (STATUS)'!$A$5:$F$128,2)&\" \"&VLOOKUP(C7,'PRIPREMA (STATUS)'!$A$5:$F$128,3),\"\")","v":""},null,null,null,null,null,null,null,null,null,null,{"$f":"SUM(E7,G7,K7,M7)","v":0},{"$f":"SUM(F7,H7,L7,N7)","v":0},{"$f":"O7/I10","v":{"$error":"#DIV/0!"}}]
[null,null,null,{"$f":"IFERROR(VLOOKUP(C8,'PRIPREMA (STATUS)'!$A$5:$F$128,2)&\" \"&VLOOKUP(C8,'PRIPREMA (STATUS)'!$A$5:$F$128,3),\"\")","v":""},null,null,null,null,null,null,null,null,null,null,{"$f":"SUM(E8,G8,I8,M8)","v":0},{"$f":"SUM(F8,H8,J8,N8)","v":0},{"$f":"O8/K10","v":{"$error":"#DIV/0!"}}]
[null,null,null,{"$f":"IFERROR(VLOOKUP(C9,'PRIPREMA (STATUS)'!$A$5:$F$128,2)&\" \"&VLOOKUP(C9,'PRIPREMA (STATUS)'!$A$5:$F$128,3),\"\")","v":""},null,null,null,null,null,null,null,null,null,null,{"$f":"SUM(E9,G9,I9,K9)","v":0},{"$f":"SUM(F9,H9,J9,L9)","v":0},{"$f":"O9/M10","v":{"$error":"#DIV/0!"}}]
[null,null,null,null,{"$f":"COUNTIF(E5:E9,\"<>\")","v":0},null,{"$f":"COUNTIF(G5:G9,\"<>\")","v":0},null,{"$f":"COUNTIF(I5:I9,\"<>\")","v":0},null,{"$f":"COUNTIF(K5:K9,\"<>\")","v":0},null,{"$f":"COUNTIF(M5:M9,\"<>\")","v":0}]
[]
[]
[]
[]
[]
[]
[]
[]
[]
[]
[]
[]
[]
[]
[]
[]
[]
[]
[]
[]
[]
[]
[]
[]
[]
[]
[]
[]
[]
[]
[]
[]
[]
[]
[]
[]
[]
[]
[]
[]
[]
[]
[]
[]
[]
[]
[]
[]
[]
[]
[]
[]
[]
[]
[]
[]
[]
[]
[]
[]
[]
[]
[]
[]
[]
[]
[]
[]
[]
[]
[]
[]
[]
[]
[]
[]
[]
[]
[]
[]
[]
[]
[]
[]
[]
[]
[]
[]
[]
["x","x","x","x","x","x","x","x","x","x","x","x",null,null,"x","x","x","x","x","x","x","x","x","x","x","x","x","x","x","x","x","x","x","x","x","x","x","x","x","x","x","x"]
[null,"br. Statusa","(+)","(-)","%"]
[null,{"$f":"C5","v":0},{"$f":"O5","v":0},{"$f":"P5","v":0},{"$f":"Q5","v":{"$error":"#DIV/0!"}}]
[null,{"$f":"C6","v":0},{"$f":"O6","v":0},{"$f":"P6","v":0},{"$f":"Q6","v":{"$error":"#DIV/0!"}}]
[null,{"$f":"C7","v":0},{"$f":"O7","v":0},{"$f":"P7","v":0},{"$f":"Q7","v":{"$error":"#DIV/0!"}}]
[null,{"$f":"C8","v":0},{"$f":"O8","v":0},{"$f":"P8","v":0},{"$f":"Q8","v":{"$error":"#DIV/0!"}}]
[null,{"$f":"C9","v":0},{"$f":"O9","v":0},{"$f":"P9","v":0},{"$f":"Q9","v":{"$error":"#DIV/0!"}}]
[null,{"$f":"C10","v":0},{"$f":"O10","v":0},{"$f":"P10","v":0},{"$f":"Q10","v":0}]

{"sheet":"GRUPA 5 (8)","index":28,"n_rows":107,"n_cols":42,"rows_kept":107,"cut":false,"hidden":true,"merged":[[3,12,3,13],[3,14,3,15],[1,2,2,3],[1,4,2,5],[1,6,2,7],[1,8,2,9],[1,10,2,11],[3,4,3,5],[3,6,3,7],[3,8,3,9],[3,10,3,11]]}
[]
[null,null,"REZULTATI MORAJU DA SE UPISUJU U SVA POLJA"]
[]
[null,null,"Br. sa\nstatusa","GRUPA 5 TAKMIČARA",{"$f":"D5","v":""},null,{"$f":"D6","v":""},null,{"$f":"D7","v":""},null,{"$f":"D8","v":""},null,{"$f":"D9","v":""},null,"UKUPNO\n+                    -",null,"%"]
[null,null,null,{"$f":"IFERROR(VLOOKUP(C5,'PRIPREMA (STATUS)'!$A$5:$F$128,2)&\" \"&VLOOKUP(C5,'PRIPREMA (STATUS)'!$A$5:$F$128,3),\"\")","v":""},null,null,null,null,null,null,null,null,null,null,{"$f":"SUM(G5,I5,K5,M5)","v":0},{"$f":"SUM(H5,J5,L5,N5)","v":0},{"$f":"O5/E10","v":{"$error":"#DIV/0!"}}]
[null,null,null,{"$f":"IFERROR(VLOOKUP(C6,'PRIPREMA (STATUS)'!$A$5:$F$128,2)&\" \"&VLOOKUP(C6,'PRIPREMA (STATUS)'!$A$5:$F$128,3),\"\")","v":""},null,null,null,null,null,null,null,null,null,null,{"$f":"SUM(E6,I6,K6,M6)","v":0},{"$f":"SUM(F6,J6,L6,N6)","v":0},{"$f":"O6/G10","v":{"$error":"#DIV/0!"}}]
[null,null,null,{"$f":"IFERROR(VLOOKUP(C7,'PRIPREMA (STATUS)'!$A$5:$F$128,2)&\" \"&VLOOKUP(C7,'PRIPREMA (STATUS)'!$A$5:$F$128,3),\"\")","v":""},null,null,null,null,null,null,null,null,null,null,{"$f":"SUM(E7,G7,K7,M7)","v":0},{"$f":"SUM(F7,H7,L7,N7)","v":0},{"$f":"O7/I10","v":{"$error":"#DIV/0!"}}]
[null,null,null,{"$f":"IFERROR(VLOOKUP(C8,'PRIPREMA (STATUS)'!$A$5:$F$128,2)&\" \"&VLOOKUP(C8,'PRIPREMA (STATUS)'!$A$5:$F$128,3),\"\")","v":""},null,null,null,null,null,null,null,null,null,null,{"$f":"SUM(E8,G8,I8,M8)","v":0},{"$f":"SUM(F8,H8,J8,N8)","v":0},{"$f":"O8/K10","v":{"$error":"#DIV/0!"}}]
[null,null,null,{"$f":"IFERROR(VLOOKUP(C9,'PRIPREMA (STATUS)'!$A$5:$F$128,2)&\" \"&VLOOKUP(C9,'PRIPREMA (STATUS)'!$A$5:$F$128,3),\"\")","v":""},null,null,null,null,null,null,null,null,null,null,{"$f":"SUM(E9,G9,I9,K9)","v":0},{"$f":"SUM(F9,H9,J9,L9)","v":0},{"$f":"O9/M10","v":{"$error":"#DIV/0!"}}]
[null,null,null,null,{"$f":"COUNTIF(E5:E9,\"<>\")","v":0},null,{"$f":"COUNTIF(G5:G9,\"<>\")","v":0},null,{"$f":"COUNTIF(I5:I9,\"<>\")","v":0},null,{"$f":"COUNTIF(K5:K9,\"<>\")","v":0},null,{"$f":"COUNTIF(M5:M9,\"<>\")","v":0}]
[]
[]
[]
[]
[]
[]
[]
[]
[]
[]
[]
[]
[]
[]
[]
[]
[]
[]
[]
[]
[]
[]
[]
[]
[]
[]
[]
[]
[]
[]
[]
[]
[]
[]
[]
[]
[]
[]
[]
[]
[]
[]
[]
[]
[]
[]
[]
[]
[]
[]
[]
[]
[]
[]
[]
[]
[]
[]
[]
[]
[]
[]
[]
[]
[]
[]
[]
[]
[]
[]
[]
[]
[]
[]
[]
[]
[]
[]
[]
[]
[]
[]
[]
[]
[]
[]
[]
[]
[]
["x","x","x","x","x","x","x","x","x","x","x","x",null,null,"x","x","x","x","x","x","x","x","x","x","x","x","x","x","x","x","x","x","x","x","x","x","x","x","x","x","x","x"]
[null,"br. Statusa","(+)","(-)","%"]
[null,{"$f":"C5","v":0},{"$f":"O5","v":0},{"$f":"P5","v":0},{"$f":"Q5","v":{"$error":"#DIV/0!"}}]
[null,{"$f":"C6","v":0},{"$f":"O6","v":0},{"$f":"P6","v":0},{"$f":"Q6","v":{"$error":"#DIV/0!"}}]
[null,{"$f":"C7","v":0},{"$f":"O7","v":0},{"$f":"P7","v":0},{"$f":"Q7","v":{"$error":"#DIV/0!"}}]
[null,{"$f":"C8","v":0},{"$f":"O8","v":0},{"$f":"P8","v":0},{"$f":"Q8","v":{"$error":"#DIV/0!"}}]
[null,{"$f":"C9","v":0},{"$f":"O9","v":0},{"$f":"P9","v":0},{"$f":"Q9","v":{"$error":"#DIV/0!"}}]
[null,{"$f":"C10","v":0},{"$f":"O10","v":0},{"$f":"P10","v":0},{"$f":"Q10","v":0}]

{"sheet":"GRUPA 5 (9)","index":29,"n_rows":107,"n_cols":42,"rows_kept":107,"cut":false,"hidden":true,"merged":[[3,12,3,13],[3,14,3,15],[1,2,2,3],[1,4,2,5],[1,6,2,7],[1,8,2,9],[1,10,2,11],[3,4,3,5],[3,6,3,7],[3,8,3,9],[3,10,3,11]]}
[]
[null,null,"REZULTATI MORAJU DA SE UPISUJU U SVA POLJA"]
[]
[null,null,"Br. sa\nstatusa","GRUPA 5 TAKMIČARA",{"$f":"D5","v":""},null,{"$f":"D6","v":""},null,{"$f":"D7","v":""},null,{"$f":"D8","v":""},null,{"$f":"D9","v":""},null,"UKUPNO\n+                    -",null,"%"]
[null,null,null,{"$f":"IFERROR(VLOOKUP(C5,'PRIPREMA (STATUS)'!$A$5:$F$128,2)&\" \"&VLOOKUP(C5,'PRIPREMA (STATUS)'!$A$5:$F$128,3),\"\")","v":""},null,null,null,null,null,null,null,null,null,null,{"$f":"SUM(G5,I5,K5,M5)","v":0},{"$f":"SUM(H5,J5,L5,N5)","v":0},{"$f":"O5/E10","v":{"$error":"#DIV/0!"}}]
[null,null,null,{"$f":"IFERROR(VLOOKUP(C6,'PRIPREMA (STATUS)'!$A$5:$F$128,2)&\" \"&VLOOKUP(C6,'PRIPREMA (STATUS)'!$A$5:$F$128,3),\"\")","v":""},null,null,null,null,null,null,null,null,null,null,{"$f":"SUM(E6,I6,K6,M6)","v":0},{"$f":"SUM(F6,J6,L6,N6)","v":0},{"$f":"O6/G10","v":{"$error":"#DIV/0!"}}]
[null,null,null,{"$f":"IFERROR(VLOOKUP(C7,'PRIPREMA (STATUS)'!$A$5:$F$128,2)&\" \"&VLOOKUP(C7,'PRIPREMA (STATUS)'!$A$5:$F$128,3),\"\")","v":""},null,null,null,null,null,null,null,null,null,null,{"$f":"SUM(E7,G7,K7,M7)","v":0},{"$f":"SUM(F7,H7,L7,N7)","v":0},{"$f":"O7/I10","v":{"$error":"#DIV/0!"}}]
[null,null,null,{"$f":"IFERROR(VLOOKUP(C8,'PRIPREMA (STATUS)'!$A$5:$F$128,2)&\" \"&VLOOKUP(C8,'PRIPREMA (STATUS)'!$A$5:$F$128,3),\"\")","v":""},null,null,null,null,null,null,null,null,null,null,{"$f":"SUM(E8,G8,I8,M8)","v":0},{"$f":"SUM(F8,H8,J8,N8)","v":0},{"$f":"O8/K10","v":{"$error":"#DIV/0!"}}]
[null,null,null,{"$f":"IFERROR(VLOOKUP(C9,'PRIPREMA (STATUS)'!$A$5:$F$128,2)&\" \"&VLOOKUP(C9,'PRIPREMA (STATUS)'!$A$5:$F$128,3),\"\")","v":""},null,null,null,null,null,null,null,null,null,null,{"$f":"SUM(E9,G9,I9,K9)","v":0},{"$f":"SUM(F9,H9,J9,L9)","v":0},{"$f":"O9/M10","v":{"$error":"#DIV/0!"}}]
[null,null,null,null,{"$f":"COUNTIF(E5:E9,\"<>\")","v":0},null,{"$f":"COUNTIF(G5:G9,\"<>\")","v":0},null,{"$f":"COUNTIF(I5:I9,\"<>\")","v":0},null,{"$f":"COUNTIF(K5:K9,\"<>\")","v":0},null,{"$f":"COUNTIF(M5:M9,\"<>\")","v":0}]
[]
[]
[]
[]
[]
[]
[]
[]
[]
[]
[]
[]
[]
[]
[]
[]
[]
[]
[]
[]
[]
[]
[]
[]
[]
[]
[]
[]
[]
[]
[]
[]
[]
[]
[]
[]
[]
[]
[]
[]
[]
[]
[]
[]
[]
[]
[]
[]
[]
[]
[]
[]
[]
[]
[]
[]
[]
[]
[]
[]
[]
[]
[]
[]
[]
[]
[]
[]
[]
[]
[]
[]
[]
[]
[]
[]
[]
[]
[]
[]
[]
[]
[]
[]
[]
[]
[]
[]
[]
["x","x","x","x","x","x","x","x","x","x","x","x",null,null,"x","x","x","x","x","x","x","x","x","x","x","x","x","x","x","x","x","x","x","x","x","x","x","x","x","x","x","x"]
[null,"br. Statusa","(+)","(-)","%"]
[null,{"$f":"C5","v":0},{"$f":"O5","v":0},{"$f":"P5","v":0},{"$f":"Q5","v":{"$error":"#DIV/0!"}}]
[null,{"$f":"C6","v":0},{"$f":"O6","v":0},{"$f":"P6","v":0},{"$f":"Q6","v":{"$error":"#DIV/0!"}}]
[null,{"$f":"C7","v":0},{"$f":"O7","v":0},{"$f":"P7","v":0},{"$f":"Q7","v":{"$error":"#DIV/0!"}}]
[null,{"$f":"C8","v":0},{"$f":"O8","v":0},{"$f":"P8","v":0},{"$f":"Q8","v":{"$error":"#DIV/0!"}}]
[null,{"$f":"C9","v":0},{"$f":"O9","v":0},{"$f":"P9","v":0},{"$f":"Q9","v":{"$error":"#DIV/0!"}}]
[null,{"$f":"C10","v":0},{"$f":"O10","v":0},{"$f":"P10","v":0},{"$f":"Q10","v":0}]

{"sheet":"GRUPA 5 (10)","index":30,"n_rows":107,"n_cols":42,"rows_kept":107,"cut":false,"hidden":true,"merged":[[3,12,3,13],[3,14,3,15],[1,2,2,3],[1,4,2,5],[1,6,2,7],[1,8,2,9],[1,10,2,11],[3,4,3,5],[3,6,3,7],[3,8,3,9],[3,10,3,11]]}
[]
[null,null,"REZULTATI MORAJU DA SE UPISUJU U SVA POLJA"]
[]
[null,null,"Br. sa\nstatusa","GRUPA 5 TAKMIČARA",{"$f":"D5","v":""},null,{"$f":"D6","v":""},null,{"$f":"D7","v":""},null,{"$f":"D8","v":""},null,{"$f":"D9","v":""},null,"UKUPNO\n+                    -",null,"%"]
[null,null,null,{"$f":"IFERROR(VLOOKUP(C5,'PRIPREMA (STATUS)'!$A$5:$F$128,2)&\" \"&VLOOKUP(C5,'PRIPREMA (STATUS)'!$A$5:$F$128,3),\"\")","v":""},null,null,null,null,null,null,null,null,null,null,{"$f":"SUM(G5,I5,K5,M5)","v":0},{"$f":"SUM(H5,J5,L5,N5)","v":0},{"$f":"O5/E10","v":{"$error":"#DIV/0!"}}]
[null,null,null,{"$f":"IFERROR(VLOOKUP(C6,'PRIPREMA (STATUS)'!$A$5:$F$128,2)&\" \"&VLOOKUP(C6,'PRIPREMA (STATUS)'!$A$5:$F$128,3),\"\")","v":""},null,null,null,null,null,null,null,null,null,null,{"$f":"SUM(E6,I6,K6,M6)","v":0},{"$f":"SUM(F6,J6,L6,N6)","v":0},{"$f":"O6/G10","v":{"$error":"#DIV/0!"}}]
[null,null,null,{"$f":"IFERROR(VLOOKUP(C7,'PRIPREMA (STATUS)'!$A$5:$F$128,2)&\" \"&VLOOKUP(C7,'PRIPREMA (STATUS)'!$A$5:$F$128,3),\"\")","v":""},null,null,null,null,null,null,null,null,null,null,{"$f":"SUM(E7,G7,K7,M7)","v":0},{"$f":"SUM(F7,H7,L7,N7)","v":0},{"$f":"O7/I10","v":{"$error":"#DIV/0!"}}]
[null,null,null,{"$f":"IFERROR(VLOOKUP(C8,'PRIPREMA (STATUS)'!$A$5:$F$128,2)&\" \"&VLOOKUP(C8,'PRIPREMA (STATUS)'!$A$5:$F$128,3),\"\")","v":""},null,null,null,null,null,null,null,null,null,null,{"$f":"SUM(E8,G8,I8,M8)","v":0},{"$f":"SUM(F8,H8,J8,N8)","v":0},{"$f":"O8/K10","v":{"$error":"#DIV/0!"}}]
[null,null,null,{"$f":"IFERROR(VLOOKUP(C9,'PRIPREMA (STATUS)'!$A$5:$F$128,2)&\" \"&VLOOKUP(C9,'PRIPREMA (STATUS)'!$A$5:$F$128,3),\"\")","v":""},null,null,null,null,null,null,null,null,null,null,{"$f":"SUM(E9,G9,I9,K9)","v":0},{"$f":"SUM(F9,H9,J9,L9)","v":0},{"$f":"O9/M10","v":{"$error":"#DIV/0!"}}]
[null,null,null,null,{"$f":"COUNTIF(E5:E9,\"<>\")","v":0},null,{"$f":"COUNTIF(G5:G9,\"<>\")","v":0},null,{"$f":"COUNTIF(I5:I9,\"<>\")","v":0},null,{"$f":"COUNTIF(K5:K9,\"<>\")","v":0},null,{"$f":"COUNTIF(M5:M9,\"<>\")","v":0}]
[]
[]
[]
[]
[]
[]
[]
[]
[]
[]
[]
[]
[]
[]
[]
[]
[]
[]
[]
[]
[]
[]
[]
[]
[]
[]
[]
[]
[]
[]
[]
[]
[]
[]
[]
[]
[]
[]
[]
[]
[]
[]
[]
[]
[]
[]
[]
[]
[]
[]
[]
[]
[]
[]
[]
[]
[]
[]
[]
[]
[]
[]
[]
[]
[]
[]
[]
[]
[]
[]
[]
[]
[]
[]
[]
[]
[]
[]
[]
[]
[]
[]
[]
[]
[]
[]
[]
[]
[]
["x","x","x","x","x","x","x","x","x","x","x","x",null,null,"x","x","x","x","x","x","x","x","x","x","x","x","x","x","x","x","x","x","x","x","x","x","x","x","x","x","x","x"]
[null,"br. Statusa","(+)","(-)","%"]
[null,{"$f":"C5","v":0},{"$f":"O5","v":0},{"$f":"P5","v":0},{"$f":"Q5","v":{"$error":"#DIV/0!"}}]
[null,{"$f":"C6","v":0},{"$f":"O6","v":0},{"$f":"P6","v":0},{"$f":"Q6","v":{"$error":"#DIV/0!"}}]
[null,{"$f":"C7","v":0},{"$f":"O7","v":0},{"$f":"P7","v":0},{"$f":"Q7","v":{"$error":"#DIV/0!"}}]
[null,{"$f":"C8","v":0},{"$f":"O8","v":0},{"$f":"P8","v":0},{"$f":"Q8","v":{"$error":"#DIV/0!"}}]
[null,{"$f":"C9","v":0},{"$f":"O9","v":0},{"$f":"P9","v":0},{"$f":"Q9","v":{"$error":"#DIV/0!"}}]
[null,{"$f":"C10","v":0},{"$f":"O10","v":0},{"$f":"P10","v":0},{"$f":"Q10","v":0}]

{"sheet":"GRUPA 5 (11)","index":31,"n_rows":107,"n_cols":42,"rows_kept":107,"cut":false,"hidden":true,"merged":[[3,12,3,13],[3,14,3,15],[1,2,2,3],[1,4,2,5],[1,6,2,7],[1,8,2,9],[1,10,2,11],[3,4,3,5],[3,6,3,7],[3,8,3,9],[3,10,3,11]]}
[]
[null,null,"REZULTATI MORAJU DA SE UPISUJU U SVA POLJA"]
[]
[null,null,"Br. sa\nstatusa","GRUPA 5 TAKMIČARA",{"$f":"D5","v":""},null,{"$f":"D6","v":""},null,{"$f":"D7","v":""},null,{"$f":"D8","v":""},null,{"$f":"D9","v":""},null,"UKUPNO\n+                    -",null,"%"]
[null,null,null,{"$f":"IFERROR(VLOOKUP(C5,'PRIPREMA (STATUS)'!$A$5:$F$128,2)&\" \"&VLOOKUP(C5,'PRIPREMA (STATUS)'!$A$5:$F$128,3),\"\")","v":""},null,null,null,null,null,null,null,null,null,null,{"$f":"SUM(G5,I5,K5,M5)","v":0},{"$f":"SUM(H5,J5,L5,N5)","v":0},{"$f":"O5/E10","v":{"$error":"#DIV/0!"}}]
[null,null,null,{"$f":"IFERROR(VLOOKUP(C6,'PRIPREMA (STATUS)'!$A$5:$F$128,2)&\" \"&VLOOKUP(C6,'PRIPREMA (STATUS)'!$A$5:$F$128,3),\"\")","v":""},null,null,null,null,null,null,null,null,null,null,{"$f":"SUM(E6,I6,K6,M6)","v":0},{"$f":"SUM(F6,J6,L6,N6)","v":0},{"$f":"O6/G10","v":{"$error":"#DIV/0!"}}]
[null,null,null,{"$f":"IFERROR(VLOOKUP(C7,'PRIPREMA (STATUS)'!$A$5:$F$128,2)&\" \"&VLOOKUP(C7,'PRIPREMA (STATUS)'!$A$5:$F$128,3),\"\")","v":""},null,null,null,null,null,null,null,null,null,null,{"$f":"SUM(E7,G7,K7,M7)","v":0},{"$f":"SUM(F7,H7,L7,N7)","v":0},{"$f":"O7/I10","v":{"$error":"#DIV/0!"}}]
[null,null,null,{"$f":"IFERROR(VLOOKUP(C8,'PRIPREMA (STATUS)'!$A$5:$F$128,2)&\" \"&VLOOKUP(C8,'PRIPREMA (STATUS)'!$A$5:$F$128,3),\"\")","v":""},null,null,null,null,null,null,null,null,null,null,{"$f":"SUM(E8,G8,I8,M8)","v":0},{"$f":"SUM(F8,H8,J8,N8)","v":0},{"$f":"O8/K10","v":{"$error":"#DIV/0!"}}]
[null,null,null,{"$f":"IFERROR(VLOOKUP(C9,'PRIPREMA (STATUS)'!$A$5:$F$128,2)&\" \"&VLOOKUP(C9,'PRIPREMA (STATUS)'!$A$5:$F$128,3),\"\")","v":""},null,null,null,null,null,null,null,null,null,null,{"$f":"SUM(E9,G9,I9,K9)","v":0},{"$f":"SUM(F9,H9,J9,L9)","v":0},{"$f":"O9/M10","v":{"$error":"#DIV/0!"}}]
[null,null,null,null,{"$f":"COUNTIF(E5:E9,\"<>\")","v":0},null,{"$f":"COUNTIF(G5:G9,\"<>\")","v":0},null,{"$f":"COUNTIF(I5:I9,\"<>\")","v":0},null,{"$f":"COUNTIF(K5:K9,\"<>\")","v":0},null,{"$f":"COUNTIF(M5:M9,\"<>\")","v":0}]
[]
[]
[]
[]
[]
[]
[]
[]
[]
[]
[]
[]
[]
[]
[]
[]
[]
[]
[]
[]
[]
[]
[]
[]
[]
[]
[]
[]
[]
[]
[]
[]
[]
[]
[]
[]
[]
[]
[]
[]
[]
[]
[]
[]
[]
[]
[]
[]
[]
[]
[]
[]
[]
[]
[]
[]
[]
[]
[]
[]
[]
[]
[]
[]
[]
[]
[]
[]
[]
[]
[]
[]
[]
[]
[]
[]
[]
[]
[]
[]
[]
[]
[]
[]
[]
[]
[]
[]
[]
["x","x","x","x","x","x","x","x","x","x","x","x",null,null,"x","x","x","x","x","x","x","x","x","x","x","x","x","x","x","x","x","x","x","x","x","x","x","x","x","x","x","x"]
[null,"br. Statusa","(+)","(-)","%"]
[null,{"$f":"C5","v":0},{"$f":"O5","v":0},{"$f":"P5","v":0},{"$f":"Q5","v":{"$error":"#DIV/0!"}}]
[null,{"$f":"C6","v":0},{"$f":"O6","v":0},{"$f":"P6","v":0},{"$f":"Q6","v":{"$error":"#DIV/0!"}}]
[null,{"$f":"C7","v":0},{"$f":"O7","v":0},{"$f":"P7","v":0},{"$f":"Q7","v":{"$error":"#DIV/0!"}}]
[null,{"$f":"C8","v":0},{"$f":"O8","v":0},{"$f":"P8","v":0},{"$f":"Q8","v":{"$error":"#DIV/0!"}}]
[null,{"$f":"C9","v":0},{"$f":"O9","v":0},{"$f":"P9","v":0},{"$f":"Q9","v":{"$error":"#DIV/0!"}}]
[null,{"$f":"C10","v":0},{"$f":"O10","v":0},{"$f":"P10","v":0},{"$f":"Q10","v":0}]

{"sheet":"GRUPA 5 (12)","index":32,"n_rows":107,"n_cols":42,"rows_kept":107,"cut":false,"hidden":true,"merged":[[3,12,3,13],[3,14,3,15],[1,2,2,3],[1,4,2,5],[1,6,2,7],[1,8,2,9],[1,10,2,11],[3,4,3,5],[3,6,3,7],[3,8,3,9],[3,10,3,11]]}
[]
[null,null,"REZULTATI MORAJU DA SE UPISUJU U SVA POLJA"]
[]
[null,null,"Br. sa\nstatusa","GRUPA 5 TAKMIČARA",{"$f":"D5","v":""},null,{"$f":"D6","v":""},null,{"$f":"D7","v":""},null,{"$f":"D8","v":""},null,{"$f":"D9","v":""},null,"UKUPNO\n+                    -",null,"%"]
[null,null,null,{"$f":"IFERROR(VLOOKUP(C5,'PRIPREMA (STATUS)'!$A$5:$F$128,2)&\" \"&VLOOKUP(C5,'PRIPREMA (STATUS)'!$A$5:$F$128,3),\"\")","v":""},null,null,null,null,null,null,null,null,null,null,{"$f":"SUM(G5,I5,K5,M5)","v":0},{"$f":"SUM(H5,J5,L5,N5)","v":0},{"$f":"O5/E10","v":{"$error":"#DIV/0!"}}]
[null,null,null,{"$f":"IFERROR(VLOOKUP(C6,'PRIPREMA (STATUS)'!$A$5:$F$128,2)&\" \"&VLOOKUP(C6,'PRIPREMA (STATUS)'!$A$5:$F$128,3),\"\")","v":""},null,null,null,null,null,null,null,null,null,null,{"$f":"SUM(E6,I6,K6,M6)","v":0},{"$f":"SUM(F6,J6,L6,N6)","v":0},{"$f":"O6/G10","v":{"$error":"#DIV/0!"}}]
[null,null,null,{"$f":"IFERROR(VLOOKUP(C7,'PRIPREMA (STATUS)'!$A$5:$F$128,2)&\" \"&VLOOKUP(C7,'PRIPREMA (STATUS)'!$A$5:$F$128,3),\"\")","v":""},null,null,null,null,null,null,null,null,null,null,{"$f":"SUM(E7,G7,K7,M7)","v":0},{"$f":"SUM(F7,H7,L7,N7)","v":0},{"$f":"O7/I10","v":{"$error":"#DIV/0!"}}]
[null,null,null,{"$f":"IFERROR(VLOOKUP(C8,'PRIPREMA (STATUS)'!$A$5:$F$128,2)&\" \"&VLOOKUP(C8,'PRIPREMA (STATUS)'!$A$5:$F$128,3),\"\")","v":""},null,null,null,null,null,null,null,null,null,null,{"$f":"SUM(E8,G8,I8,M8)","v":0},{"$f":"SUM(F8,H8,J8,N8)","v":0},{"$f":"O8/K10","v":{"$error":"#DIV/0!"}}]
[null,null,null,{"$f":"IFERROR(VLOOKUP(C9,'PRIPREMA (STATUS)'!$A$5:$F$128,2)&\" \"&VLOOKUP(C9,'PRIPREMA (STATUS)'!$A$5:$F$128,3),\"\")","v":""},null,null,null,null,null,null,null,null,null,null,{"$f":"SUM(E9,G9,I9,K9)","v":0},{"$f":"SUM(F9,H9,J9,L9)","v":0},{"$f":"O9/M10","v":{"$error":"#DIV/0!"}}]
[null,null,null,null,{"$f":"COUNTIF(E5:E9,\"<>\")","v":0},null,{"$f":"COUNTIF(G5:G9,\"<>\")","v":0},null,{"$f":"COUNTIF(I5:I9,\"<>\")","v":0},null,{"$f":"COUNTIF(K5:K9,\"<>\")","v":0},null,{"$f":"COUNTIF(M5:M9,\"<>\")","v":0}]
[]
[]
[]
[]
[]
[]
[]
[]
[]
[]
[]
[]
[]
[]
[]
[]
[]
[]
[]
[]
[]
[]
[]
[]
[]
[]
[]
[]
[]
[]
[]
[]
[]
[]
[]
[]
[]
[]
[]
[]
[]
[]
[]
[]
[]
[]
[]
[]
[]
[]
[]
[]
[]
[]
[]
[]
[]
[]
[]
[]
[]
[]
[]
[]
[]
[]
[]
[]
[]
[]
[]
[]
[]
[]
[]
[]
[]
[]
[]
[]
[]
[]
[]
[]
[]
[]
[]
[]
[]
["x","x","x","x","x","x","x","x","x","x","x","x",null,null,"x","x","x","x","x","x","x","x","x","x","x","x","x","x","x","x","x","x","x","x","x","x","x","x","x","x","x","x"]
[null,"br. Statusa","(+)","(-)","%"]
[null,{"$f":"C5","v":0},{"$f":"O5","v":0},{"$f":"P5","v":0},{"$f":"Q5","v":{"$error":"#DIV/0!"}}]
[null,{"$f":"C6","v":0},{"$f":"O6","v":0},{"$f":"P6","v":0},{"$f":"Q6","v":{"$error":"#DIV/0!"}}]
[null,{"$f":"C7","v":0},{"$f":"O7","v":0},{"$f":"P7","v":0},{"$f":"Q7","v":{"$error":"#DIV/0!"}}]
[null,{"$f":"C8","v":0},{"$f":"O8","v":0},{"$f":"P8","v":0},{"$f":"Q8","v":{"$error":"#DIV/0!"}}]
[null,{"$f":"C9","v":0},{"$f":"O9","v":0},{"$f":"P9","v":0},{"$f":"Q9","v":{"$error":"#DIV/0!"}}]
[null,{"$f":"C10","v":0},{"$f":"O10","v":0},{"$f":"P10","v":0},{"$f":"Q10","v":0}]

{"sheet":"GRUPA 6","index":33,"n_rows":108,"n_cols":44,"rows_kept":108,"cut":false,"hidden":true,"merged":[[3,12,3,13],[3,16,3,17],[3,14,3,15],[1,2,2,3],[1,4,2,5],[1,6,2,7],[1,8,2,9],[1,10,2,11],[3,4,3,5],[3,6,3,7],[3,8,3,9],[3,10,3,11]]}
[]
[null,null,"REZULTATI MORAJU DA SE UPISUJU U SVA POLJA"]
[]
[null,null,"Br. sa\nstatusa","GRUPA 5 TAKMIČARA",{"$f":"D5","v":""},null,{"$f":"D6","v":""},null,{"$f":"D7","v":""},null,{"$f":"D8","v":""},null,{"$f":"D9","v":""},null,{"$f":"D10","v":""},null,"UKUPNO\n+                    -",null,"%"]
[null,null,null,{"$f":"IFERROR(VLOOKUP(C5,'PRIPREMA (STATUS)'!$A$5:$F$128,2)&\" \"&VLOOKUP(C5,'PRIPREMA (STATUS)'!$A$5:$F$128,3),\"\")","v":""},null,null,null,null,null,null,null,null,null,null,null,null,{"$f":"SUM(G5,I5,K5,M5,O5)","v":0},{"$f":"SUM(H5,J5,L5,N5,P5)","v":0},{"$f":"Q5/E11","v":{"$error":"#DIV/0!"}}]
[null,null,null,{"$f":"IFERROR(VLOOKUP(C6,'PRIPREMA (STATUS)'!$A$5:$F$128,2)&\" \"&VLOOKUP(C6,'PRIPREMA (STATUS)'!$A$5:$F$128,3),\"\")","v":""},null,null,null,null,null,null,null,null,null,null,null,null,{"$f":"SUM(E6,I6,K6,M6,O6)","v":0},{"$f":"SUM(F6,J6,L6,N6,P6)","v":0},{"$f":"Q6/G11","v":{"$error":"#DIV/0!"}}]
[null,null,null,{"$f":"IFERROR(VLOOKUP(C7,'PRIPREMA (STATUS)'!$A$5:$F$128,2)&\" \"&VLOOKUP(C7,'PRIPREMA (STATUS)'!$A$5:$F$128,3),\"\")","v":""},null,null,null,null,null,null,null,null,null,null,null,null,{"$f":"SUM(E7,G7,K7,M7,O7)","v":0},{"$f":"SUM(F7,H7,L7,N7,P7)","v":0},{"$f":"Q7/I11","v":{"$error":"#DIV/0!"}}]
[null,null,null,{"$f":"IFERROR(VLOOKUP(C8,'PRIPREMA (STATUS)'!$A$5:$F$128,2)&\" \"&VLOOKUP(C8,'PRIPREMA (STATUS)'!$A$5:$F$128,3),\"\")","v":""},null,null,null,null,null,null,null,null,null,null,null,null,{"$f":"SUM(E8,G8,I8,M8,O8)","v":0},{"$f":"SUM(F8,H8,J8,N8,P8)","v":0},{"$f":"Q8/K11","v":{"$error":"#DIV/0!"}}]
[null,null,null,{"$f":"IFERROR(VLOOKUP(C9,'PRIPREMA (STATUS)'!$A$5:$F$128,2)&\" \"&VLOOKUP(C9,'PRIPREMA (STATUS)'!$A$5:$F$128,3),\"\")","v":""},null,null,null,null,null,null,null,null,null,null,null,null,{"$f":"SUM(E9,G9,I9,K9,O9)","v":0},{"$f":"SUM(F9,H9,J9,L9,P9)","v":0},{"$f":"Q9/M11","v":{"$error":"#DIV/0!"}}]
[null,null,null,{"$f":"IFERROR(VLOOKUP(C10,'PRIPREMA (STATUS)'!$A$5:$F$128,2)&\" \"&VLOOKUP(C10,'PRIPREMA (STATUS)'!$A$5:$F$128,3),\"\")","v":""},null,null,null,null,null,null,null,null,null,null,null,null,{"$f":"SUM(E10,G10,I10,K10,M10)","v":0},{"$f":"SUM(F10,H10,J10,L10,N10)","v":0},{"$f":"Q10/O11","v":{"$error":"#DIV/0!"}}]
[null,null,null,null,{"$f":"COUNTIF(E5:E10,\"<>\")","v":0},null,{"$f":"COUNTIF(G5:G10,\"<>\")","v":0},null,{"$f":"COUNTIF(I5:I10,\"<>\")","v":0},null,{"$f":"COUNTIF(K5:K10,\"<>\")","v":0},null,{"$f":"COUNTIF(M5:M10,\"<>\")","v":0},null,{"$f":"COUNTIF(O5:O10,\"<>\")","v":0}]
[]
[]
[]
[]
[]
[]
[]
[]
[]
[]
[]
[]
[]
[]
[]
[]
[]
[]
[]
[]
[]
[]
[]
[]
[]
[]
[]
[]
[]
[]
[]
[]
[]
[]
[]
[]
[]
[]
[]
[]
[]
[]
[]
[]
[]
[]
[]
[]
[]
[]
[]
[]
[]
[]
[]
[]
[]
[]
[]
[]
[]
[]
[]
[]
[]
[]
[]
[]
[]
[]
[]
[]
[]
[]
[]
[]
[]
[]
[]
[]
[]
[]
[]
[]
[]
[]
[]
[]
[]
["x","x","x","x","x","x","x","x","x","x","x","x",null,null,null,null,"x","x","x","x","x","x","x","x","x","x","x","x","x","x","x","x","x","x","x","x","x","x","x","x","x","x","x","x"]
[null,"br. Statusa","(+)","(-)","%"]
[null,{"$f":"C5","v":0},{"$f":"Q5","v":0},{"$f":"R5","v":0},{"$f":"S5","v":{"$error":"#DIV/0!"}}]
[null,{"$f":"C6","v":0},{"$f":"Q6","v":0},{"$f":"R6","v":0},{"$f":"S6","v":{"$error":"#DIV/0!"}}]
[null,{"$f":"C7","v":0},{"$f":"Q7","v":0},{"$f":"R7","v":0},{"$f":"S7","v":{"$error":"#DIV/0!"}}]
[null,{"$f":"C8","v":0},{"$f":"Q8","v":0},{"$f":"R8","v":0},{"$f":"S8","v":{"$error":"#DIV/0!"}}]
[null,{"$f":"C9","v":0},{"$f":"Q9","v":0},{"$f":"R9","v":0},{"$f":"S9","v":{"$error":"#DIV/0!"}}]
[null,{"$f":"C10","v":0},{"$f":"Q10","v":0},{"$f":"R10","v":0},{"$f":"S10","v":{"$error":"#DIV/0!"}}]

{"sheet":"GRUPA 6 (2)","index":34,"n_rows":108,"n_cols":44,"rows_kept":108,"cut":false,"hidden":true,"merged":[[3,12,3,13],[3,14,3,15],[3,16,3,17],[1,2,2,3],[1,4,2,5],[1,6,2,7],[1,8,2,9],[1,10,2,11],[3,4,3,5],[3,6,3,7],[3,8,3,9],[3,10,3,11]]}
[]
[null,null,"REZULTATI MORAJU DA SE UPISUJU U SVA POLJA"]
[]
[null,null,"Br. sa\nstatusa","GRUPA 5 TAKMIČARA",{"$f":"D5","v":""},null,{"$f":"D6","v":""},null,{"$f":"D7","v":""},null,{"$f":"D8","v":""},null,{"$f":"D9","v":""},null,{"$f":"D10","v":""},null,"UKUPNO\n+                    -",null,"%"]
[null,null,null,{"$f":"IFERROR(VLOOKUP(C5,'PRIPREMA (STATUS)'!$A$5:$F$128,2)&\" \"&VLOOKUP(C5,'PRIPREMA (STATUS)'!$A$5:$F$128,3),\"\")","v":""},null,null,null,null,null,null,null,null,null,null,null,null,{"$f":"SUM(G5,I5,K5,M5,O5)","v":0},{"$f":"SUM(H5,J5,L5,N5,P5)","v":0},{"$f":"Q5/E11","v":{"$error":"#DIV/0!"}}]
[null,null,null,{"$f":"IFERROR(VLOOKUP(C6,'PRIPREMA (STATUS)'!$A$5:$F$128,2)&\" \"&VLOOKUP(C6,'PRIPREMA (STATUS)'!$A$5:$F$128,3),\"\")","v":""},null,null,null,null,null,null,null,null,null,null,null,null,{"$f":"SUM(E6,I6,K6,M6,O6)","v":0},{"$f":"SUM(F6,J6,L6,N6,P6)","v":0},{"$f":"Q6/G11","v":{"$error":"#DIV/0!"}}]
[null,null,null,{"$f":"IFERROR(VLOOKUP(C7,'PRIPREMA (STATUS)'!$A$5:$F$128,2)&\" \"&VLOOKUP(C7,'PRIPREMA (STATUS)'!$A$5:$F$128,3),\"\")","v":""},null,null,null,null,null,null,null,null,null,null,null,null,{"$f":"SUM(E7,G7,K7,M7,O7)","v":0},{"$f":"SUM(F7,H7,L7,N7,P7)","v":0},{"$f":"Q7/I11","v":{"$error":"#DIV/0!"}}]
[null,null,null,{"$f":"IFERROR(VLOOKUP(C8,'PRIPREMA (STATUS)'!$A$5:$F$128,2)&\" \"&VLOOKUP(C8,'PRIPREMA (STATUS)'!$A$5:$F$128,3),\"\")","v":""},null,null,null,null,null,null,null,null,null,null,null,null,{"$f":"SUM(E8,G8,I8,M8,O8)","v":0},{"$f":"SUM(F8,H8,J8,N8,P8)","v":0},{"$f":"Q8/K11","v":{"$error":"#DIV/0!"}}]
[null,null,null,{"$f":"IFERROR(VLOOKUP(C9,'PRIPREMA (STATUS)'!$A$5:$F$128,2)&\" \"&VLOOKUP(C9,'PRIPREMA (STATUS)'!$A$5:$F$128,3),\"\")","v":""},null,null,null,null,null,null,null,null,null,null,null,null,{"$f":"SUM(E9,G9,I9,K9,O9)","v":0},{"$f":"SUM(F9,H9,J9,L9,P9)","v":0},{"$f":"Q9/M11","v":{"$error":"#DIV/0!"}}]
[null,null,null,{"$f":"IFERROR(VLOOKUP(C10,'PRIPREMA (STATUS)'!$A$5:$F$128,2)&\" \"&VLOOKUP(C10,'PRIPREMA (STATUS)'!$A$5:$F$128,3),\"\")","v":""},null,null,null,null,null,null,null,null,null,null,null,null,{"$f":"SUM(E10,G10,I10,K10,M10)","v":0},{"$f":"SUM(F10,H10,J10,L10,N10)","v":0},{"$f":"Q10/O11","v":{"$error":"#DIV/0!"}}]
[null,null,null,null,{"$f":"COUNTIF(E5:E10,\"<>\")","v":0},null,{"$f":"COUNTIF(G5:G10,\"<>\")","v":0},null,{"$f":"COUNTIF(I5:I10,\"<>\")","v":0},null,{"$f":"COUNTIF(K5:K10,\"<>\")","v":0},null,{"$f":"COUNTIF(M5:M10,\"<>\")","v":0},null,{"$f":"COUNTIF(O5:O10,\"<>\")","v":0}]
[]
[]
[]
[]
[]
[]
[]
[]
[]
[]
[]
[]
[]
[]
[]
[]
[]
[]
[]
[]
[]
[]
[]
[]
[]
[]
[]
[]
[]
[]
[]
[]
[]
[]
[]
[]
[]
[]
[]
[]
[]
[]
[]
[]
[]
[]
[]
[]
[]
[]
[]
[]
[]
[]
[]
[]
[]
[]
[]
[]
[]
[]
[]
[]
[]
[]
[]
[]
[]
[]
[]
[]
[]
[]
[]
[]
[]
[]
[]
[]
[]
[]
[]
[]
[]
[]
[]
[]
[]
["x","x","x","x","x","x","x","x","x","x","x","x",null,null,null,null,"x","x","x","x","x","x","x","x","x","x","x","x","x","x","x","x","x","x","x","x","x","x","x","x","x","x","x","x"]
[null,"br. Statusa","(+)","(-)","%"]
[null,{"$f":"C5","v":0},{"$f":"Q5","v":0},{"$f":"R5","v":0},{"$f":"S5","v":{"$error":"#DIV/0!"}}]
[null,{"$f":"C6","v":0},{"$f":"Q6","v":0},{"$f":"R6","v":0},{"$f":"S6","v":{"$error":"#DIV/0!"}}]
[null,{"$f":"C7","v":0},{"$f":"Q7","v":0},{"$f":"R7","v":0},{"$f":"S7","v":{"$error":"#DIV/0!"}}]
[null,{"$f":"C8","v":0},{"$f":"Q8","v":0},{"$f":"R8","v":0},{"$f":"S8","v":{"$error":"#DIV/0!"}}]
[null,{"$f":"C9","v":0},{"$f":"Q9","v":0},{"$f":"R9","v":0},{"$f":"S9","v":{"$error":"#DIV/0!"}}]
[null,{"$f":"C10","v":0},{"$f":"Q10","v":0},{"$f":"R10","v":0},{"$f":"S10","v":{"$error":"#DIV/0!"}}]

{"sheet":"GRUPA 6 (3)","index":35,"n_rows":108,"n_cols":44,"rows_kept":108,"cut":false,"hidden":true,"merged":[[3,12,3,13],[3,14,3,15],[3,16,3,17],[1,2,2,3],[1,4,2,5],[1,6,2,7],[1,8,2,9],[1,10,2,11],[3,4,3,5],[3,6,3,7],[3,8,3,9],[3,10,3,11]]}
[]
[null,null,"REZULTATI MORAJU DA SE UPISUJU U SVA POLJA"]
[]
[null,null,"Br. sa\nstatusa","GRUPA 5 TAKMIČARA",{"$f":"D5","v":""},null,{"$f":"D6","v":""},null,{"$f":"D7","v":""},null,{"$f":"D8","v":""},null,{"$f":"D9","v":""},null,{"$f":"D10","v":""},null,"UKUPNO\n+                    -",null,"%"]
[null,null,null,{"$f":"IFERROR(VLOOKUP(C5,'PRIPREMA (STATUS)'!$A$5:$F$128,2)&\" \"&VLOOKUP(C5,'PRIPREMA (STATUS)'!$A$5:$F$128,3),\"\")","v":""},null,null,null,null,null,null,null,null,null,null,null,null,{"$f":"SUM(G5,I5,K5,M5,O5)","v":0},{"$f":"SUM(H5,J5,L5,N5,P5)","v":0},{"$f":"Q5/E11","v":{"$error":"#DIV/0!"}}]
[null,null,null,{"$f":"IFERROR(VLOOKUP(C6,'PRIPREMA (STATUS)'!$A$5:$F$128,2)&\" \"&VLOOKUP(C6,'PRIPREMA (STATUS)'!$A$5:$F$128,3),\"\")","v":""},null,null,null,null,null,null,null,null,null,null,null,null,{"$f":"SUM(E6,I6,K6,M6,O6)","v":0},{"$f":"SUM(F6,J6,L6,N6,P6)","v":0},{"$f":"Q6/G11","v":{"$error":"#DIV/0!"}}]
[null,null,null,{"$f":"IFERROR(VLOOKUP(C7,'PRIPREMA (STATUS)'!$A$5:$F$128,2)&\" \"&VLOOKUP(C7,'PRIPREMA (STATUS)'!$A$5:$F$128,3),\"\")","v":""},null,null,null,null,null,null,null,null,null,null,null,null,{"$f":"SUM(E7,G7,K7,M7,O7)","v":0},{"$f":"SUM(F7,H7,L7,N7,P7)","v":0},{"$f":"Q7/I11","v":{"$error":"#DIV/0!"}}]
[null,null,null,{"$f":"IFERROR(VLOOKUP(C8,'PRIPREMA (STATUS)'!$A$5:$F$128,2)&\" \"&VLOOKUP(C8,'PRIPREMA (STATUS)'!$A$5:$F$128,3),\"\")","v":""},null,null,null,null,null,null,null,null,null,null,null,null,{"$f":"SUM(E8,G8,I8,M8,O8)","v":0},{"$f":"SUM(F8,H8,J8,N8,P8)","v":0},{"$f":"Q8/K11","v":{"$error":"#DIV/0!"}}]
[null,null,null,{"$f":"IFERROR(VLOOKUP(C9,'PRIPREMA (STATUS)'!$A$5:$F$128,2)&\" \"&VLOOKUP(C9,'PRIPREMA (STATUS)'!$A$5:$F$128,3),\"\")","v":""},null,null,null,null,null,null,null,null,null,null,null,null,{"$f":"SUM(E9,G9,I9,K9,O9)","v":0},{"$f":"SUM(F9,H9,J9,L9,P9)","v":0},{"$f":"Q9/M11","v":{"$error":"#DIV/0!"}}]
[null,null,null,{"$f":"IFERROR(VLOOKUP(C10,'PRIPREMA (STATUS)'!$A$5:$F$128,2)&\" \"&VLOOKUP(C10,'PRIPREMA (STATUS)'!$A$5:$F$128,3),\"\")","v":""},null,null,null,null,null,null,null,null,null,null,null,null,{"$f":"SUM(E10,G10,I10,K10,M10)","v":0},{"$f":"SUM(F10,H10,J10,L10,N10)","v":0},{"$f":"Q10/O11","v":{"$error":"#DIV/0!"}}]
[null,null,null,null,{"$f":"COUNTIF(E5:E10,\"<>\")","v":0},null,{"$f":"COUNTIF(G5:G10,\"<>\")","v":0},null,{"$f":"COUNTIF(I5:I10,\"<>\")","v":0},null,{"$f":"COUNTIF(K5:K10,\"<>\")","v":0},null,{"$f":"COUNTIF(M5:M10,\"<>\")","v":0},null,{"$f":"COUNTIF(O5:O10,\"<>\")","v":0}]
[]
[]
[]
[]
[]
[]
[]
[]
[]
[]
[]
[]
[]
[]
[]
[]
[]
[]
[]
[]
[]
[]
[]
[]
[]
[]
[]
[]
[]
[]
[]
[]
[]
[]
[]
[]
[]
[]
[]
[]
[]
[]
[]
[]
[]
[]
[]
[]
[]
[]
[]
[]
[]
[]
[]
[]
[]
[]
[]
[]
[]
[]
[]
[]
[]
[]
[]
[]
[]
[]
[]
[]
[]
[]
[]
[]
[]
[]
[]
[]
[]
[]
[]
[]
[]
[]
[]
[]
[]
["x","x","x","x","x","x","x","x","x","x","x","x",null,null,null,null,"x","x","x","x","x","x","x","x","x","x","x","x","x","x","x","x","x","x","x","x","x","x","x","x","x","x","x","x"]
[null,"br. Statusa","(+)","(-)","%"]
[null,{"$f":"C5","v":0},{"$f":"Q5","v":0},{"$f":"R5","v":0},{"$f":"S5","v":{"$error":"#DIV/0!"}}]
[null,{"$f":"C6","v":0},{"$f":"Q6","v":0},{"$f":"R6","v":0},{"$f":"S6","v":{"$error":"#DIV/0!"}}]
[null,{"$f":"C7","v":0},{"$f":"Q7","v":0},{"$f":"R7","v":0},{"$f":"S7","v":{"$error":"#DIV/0!"}}]
[null,{"$f":"C8","v":0},{"$f":"Q8","v":0},{"$f":"R8","v":0},{"$f":"S8","v":{"$error":"#DIV/0!"}}]
[null,{"$f":"C9","v":0},{"$f":"Q9","v":0},{"$f":"R9","v":0},{"$f":"S9","v":{"$error":"#DIV/0!"}}]
[null,{"$f":"C10","v":0},{"$f":"Q10","v":0},{"$f":"R10","v":0},{"$f":"S10","v":{"$error":"#DIV/0!"}}]

{"sheet":"GRUPA 6 (4)","index":36,"n_rows":108,"n_cols":44,"rows_kept":108,"cut":false,"hidden":true,"merged":[[3,12,3,13],[3,14,3,15],[3,16,3,17],[1,2,2,3],[1,4,2,5],[1,6,2,7],[1,8,2,9],[1,10,2,11],[3,4,3,5],[3,6,3,7],[3,8,3,9],[3,10,3,11]]}
[]
[null,null,"REZULTATI MORAJU DA SE UPISUJU U SVA POLJA"]
[]
[null,null,"Br. sa\nstatusa","GRUPA 5 TAKMIČARA",{"$f":"D5","v":""},null,{"$f":"D6","v":""},null,{"$f":"D7","v":""},null,{"$f":"D8","v":""},null,{"$f":"D9","v":""},null,{"$f":"D10","v":""},null,"UKUPNO\n+                    -",null,"%"]
[null,null,null,{"$f":"IFERROR(VLOOKUP(C5,'PRIPREMA (STATUS)'!$A$5:$F$128,2)&\" \"&VLOOKUP(C5,'PRIPREMA (STATUS)'!$A$5:$F$128,3),\"\")","v":""},null,null,null,null,null,null,null,null,null,null,null,null,{"$f":"SUM(G5,I5,K5,M5,O5)","v":0},{"$f":"SUM(H5,J5,L5,N5,P5)","v":0},{"$f":"Q5/E11","v":{"$error":"#DIV/0!"}}]
[null,null,null,{"$f":"IFERROR(VLOOKUP(C6,'PRIPREMA (STATUS)'!$A$5:$F$128,2)&\" \"&VLOOKUP(C6,'PRIPREMA (STATUS)'!$A$5:$F$128,3),\"\")","v":""},null,null,null,null,null,null,null,null,null,null,null,null,{"$f":"SUM(E6,I6,K6,M6,O6)","v":0},{"$f":"SUM(F6,J6,L6,N6,P6)","v":0},{"$f":"Q6/G11","v":{"$error":"#DIV/0!"}}]
[null,null,null,{"$f":"IFERROR(VLOOKUP(C7,'PRIPREMA (STATUS)'!$A$5:$F$128,2)&\" \"&VLOOKUP(C7,'PRIPREMA (STATUS)'!$A$5:$F$128,3),\"\")","v":""},null,null,null,null,null,null,null,null,null,null,null,null,{"$f":"SUM(E7,G7,K7,M7,O7)","v":0},{"$f":"SUM(F7,H7,L7,N7,P7)","v":0},{"$f":"Q7/I11","v":{"$error":"#DIV/0!"}}]
[null,null,null,{"$f":"IFERROR(VLOOKUP(C8,'PRIPREMA (STATUS)'!$A$5:$F$128,2)&\" \"&VLOOKUP(C8,'PRIPREMA (STATUS)'!$A$5:$F$128,3),\"\")","v":""},null,null,null,null,null,null,null,null,null,null,null,null,{"$f":"SUM(E8,G8,I8,M8,O8)","v":0},{"$f":"SUM(F8,H8,J8,N8,P8)","v":0},{"$f":"Q8/K11","v":{"$error":"#DIV/0!"}}]
[null,null,null,{"$f":"IFERROR(VLOOKUP(C9,'PRIPREMA (STATUS)'!$A$5:$F$128,2)&\" \"&VLOOKUP(C9,'PRIPREMA (STATUS)'!$A$5:$F$128,3),\"\")","v":""},null,null,null,null,null,null,null,null,null,null,null,null,{"$f":"SUM(E9,G9,I9,K9,O9)","v":0},{"$f":"SUM(F9,H9,J9,L9,P9)","v":0},{"$f":"Q9/M11","v":{"$error":"#DIV/0!"}}]
[null,null,null,{"$f":"IFERROR(VLOOKUP(C10,'PRIPREMA (STATUS)'!$A$5:$F$128,2)&\" \"&VLOOKUP(C10,'PRIPREMA (STATUS)'!$A$5:$F$128,3),\"\")","v":""},null,null,null,null,null,null,null,null,null,null,null,null,{"$f":"SUM(E10,G10,I10,K10,M10)","v":0},{"$f":"SUM(F10,H10,J10,L10,N10)","v":0},{"$f":"Q10/O11","v":{"$error":"#DIV/0!"}}]
[null,null,null,null,{"$f":"COUNTIF(E5:E10,\"<>\")","v":0},null,{"$f":"COUNTIF(G5:G10,\"<>\")","v":0},null,{"$f":"COUNTIF(I5:I10,\"<>\")","v":0},null,{"$f":"COUNTIF(K5:K10,\"<>\")","v":0},null,{"$f":"COUNTIF(M5:M10,\"<>\")","v":0},null,{"$f":"COUNTIF(O5:O10,\"<>\")","v":0}]
[]
[]
[]
[]
[]
[]
[]
[]
[]
[]
[]
[]
[]
[]
[]
[]
[]
[]
[]
[]
[]
[]
[]
[]
[]
[]
[]
[]
[]
[]
[]
[]
[]
[]
[]
[]
[]
[]
[]
[]
[]
[]
[]
[]
[]
[]
[]
[]
[]
[]
[]
[]
[]
[]
[]
[]
[]
[]
[]
[]
[]
[]
[]
[]
[]
[]
[]
[]
[]
[]
[]
[]
[]
[]
[]
[]
[]
[]
[]
[]
[]
[]
[]
[]
[]
[]
[]
[]
[]
["x","x","x","x","x","x","x","x","x","x","x","x",null,null,null,null,"x","x","x","x","x","x","x","x","x","x","x","x","x","x","x","x","x","x","x","x","x","x","x","x","x","x","x","x"]
[null,"br. Statusa","(+)","(-)","%"]
[null,{"$f":"C5","v":0},{"$f":"Q5","v":0},{"$f":"R5","v":0},{"$f":"S5","v":{"$error":"#DIV/0!"}}]
[null,{"$f":"C6","v":0},{"$f":"Q6","v":0},{"$f":"R6","v":0},{"$f":"S6","v":{"$error":"#DIV/0!"}}]
[null,{"$f":"C7","v":0},{"$f":"Q7","v":0},{"$f":"R7","v":0},{"$f":"S7","v":{"$error":"#DIV/0!"}}]
[null,{"$f":"C8","v":0},{"$f":"Q8","v":0},{"$f":"R8","v":0},{"$f":"S8","v":{"$error":"#DIV/0!"}}]
[null,{"$f":"C9","v":0},{"$f":"Q9","v":0},{"$f":"R9","v":0},{"$f":"S9","v":{"$error":"#DIV/0!"}}]
[null,{"$f":"C10","v":0},{"$f":"Q10","v":0},{"$f":"R10","v":0},{"$f":"S10","v":{"$error":"#DIV/0!"}}]

{"sheet":"GRUPA 6 (5)","index":37,"n_rows":108,"n_cols":44,"rows_kept":108,"cut":false,"hidden":true,"merged":[[3,12,3,13],[3,14,3,15],[3,16,3,17],[1,2,2,3],[1,4,2,5],[1,6,2,7],[1,8,2,9],[1,10,2,11],[3,4,3,5],[3,6,3,7],[3,8,3,9],[3,10,3,11]]}
[]
[null,null,"REZULTATI MORAJU DA SE UPISUJU U SVA POLJA"]
[]
[null,null,"Br. sa\nstatusa","GRUPA 5 TAKMIČARA",{"$f":"D5","v":""},null,{"$f":"D6","v":""},null,{"$f":"D7","v":""},null,{"$f":"D8","v":""},null,{"$f":"D9","v":""},null,{"$f":"D10","v":""},null,"UKUPNO\n+                    -",null,"%"]
[null,null,null,{"$f":"IFERROR(VLOOKUP(C5,'PRIPREMA (STATUS)'!$A$5:$F$128,2)&\" \"&VLOOKUP(C5,'PRIPREMA (STATUS)'!$A$5:$F$128,3),\"\")","v":""},null,null,null,null,null,null,null,null,null,null,null,null,{"$f":"SUM(G5,I5,K5,M5,O5)","v":0},{"$f":"SUM(H5,J5,L5,N5,P5)","v":0},{"$f":"Q5/E11","v":{"$error":"#DIV/0!"}}]
[null,null,null,{"$f":"IFERROR(VLOOKUP(C6,'PRIPREMA (STATUS)'!$A$5:$F$128,2)&\" \"&VLOOKUP(C6,'PRIPREMA (STATUS)'!$A$5:$F$128,3),\"\")","v":""},null,null,null,null,null,null,null,null,null,null,null,null,{"$f":"SUM(E6,I6,K6,M6,O6)","v":0},{"$f":"SUM(F6,J6,L6,N6,P6)","v":0},{"$f":"Q6/G11","v":{"$error":"#DIV/0!"}}]
[null,null,null,{"$f":"IFERROR(VLOOKUP(C7,'PRIPREMA (STATUS)'!$A$5:$F$128,2)&\" \"&VLOOKUP(C7,'PRIPREMA (STATUS)'!$A$5:$F$128,3),\"\")","v":""},null,null,null,null,null,null,null,null,null,null,null,null,{"$f":"SUM(E7,G7,K7,M7,O7)","v":0},{"$f":"SUM(F7,H7,L7,N7,P7)","v":0},{"$f":"Q7/I11","v":{"$error":"#DIV/0!"}}]
[null,null,null,{"$f":"IFERROR(VLOOKUP(C8,'PRIPREMA (STATUS)'!$A$5:$F$128,2)&\" \"&VLOOKUP(C8,'PRIPREMA (STATUS)'!$A$5:$F$128,3),\"\")","v":""},null,null,null,null,null,null,null,null,null,null,null,null,{"$f":"SUM(E8,G8,I8,M8,O8)","v":0},{"$f":"SUM(F8,H8,J8,N8,P8)","v":0},{"$f":"Q8/K11","v":{"$error":"#DIV/0!"}}]
[null,null,null,{"$f":"IFERROR(VLOOKUP(C9,'PRIPREMA (STATUS)'!$A$5:$F$128,2)&\" \"&VLOOKUP(C9,'PRIPREMA (STATUS)'!$A$5:$F$128,3),\"\")","v":""},null,null,null,null,null,null,null,null,null,null,null,null,{"$f":"SUM(E9,G9,I9,K9,O9)","v":0},{"$f":"SUM(F9,H9,J9,L9,P9)","v":0},{"$f":"Q9/M11","v":{"$error":"#DIV/0!"}}]
[null,null,null,{"$f":"IFERROR(VLOOKUP(C10,'PRIPREMA (STATUS)'!$A$5:$F$128,2)&\" \"&VLOOKUP(C10,'PRIPREMA (STATUS)'!$A$5:$F$128,3),\"\")","v":""},null,null,null,null,null,null,null,null,null,null,null,null,{"$f":"SUM(E10,G10,I10,K10,M10)","v":0},{"$f":"SUM(F10,H10,J10,L10,N10)","v":0},{"$f":"Q10/O11","v":{"$error":"#DIV/0!"}}]
[null,null,null,null,{"$f":"COUNTIF(E5:E10,\"<>\")","v":0},null,{"$f":"COUNTIF(G5:G10,\"<>\")","v":0},null,{"$f":"COUNTIF(I5:I10,\"<>\")","v":0},null,{"$f":"COUNTIF(K5:K10,\"<>\")","v":0},null,{"$f":"COUNTIF(M5:M10,\"<>\")","v":0},null,{"$f":"COUNTIF(O5:O10,\"<>\")","v":0}]
[]
[]
[]
[]
[]
[]
[]
[]
[]
[]
[]
[]
[]
[]
[]
[]
[]
[]
[]
[]
[]
[]
[]
[]
[]
[]
[]
[]
[]
[]
[]
[]
[]
[]
[]
[]
[]
[]
[]
[]
[]
[]
[]
[]
[]
[]
[]
[]
[]
[]
[]
[]
[]
[]
[]
[]
[]
[]
[]
[]
[]
[]
[]
[]
[]
[]
[]
[]
[]
[]
[]
[]
[]
[]
[]
[]
[]
[]
[]
[]
[]
[]
[]
[]
[]
[]
[]
[]
[]
["x","x","x","x","x","x","x","x","x","x","x","x",null,null,null,null,"x","x","x","x","x","x","x","x","x","x","x","x","x","x","x","x","x","x","x","x","x","x","x","x","x","x","x","x"]
[null,"br. Statusa","(+)","(-)","%"]
[null,{"$f":"C5","v":0},{"$f":"Q5","v":0},{"$f":"R5","v":0},{"$f":"S5","v":{"$error":"#DIV/0!"}}]
[null,{"$f":"C6","v":0},{"$f":"Q6","v":0},{"$f":"R6","v":0},{"$f":"S6","v":{"$error":"#DIV/0!"}}]
[null,{"$f":"C7","v":0},{"$f":"Q7","v":0},{"$f":"R7","v":0},{"$f":"S7","v":{"$error":"#DIV/0!"}}]
[null,{"$f":"C8","v":0},{"$f":"Q8","v":0},{"$f":"R8","v":0},{"$f":"S8","v":{"$error":"#DIV/0!"}}]
[null,{"$f":"C9","v":0},{"$f":"Q9","v":0},{"$f":"R9","v":0},{"$f":"S9","v":{"$error":"#DIV/0!"}}]
[null,{"$f":"C10","v":0},{"$f":"Q10","v":0},{"$f":"R10","v":0},{"$f":"S10","v":{"$error":"#DIV/0!"}}]